BEGIN:VCALENDAR
VERSION:2.0
PRODID:-//IP.Board Calendar 4.7.5//EN
METHOD:PUBLISH
CALSCALE:GREGORIAN
X-WR-CALNAME:Tokeativity Calendar
BEGIN:VTIMEZONE
TZID:Europe/London
TZURL:http://tzurl.org/zoneinfo/Europe/London
X-LIC-LOCATION:Europe/London
BEGIN:DAYLIGHT
TZOFFSETFROM:+0000
TZOFFSETTO:+0100
TZNAME:BST
DTSTART:20180325T020000Z
RRULE:FREQ=YEARLY;BYMONTH=3;BYDAY=-1SU
END:DAYLIGHT
BEGIN:STANDARD
TZOFFSETFROM:+0100
TZOFFSETTO:+0000
TZNAME:GMT
DTSTART:20181028T020000Z
RRULE:FREQ=YEARLY;BYMONTH=10;BYDAY=-1SU
END:STANDARD
END:VTIMEZONE
BEGIN:VEVENT
SUMMARY:Canna Mama's Panel & Social
DTSTAMP:20180216T232843Z
SEQUENCE:0
UID:97-1-2dead269adc02be51f2f7a68eeb17a98@tokeativity.com
ORGANIZER;CN="Lisa":connect@tokeativity.com
DESCRIPTION:\n\n\n\n\n\n\n\n\n\n\n\n\n\n\n\n\n\n\n\n\n\n\n\n\n\n\n\n\n\n
	\n\n	Join us for Tokeativity Canna Mamas Night!\n\n\n\n\n\n\n\n\n\n\n\n\n\
	n\n\n\n\n\n\n\n\n\n\n\n\n\n\n\n\n\n\n\n\n\n\n\n\n\n\n\n\n\n\n\n\n\n\n\n\n\
	n\n\n\n\n\n\n\n\n\n\n\n\n\n	Date: Fri March 2\, 2018\n\n\n\n\n\n\n\n\n\n\n
	\n\n\n\n\nTime: 7-10pm\n\n\n\n\n\n\n\n\n\n\n\n\n\n\n\nPlace: Portland\, OR
	\n\n\n\n\n\n\n\n\n\n\n\n\n\n\n\n\n\n\n\n\n\n\n\n\n\n\n\n\n\n\n\nNON MEMBER
	S:\n\n\n\n\n\n\n\n\n\n\n\n\n\n\n\n\n\n\n\n\n\n\n\n\n\n\n\n\n\n\n\nEarly bi
	rd before Feb 27: $25 or 25 Social Coins\n\n\n\n\n\n\n\n\n\n\n\n\n\n\n\n
	General Admission After Feb 27: $35 or 35 Social Coins\n\n\n\n\n\n\n\n\n\n
	\n\n\n\n\n\n\n\n\n\n\n\n\n\n\n\n\n\n\n\n\n\n\n\n\n\n\n\n\n\n\n\n\n\n\n\n\n
	\n\n\n\n\n\n\n\n\n\n\n\n\n\n\n\n\n	TOKEATIVITY CONNECT COMMUNITY &amp\; BU
	SINESS MEMBERS: $20 in advance\, $30 general admission\n\n\n\n\n\n\n\n\n\n
	\n\n\n\n\n\n\n\n\n\n\n\n\n\n\n\n\n\n\n\n\n\n\n\n\n\n\n\n\n\n\n\n\n\n\n\n\n
	\n\n\n\n\n\n\n\n\n\n\n\n\n\n\n\n\n	 \n\n\n\n\n\n\n\n\n\n\n\n\n\n\n\n\n\n\
	n\n\n\n\n\n\n\n\n\n\n\n\n\n\n\n\n\n\n\n\n\n\n\n\n\n\n\n\n\n\n\n\n\n\n\n\n\
	n\n\n\n\n\n\n\n\n	REGISTER NOW\n\n\n\n\n\n\n\n\n\n\n\n\n\n\n\n\n\n\n\n\n\n
	\n\n\n\n\n\n\n\n\n\n\n\n\n\n\n\n\n\n\n\n\n\n\n\n\n\n\n\n\n\n\n\n\n\n\n\n\n
	\n\n\n\n\n	\n\n\n\n\n\n\n\n\n\n\n\n\n\n\n\n\n\n\n\n\n\n\n\n\n\n\n\n\n\n\n\
	n	It comes as no surprise that the stigmaof cannabisis most prevalent when
	 it comes to mothers and children. The lack of research combined with deca
	des of misleading propaganda has put moms in the most difficult position o
	f deciding if cannabis is safe for themand their families. Mothers are unc
	ertain as to whether cannabis use is OK during pregnancy and breastfeeding
	 and we often feel shame or hide our use. We say NOMORE SHAME! Let's open
	 up conversations to break down the stigmas!\n\n\n\n\n\n\n\n\n\n\n\n\n\n\n
	\n\n\n\n\n\n\n\n\n\n\n\n\n\n\n\n\n\n\n\n\n\n\n\n\n\n\n\n\n\n\n\n\n	Tokeati
	vity Canna Mamas aims to open up deep conversation and connection between 
	women interested in cannabis and parenthood. It is time to get together to
	connect\, learn and create a community of Canna Mamas who can learn\, disc
	uss and support one another to set some standards for how cannabis can beu
	sed as a parent. All women are welcome who are interested in this convers
	ation - you do not need to be a mother to attend!\n\n\n\n\n\n\n\n\n\n\n\n\
	n\n\n\n\n\n\n\n\n\n\n\n\n\n\n\n\n\n\n\n\n\n\n\n\n\n\n\n\n\n\n\n\n\n\n\n	JO
	IN US for this really special evening where we will have a powerfuldiscuss
	ion with some Canna Mamas that we admire and then we will enjoy self cares
	tations where conversations can continue and friendships can be made.\n\n\
	n\n\n\n\n\n\n\n\n\n\n\n\n\n\n\n\n\n\n\n\n\n\n\n\n\n\n\n\n\nFEATURING:\n\n\
	n\n\n\n\n\n\n\n\n\n\n\n\n\n\n\n\n\n\n\n\n\n\n\n\n\n\n\n\n\n	Lindsey Webb t
	alking Breastfeeding\n\n\n\n\n\n\n\n\n\n\n\n\n\n\n\n\n\n\n\n\n\n\n\n\n\n\
	n\n\n\n\n\n	Casey Wiser talking Twins\n\n\n\n\n\n\n\n\n\n\n\n\n\n\n\n\n\n
	\n\n\n\n\n\n\n\n\n\n\n\n\n\nFlow of Evening:\n\n\n\n\n\n\n\n\n\n\n\n\n\n\n
	\n\n\n\n\n\n\n\n\n\n\n\n\n\n\n\n\n	7:00pm - Arrival &amp\; mingle\n\n\n\n\
	n\n\n\n\n\n\n\n\n\n\n\n\n\n\n\n\n\n\n\n\n\n\n\n\n\n\n\n7:30pm- Panel of Ca
	nna Mamas + Q&amp\;A\n\n\n\n\n\n\n\n\n\n\n\n\n\n\n\n\n\n\n\n\n\n\n\n\n\n\n
	\n\n\n\n\n	8:30pm - Stations &amp\; Creations\n\n\n\n\n\n\n\n\n\n\n\n\n\n\
	n\n\n\n\n\n\n\n\n\n\n\n\n\n\n\n\n\n	10pm - End\n\n\n\n\n\n\n\n\n\n\n\n\n\n
	\n\n\n\n\n\n\n\n\n\n\n\n\n\n\n\n\n\nEnjoy stations like:\n\n\n\n\n\n\n\n\n
	\n\n\n\n\n\n\n\n\n\n\n\n\n\n\n\n\n\n\n\n\n\n\n	Sparkle Hair by Aleta\n\n\n
	\n\n\n\n\n\n\n\n\n\n\n\n\n\n\n\n\n\n\n\n\n\n\n\n\n\n\n\n\n	CBD Cocktails\n
	\n\n\n\n\n\n\n\n\n\n\n\n\n\n\n\n\n\n\n\n\n\n\n\n\n\n\n\n\n\n\n	Snacks - e
	mail potluck@tokeativity.com to bring a dish in exchange for your ticket!\
	n\n\n\n\n\n\n\n\n\n\n\n\n\n\n\n\n\n\n\n\n\n\n\n\n\n\n\n\n\n\n\n	Crafts\n\n
	\n\n\n\n\n\n\n\n\n\n\n\n\n\n\n\n\n\n\n\n\n\n\n\n\n\n\n\n\n\n	and MOM TALK 
	ALL NIGHT LONG\n\n\n\n\n\n\n\n\n\n\n\n\n\n\n\n\n\n\n\n\n\n\n\n\n\n\n\n\n\n
	\n\nNo door sales will be available.  All womenmust be 21+ and registered
	online prior to coming.  Please make sure to register all members of your
	 party online ahead of time. We support safe transportation and consumptio
	n of all substances.\n\n\n\n\n\n\n\n\n\n\n\n\n\n\n\n\n\n\n\n\n\n\n\n\n\n\n
	\n\n\n\n\n
DTSTART:20180303T030000Z
DTEND:20180303T060000Z
END:VEVENT
END:VCALENDAR
