BEGIN:VCALENDAR
VERSION:2.0
PRODID:-//IP.Board Calendar 4.7.5//EN
METHOD:PUBLISH
CALSCALE:GREGORIAN
X-WR-CALNAME:Tokeativity Calendar
BEGIN:VTIMEZONE
TZID:Europe/London
TZURL:http://tzurl.org/zoneinfo/Europe/London
X-LIC-LOCATION:Europe/London
BEGIN:DAYLIGHT
TZOFFSETFROM:+0000
TZOFFSETTO:+0100
TZNAME:BST
DTSTART:20180325T020000Z
RRULE:FREQ=YEARLY;BYMONTH=3;BYDAY=-1SU
END:DAYLIGHT
BEGIN:STANDARD
TZOFFSETFROM:+0100
TZOFFSETTO:+0000
TZNAME:GMT
DTSTART:20181028T020000Z
RRULE:FREQ=YEARLY;BYMONTH=10;BYDAY=-1SU
END:STANDARD
END:VTIMEZONE
BEGIN:VEVENT
SUMMARY:Mary Janes: The Women of Weed Panel & Film
DTSTAMP:20180220T071145Z
SEQUENCE:0
UID:93-1-2dead269adc02be51f2f7a68eeb17a98@tokeativity.com
ORGANIZER;CN="Lisa":connect@tokeativity.com
DESCRIPTION:\n\n\n\n\n\n\n\n\n\n\n\n\n\n\n\n\n\n\n\n\n\n\n\n\n\n\n\n\n\n
	\n\n	\n\n\n\n\n\n\n\n\n\n\n\n\n\n\n\n\n\n\n\n\n\n\n\n\n\n\n\n\n\n\n\n\n\n\
	n\n\n\n\n\n\n\n\n\n\n\n\n\n	\n\n\n\n\n\n\n\n\n\n\n\n\n\n\n\nDate: Wed\, A
	pril 18\, 2018\n\n\n\n\n\n\n\n\n\n\n\n\n\n\n\n\n\n\n\n\n\n\n\n\n\n\n\n\n\n
	\n\nClinton StreetTheater\n\n\n\n\n\n\n\n\n\n\n\n\n\n\n\n\n\n\n\n\n\n\n\n\
	n\n\n\n\n\n\n\n	2522 SE Clinton St\n\n\n\n\n\n\n\n\n\n\n\n\n\n\n\n\n\n\n\n
	\n\n\n\n\n\n\n\n\n\n\n\n	Portland\, Oregon 97202\n\n\n\n\n\n\n\n\n\n\n\n\n
	\n\n\n\n\n\n\n\n\n\n\n\n\n\n\n\n\n\n\n\n\n\n\n\n\n\n\n\n\n\n\n\n\n\n\n\n\n
	\n\n\n\n\n\n\n\n\n\n\n\n\n\n	EARLYBIRD BEFORE 4/12: $25\n\n\n\n\n\n\n\n\n\
	n\n\n\n\n\n\nGEN ADMIN AFTER 4/12: $35\n\n\n\n\n\n\n\n\n\n\n\n\n\n\n\n\n\n
	\n\n\n\n\n\n\n\n\n\n\n\n\n\nVIP - EARLY BIRD BEFORE 4/12: $45\n\n\n\n\n\n\
	n\n\n\n\n\n\n\n\n\nVIP - GEN ADMIN AFTER 4/12: $55\n\n\n\n\n\n\n\n\n\n\n\n
	\n\n\n\n\n\n\n\n\n\n\n\n\n\n\n\n\n\n\n\n\n\n\n\n\n\n\n\n\n\n\n\n\n\n\n\n\n
	\n\n\n\n\n\n\n\n\n\n\n\n\n\n\n	PURCHASE TICKETS\n\n\n\n\n\n\n\n\n\n\n\n\n\
	n\n\n\n\n\n\n\n\n\n\n\n\n\n\n\n\n\n\n\n\n\n\n\n\n\n\n\n\n\n\n\n\n\n\n\n\n\
	n\n\n\n\n\n\n\n\n\n\n\n\n\n	 \n\n\n\n\n\n\n\n\n\n\n\n\n\n\n\n\n\n\n\n\n\n
	\n\n\n\n\n\n\n\n\n\n\n\n\n\n\n\n\n\n\n\n\n\n\n\n\n\n\n\n\n\n\n\n\n\n\n\n\n
	\n\n\n\n\n	5 – 6:30pm –VIP Ticket Holders Reception\n\n\n\n\n\n\n\n\n\
	n\n\n\n\n\n\n\n\n\n\n\n\n\n\n\n\n\n\n\n\n\n\n	Next doorat The Lucky Horses
	hoe Lounge for VIP ticketholders\n\n\n\n\n\n\n\n\n\n\n\n\n\n\n\n\n\n\n\n\n
	\n\n\n\n\n\n\n\n\n\n\n\n\n\n\n\n\n\n\n\n\n\n\n\n\n\n\n\n\n\n\n\n\n\n\n\n\n
	\n\n\n\n\n\n	6:00pm– Doors Open to Clinton Street Theater\n\n\n\n\n\n\n\
	n\n\n\n\n\n\n\n\n\n\n\n\n\n\n\n\n\n\n\n\n\n\n\n\n\n\n\n\n\n\n\n\n\n\n\n\n\
	n\n\n\n\n\n\n\n\n\n\n\n\n\n\n\n\n\n\n\n	6:30 – 7pm – Pre-Film Panel Di
	scussion\n\n\n\n\n\n\n\n\n\n\n\n\n\n\n\n\n\n\n\n\n\n\n\n\n\n\n\n\n\n\n\n\n
	\n\n\n\n\n\n\n\n\n\n\n\n\n\n\n\n\n\n\n\n\n\n\n\n\n\n\n\n\n\n\n	 \n\n\n\n\
	n\n\n\n\n\n\n\n\n\n\n\n\n\n\n\n\n\n\n\n\n\n\n\n\n\n\n\n\n\n\n\n\n\n\n\n\n\
	n\n\n\n\n\n\n\n\n\n\n\n\n\n\n\n\n\n\n\n\n\n\n	With SpecialGuestPanelists:\
	n\n\n\n\n\n\n\n\n\n\n\n\n\n\n\n\n\n\n\n\n\n\n\n\n\n\n\n\n\n\n\n\n\n\n\n\n\
	n\n\n\n\n\n\n\n\n\n\n\n\n\n\n\n\n\n\n\n\n\n\n\n\n\n\n	Windy Borman Direct
	or &amp\; Film Maker\, Mary Janes: The Women ofWeed\n\n\n\n\n\n\n\n\n\n\n\
	n\n\n\n\nMadeline Martinez Executive Director Oregon NORML\, World Famo
	us Cannabis Cafe\n\n\n\n\n\n\n\n\n\n\n\n\n\n\n\n@Sara Batterby Founder\, 
	TheBatterby Group\n\n\n\n\n\n\n\n\n\n\n\n\n\n\n\n@Leah Maurer Co-Owner\, 
	The Weed Blog\n\n\n\n\n\n\n\n\n\n\n\n\n\n\n\nTrista Okel Founder &amp\; C
	EO\, Empower BodyCare\n\n\n\n\n\n\n\n\n\n\n\n\n\n\n\n\n\n\n\n\n\n\n\n\n\n\
	n\n\n\n\n\n	 \n\n\n\n\n\n\n\n\n\n\n\n\n\n\n\n\n\n\n\n\n\n\n\n\n\n\n\n\n\n
	\n\n\n\n\n\n\n\n\n\n\n\n\n\n\n\n\n\n\n\n\n\n\n\n\n\n\n\n\n\n\n\n\n\n	7:15 
	– 8:45pm – Film Screening\n\n\n\n\n\n\n\n\n\n\n\n\n\n\n\n\n\n\n\n\n\n\
	n\n\n\n\n\n\n\n\n\n\n\n\n\n\n\n\n\n\n\n\n\n\n\n\n\n\n\n\n\n\n\n\n\n\n\n\n\
	n\n\n\n\n	9pm – After party &amp\; networking – Join us at Dotsacross
	 the street!\n\n\n\n\n\n\n\n\n\n\n\n\n\n\n\n\n\n\n\n\n\n\n\n\n\n\n\n\n\n\n
	\n\n\n\n\n\n\n\n\n\n\n\n\n\n\n\n\n\n\n\n\n\n\n\n\n\n\n\n\n\n\n\n\n	 \n\n\
	n\n\n\n\n\n\n\n\n\n\n\n\n\n\n\n\n\n\n\n\n\n\n\n\n\n\n\n\n\n\n\n\n\n\n\n\n\
	n\n\n\n\n\n\n\n\n\n\n\n\n\n\n\n\n\n\n\n\n\n\n\n\nABOUT THE FILM:\n\n\n\n\n
	\n\n\n\n\n\n\n\n\n\n\n\n\n\n\n\n\n\n\n\n\n\n\n\n\n\n\n\n\n\n\n\n\n\n\n\n\n
	\n\n\n\n\n\n\n\n\n\n\n\n\n\n\n\n\n\n\n\n\n\n	Women are changing the face o
	f today’s fastest growing industry – cannabis. Join filmmaker Windy Bo
	rman as she exploresthe movement to end marijuana prohibition\, her own re
	lationship to the plant\, and the stereotypes surrounding it. Through a se
	ries of empowering and educational interviews with a broad diversity of wo
	men leading theindustry today\, Windy’s own assumptions are transformed 
	as she discovers cannabis liberation intersects with the most urgent socia
	l justice issues of our time. She learns how this green revolution has big
	 effects on environmental sustainability\, ending the War on Drugs and the
	 Prison-IndustrialComplex\, and the destructive dominationof Big Pharma.\n
	\n\n\n\n\n\n\n\n\n\n\n\n\n\n\n\n\n\n\n\n\n\n\n\n\n\n\n\n\n\n\n\n\n\n\n\n\n
	\n\n\n\n\n\n\n\n\n\n\n\n\n\n\n\n\n\n\n\n\n\n\n\n\n\n	For questions or spon
	sorship opportunities\, email womenofweed@tokeativity.com\n\n\n\n\n\n\n\n
	\n\n\n\n\n\n\n\n\n\n\n\n\n\n\n\n\n\n\n\n\n\n\n\n\n\n\n\n\n\n\n\n\n\n\n\n\n
	\n\n\n\n\n\n\n\n\n\n\n\n\n\n\n\n\n\n\n	\n\n\n\n\n\n\n\n\n\n\n\n\n\n\n\n
DTSTART:20180419T000000Z
DTEND:20180419T043000Z
END:VEVENT
END:VCALENDAR
