BEGIN:VCALENDAR
VERSION:2.0
PRODID:-//IP.Board Calendar 4.7.5//EN
METHOD:PUBLISH
CALSCALE:GREGORIAN
X-WR-CALNAME:Tokeativity Calendar
BEGIN:VTIMEZONE
TZID:Europe/London
TZURL:http://tzurl.org/zoneinfo/Europe/London
X-LIC-LOCATION:Europe/London
BEGIN:DAYLIGHT
TZOFFSETFROM:+0000
TZOFFSETTO:+0100
TZNAME:BST
DTSTART:20180325T020000Z
RRULE:FREQ=YEARLY;BYMONTH=3;BYDAY=-1SU
END:DAYLIGHT
BEGIN:STANDARD
TZOFFSETFROM:+0100
TZOFFSETTO:+0000
TZNAME:GMT
DTSTART:20181028T020000Z
RRULE:FREQ=YEARLY;BYMONTH=10;BYDAY=-1SU
END:STANDARD
END:VTIMEZONE
BEGIN:VEVENT
SUMMARY:IN PERSON EVENT: Tokeativity Canna Mama's Panel & Social
DTSTAMP:20180208T093756Z
SEQUENCE:0
UID:85-1-2dead269adc02be51f2f7a68eeb17a98@tokeativity.com
ORGANIZER;CN="Lisa":connect@tokeativity.com
DESCRIPTION:\n\n\n\n\n\n\n\n\n\n\n\n\n\n\n\n	\n\n\n\n\n\n\n\n\n\n\n\n\n\
	n\n\n\n\n\n\n\n\n\n\n\n\n\n\n\n\n\n\n	About thisEvent: \n\n\n\n\n\n\n\n\n\
	n\n\n\n\n\n\n\n\n\n\n\n\n\n\n\n\n\n\n\n\n\n\nDate: Thurs\, Feb 8\n\n\n\n\
	n\n\n\nTime: 7-10pm\n\n\n\n\n\n\n\nPlace: A woman-friendly space– regi
	strants will be sentaddress\n\n\n\n\n\n\n\nEarly bird: $25 before Feb 5\n
	\n\n\n\n\n\n\nGeneral Admin: $35 after Feb 5\n\n\n\n\n\n\n\n\n\n\n\n\n\n\
	n\n\n\n\n\n\n\n\n\n\n\n\n\n\n\n\n\n	REGISTER NOW\n\n\n\n\n\n\n\n\n\n\n\n\n
	\n\n\n\n\n\n\n\n\n\n\n\n\n\n\n\n\n\n\n	ABOUT THIS EVENT:\n\n\n\n\n\n\n\n\n
	\n\n\n\n\n\n\n\n\n\n\n\n\n\n\n\n\n\n\n\n\n\n\n	\n\n\n\n\n\n\n\n\n\n\n\n\n\
	n\n\n	Join us for the inaugural Tokeativity Canna Mamas Panel + Social!\n\
	n\n\n\n\n\n\n\n\n\n\n\n\n\n\n\n\n\n\n\n\n\n\n\n\n\n\n\n\n\n\n	*We would li
	ke this to become a regular monthly event – please contact Samantha at s
	amantha@tokeativity.com if you are interested in being a panelist or shari
	ng a Mama-friendly company who would like to collaborate!\n\n\n\n\n\n\n\n\
	n\n\n\n\n\n\n\n\n\n\n\n\n\n\n\n\n\n\n\n\n\n\n\n	As a mother of a 9 year ol
	d\, Samantha Montanaro\, co-creator of Tokeativity\, is always looking to 
	connect with other mothers (or women who are interested in parenthood) who
	 are also interested in cannabis. She finds conversations oftenoccur in cl
	ose small circles and talking candidly in open about parentingin an adult-
	use state\, is still challenging. It is time to get together to connect\, 
	learn and create a community of Canna Mamas who can support one another.\n
	\n\n\n\n\n\n\n\n\n\n\n\n\n\n\n\n\n\n\n\n\n\n\n\n\n\n\n\n\n\n\n	JOIN US for
	 this really special eveningwhere we will have a powerful panel of some Ca
	nna Mamas that we admire\, and thenenjoy self care stations where conversa
	tions can continue and friendshipscan be made.\n\n\n\n\n\n\n\n\n\n\n\n\n\n
	\n\n\n\n\n\n\n\n\n\n\n\n\n\n\n\n\n\n	 \n\n\n\n\n\n\n\n\n\n\n\n\n\n\n\n\n\
	n\n\n\n\n\n\n\n\n\n\n\n\n\n\n	* * *  FEATURING * * *  \n\n\n\n\n\n\n\n
	\n\n\n\n\n\n\n\n\n\n\n\n\n\n\n\n\n\n\n\n\n\n\n\n	Byrdie McCoy – Fitness 
	Coach and CBD during Pregnancy advocate\n\n\n\n\n\n\n\n\n\n\n\n\n\n\n\n\n\
	n\n\n\n\n\n\n\n\n\n\n\n\n\n\n	Casey O’Keefe – Doula and Birth Advocate
	\n\n\n\n\n\n\n\n\n\n\n\n\n\n\n\n	Jenn Lauder – SPLIMM.com on Pot &amp\;
	 Parenting\n\n\n\n\n\n\n\n\n\n\n\n\n\n\n\n\n\n\n\n\n\n\n\n\n\n\n\n\n\n\n\n
		Angie Sims – TheWildWeed.com on medicating yourself and your child in n
	eed\n\n\n\n\n\n\n\n\n\n\n\n\n\n\n\n	Leah Maurer – TheWeedBlog.com and Mo
	ms for Measure 91\n\n\n\n\n\n\n\n\n\n\n\n\n\n\n\n\n\n\n\n\n\n\n\n\n\n\n\n\
	n\n\n\n	Celia Behar– TheLilMamas.com and cannabis during postpartum\n\n
	\n\n\n\n\n\n\n\n\n\n\n\n\n\n	Jill Trinchero – She Don’t Know Snacks an
	d Motherhood\n\n\n\n\n\n\n\n\n\n\n\n\n\n\n\n\n\n\n\n\n\n\n\n\n\n\n\n\n\n\n
	\n	 \n\n\n\n\n\n\n\n\n\n\n\n\n\n\n\n\n\n\n\n\n\n\n\n\n\n\n\n\n\n\n\n	Flow
	 of Evening:\n\n\n\n\n\n\n\n\n\n\n\n\n\n\n\n\n\n\n\n\n\n\n\n\n\n\n\n\n\n\n
	\n	7:00pm– Arrival &amp\; mingle\n\n\n\n\n\n\n\n\n\n\n\n\n\n\n\n\n\n\n\n
	\n\n\n\n\n\n\n\n\n\n\n\n	7:30pm – Panel of Canna Mamas+ Q&amp\;A\n\n\n\n
	\n\n\n\n\n\n\n\n\n\n\n\n\n\n\n\n\n\n\n\n\n\n\n\n\n\n\n\n	8:30pm – Statio
	ns &amp\; Creations\n\n\n\n\n\n\n\n\n\n\n\n\n\n\n\n\n\n\n\n\n\n\n\n\n\n\n\
	n\n\n\n\n	10pm – End\n\n\n\n\n\n\n\n\n\n\n\n\n\n\n\n\n\n\n\n\n\n\n\n\n\n
	\n\n\n\n\n\n	 \n\n\n\n\n\n\n\n\n\n\n\n\n\n\n\n\n\n\n\n\n\n\n\n\n\n\n\n\n\
	n\n\n	Enjoy:\n\n\n\n\n\n\n\n\n\n\n\n\n\n\n\n\n\n\n\n\n\n\n\n\n\n\n\n\n\n\n
	\n	CBD Cocktails\n\n\n\n\n\n\n\n\n\n\n\n\n\n\n\n\n\n\n\n\n\n\n\n\n\n\n\n\n
	\n\n\n	Snacks\n\n\n\n\n\n\n\n\n\n\n\n\n\n\n\n\n\n\n\n\n\n\n\n\n\n\n\n\n\n\
	n\n	Massage\n\n\n\n\n\n\n\n\n\n\n\n\n\n\n\n\n\n\n\n\n\n\n\n\n\n\n\n\n\n\n\
	n	Craft Station\n\n\n\n\n\n\n\n\n\n\n\n\n\n\n\n\n\n\n\n\n\n\n\n\n\n\n\n\n\
	n\n\n	Networking with panelists &amp\; other Canna Mamas\n\n\n\n\n\n\n\n\n
	\n\n\n\n\n\n\n\n\n\n\n\n\n\n\n\n\n\n\n\n\n\n\n	No door sales will be avail
	able.  All womenmust be registered online prior to coming.  Please make 
	sure to registerall members of your party online ahead of time.\n\n\n\n\n\
	n\n\n\n\n\n\n\n\n\n\n\n\n\n\n\n\n\n\n\n\n\n\n\n\n\n\n	 \n\n\n\n\n\n\n\n\n
	\n\n\n\n\n\n\n
DTSTART:20180209T030000Z
DTEND:20180209T060000Z
END:VEVENT
END:VCALENDAR
