BEGIN:VCALENDAR
VERSION:2.0
PRODID:-//IP.Board Calendar 4.7.5//EN
METHOD:PUBLISH
CALSCALE:GREGORIAN
X-WR-CALNAME:Tokeativity Calendar
BEGIN:VTIMEZONE
TZID:Europe/London
TZURL:http://tzurl.org/zoneinfo/Europe/London
X-LIC-LOCATION:Europe/London
BEGIN:DAYLIGHT
TZOFFSETFROM:+0000
TZOFFSETTO:+0100
TZNAME:BST
DTSTART:20170326T020000Z
RRULE:FREQ=YEARLY;BYMONTH=3;BYDAY=-1SU
END:DAYLIGHT
BEGIN:STANDARD
TZOFFSETFROM:+0100
TZOFFSETTO:+0000
TZNAME:GMT
DTSTART:20171029T020000Z
RRULE:FREQ=YEARLY;BYMONTH=10;BYDAY=-1SU
END:STANDARD
END:VTIMEZONE
BEGIN:VEVENT
SUMMARY:ONLINE WORSHHOP: \\\"SELL IT! The Power of Women & Sales\\\"
DTSTAMP:20171030T011135Z
SEQUENCE:0
UID:59-1-2dead269adc02be51f2f7a68eeb17a98@tokeativity.com
ORGANIZER;CN="Lisa":connect@tokeativity.com
DESCRIPTION:\n\n\n\n	Tokeativity Presents: \n\n\n\n	SELL IT! The Power 
	of Women&amp\; Sales with Simone Cimiluca-Radzins\, CEO of Kalogia\n\n\n\n
	Early Bird: $15 before Sept 30\n\nGeneral Admin: $25 after Sept 30\n\nBr
	ing a friend and save $!\n\n\n\n\n\n\n\n	REGISTER NOW!\n\n\n\n\n\n\n\n	 -
	 - - - - \n\n\n\n\n\n\n\n	ABOUT THIS WORKSHOP\n\n\n\n\n\n\n\n	Are you a w
	oman who owns her own business or works sellingfor someone else?\n\nAre yo
	u curious to know how to beef up your sales skills but aren't sure how?\n\
	n\n\n\n\n	Without sales you cannot build a sustainablebusiness. Selling sh
	ould not be hard\, especially if you have a rock solid product or service.
	 But why do so many of us women seem to bite our tongue when it comes to 
	the words negotiation\, sales\, and can I have my money? \n\n\n\n\n\n\n\n
		In this workshop\, Simone Cimiluca-Radzins\, CEO of Kalogia\, will talk
	 about sales strategy and techniques that work and that you can implement 
	into your business today. \n\n\n\n\n\n\n\n	Whether you are in the cannabi
	s industry or work for other conventional businesses\, this workshop will 
	open up doors for you sell smarter\, not harder.\n\n\n\n\n\n\n\n	 - - - -
	 -  \n\n\n\n	 \n\n\n\n\n\n\n\n	ABOUT SIMONE CIMILUCA-RADZINS\, CPA\n\n\
	n\n	Simone is theFounder and CEO of Kalogia. From her experience working 
	in the cannabis industry\, she understood the painpoints of the internatio
	nal marijuana industry and wanted to provide a solution: Kalogia. Simone 
	is an active member of the cannabis business community in both Southern Ca
	lifornia and thePacific Northwest. She has spoken about cannabis banking a
	nd 280E issues on National Public Radio (NPR) and 420Radio\; has lectured 
	on the US cannabis economy at Cannafest in Prague\, CZ and Costa Rica\; an
	d has given multiple talks at Cannabis Finance Bootcamp\, Women Grow and t
	he University of Oregon.\n\n\n\n\n\n\n\n	\n\n		Simone’s expertise is in 
	business strategy\, finance\, risk management\, and cannabis accounting. S
	imone has helped take companies public\, performed due-diligences\, and h
	as improved business operations for hundreds of cannabis clients. With a b
	ackground in Big 4 publicaccounting and international consulting for Fortu
	ne 500 companies\, Simone has lived and worked in Spain and France and has
	 assisted clients throughout Latin America\, Western and Northern Europe\,
	 and the Asia Pacific region.\n\n	\n\n\n\n	\n\n		Simone graduated with dua
	l degrees in Spanish and Accounting from the University of Oregon and hold
	s an active CPA certificate fromthe State of Oregon.\n\n\n\n - - - - - 
	 \n\n\n\n		 \n\n	\n\n\n\n\n\n\n\n	ABOUT TOKEATIVITY\n\n\n\n	Tokeativity 
	is a cannabis events series for women based in Portland\, Oregon created b
	y Lisa Snyder and co-curated by both Lisa &amp\; Samantha Montanaro. Our i
	ntention is to nurture a safe space for women to create\, learn and connec
	t. Whether you are a first timer or daily consumer\, all women are welcome
	 to join.\n\n\n\n\n\n	Join us for workshops\, classes\, music\, guest arti
	sts\, speakers\, workshop leaders\, networking\, films and more. \n\n\n\n
	\n\n	Each event will donate a portion of it’s proceeds to a cause we are
	 passionate about supporting.\n\n\n\n\n\n	Learn more: http://tokeativity.
	com\n\n\n\n
DTSTART:20171115T200000Z
DTEND:20171115T210000Z
END:VEVENT
END:VCALENDAR
