BEGIN:VCALENDAR
VERSION:2.0
PRODID:-//IP.Board Calendar 4.7.5//EN
METHOD:PUBLISH
CALSCALE:GREGORIAN
X-WR-CALNAME:Tokeativity Calendar
BEGIN:VTIMEZONE
TZID:Europe/London
TZURL:http://tzurl.org/zoneinfo/Europe/London
X-LIC-LOCATION:Europe/London
BEGIN:DAYLIGHT
TZOFFSETFROM:+0000
TZOFFSETTO:+0100
TZNAME:BST
DTSTART:20170326T020000Z
RRULE:FREQ=YEARLY;BYMONTH=3;BYDAY=-1SU
END:DAYLIGHT
BEGIN:STANDARD
TZOFFSETFROM:+0100
TZOFFSETTO:+0000
TZNAME:GMT
DTSTART:20171029T020000Z
RRULE:FREQ=YEARLY;BYMONTH=10;BYDAY=-1SU
END:STANDARD
END:VTIMEZONE
BEGIN:VEVENT
SUMMARY:test
DTSTAMP:20171210T020313Z
SEQUENCE:0
UID:56-1-2dead269adc02be51f2f7a68eeb17a98@tokeativity.com
ORGANIZER;CN="Lisa":connect@tokeativity.com
DESCRIPTION:\n\n\n\n	 \n\n\n\n\n\n\n\n	Join us on October 21st from 7-1
	0pm for our Witchy Woman Tokeativity Social!\n\n\n\n\n\n\n\n	Ticket link c
	oming soon!\n\n\n\n\n\n\n\n	\n\n\n\n
DTSTART:20171210T200000Z
DTEND:20171210T210000Z
END:VEVENT
END:VCALENDAR
