BEGIN:VCALENDAR
VERSION:2.0
PRODID:-//IP.Board Calendar 4.7.5//EN
METHOD:PUBLISH
CALSCALE:GREGORIAN
X-WR-CALNAME:Tokeativity Calendar
BEGIN:VTIMEZONE
TZID:Europe/London
TZURL:http://tzurl.org/zoneinfo/Europe/London
X-LIC-LOCATION:Europe/London
BEGIN:DAYLIGHT
TZOFFSETFROM:+0000
TZOFFSETTO:+0100
TZNAME:BST
DTSTART:20240331T020000Z
RRULE:FREQ=YEARLY;BYMONTH=3;BYDAY=-1SU
END:DAYLIGHT
BEGIN:STANDARD
TZOFFSETFROM:+0100
TZOFFSETTO:+0000
TZNAME:GMT
DTSTART:20241027T020000Z
RRULE:FREQ=YEARLY;BYMONTH=10;BYDAY=-1SU
END:STANDARD
END:VTIMEZONE
BEGIN:VEVENT
SUMMARY:Tokeativity & The CannaDiva Present: Studio 420 Throwback Pr
	ide Brunch
DTSTAMP:20240520T235350Z
SEQUENCE:0
UID:527-1-2dead269adc02be51f2f7a68eeb17a98@tokeativity.com
ORGANIZER;CN="Lisa":connect@tokeativity.com
DESCRIPTION:\n	 \n\n\n\n	\n\n	\n\n	Come celebrate pride with us on June
	 29th in Soho\, NYC!\n\n	\n\n	Celebrate pride in style\, wear your most sp
	arkly\, 70's or rainbow inspired outfits!\n\n\n\n	Step into the iconic wor
	ld of Studio 54 with Studio 420\, a  Throwback Pride Brunch\n\n	brought t
	o you by The CannaDiva and Tokeativity® in celebration of pride! \n\n\n\
	n	Join us for an immersive experience that pays homage to the legendary St
	udio 54\,\n\n	a symbol of freedom\, expression\, and inclusivity.\n\n	\n\n
		Indulge in a delectable brunch spread featuring delights and classic favo
	rites\,\n\n	expertly curated to tantalize your taste buds.\n\n\n\n	Enjoy a
	 4 hour brunch in a consumption friendly social gathering\n\n	Cañña &am
	p\; LGBTQAI2+ friendly space\n\n	Tokeativity® Bling a Lighter Craft Stati
	on\n\n	@djmisbehaviour Spinning Tunes\n\n	Dancing\n\n	Smokey Glamour Shots
	 with Photographer Franceca Bates @francescabates.photo\n\n	Rolling Statio
	n / Dab Bar\n\n	Gift bags with goodies to the first 100 attendees!\n\n	PLU
	S! Enter to win a 4 day 3 night Fungi and Cañña Friendly Getaway Giveaw
	ay \n\n	from @coralcovewellness021 health and wellness resort.\n\n	\n\n	W
	e can't wait to see you!!\n\n	\n\n	Date: Saturday\, June 29\, 2024\n\n	Tim
	e: 12-4pm Eastern\n\n	Place: Soho\, New York\, NY\, RSVP to get the addre
	ss\n\n	\n\n	Basic Members Early Bird thru 6/21:  Sliding scale $35 - $45\
	n\n	Basic Members General Admin After 6/21:  Sliding scale $45 - $55\n\n\
	n\n	Apply for a scholarship\n\n\n\n	Shout out to our sponsors and collabor
	ators \n\n\n\n	 \n\n\n\n	INTERESTED IN BECOMING A SPONSOR?\n\n\n\n	SPONS
	ORSHIPS AVAILABLE FOR EVENT\n\n	Contact us if you're interested in sponsor
	ship and tabling opportunities!\n\n	Purchase a logo or link for the landin
	g page during registration\n\n\n\n	Tokeativity Has Been Featured In:\n\n\n
	\n	\n\n
DTSTART:20240629T160000Z
DTEND:20240629T200000Z
ATTENDEE;CN="Sterling Williams";CUTYPE=INDIVIDUAL;PARTSTAT=A
	CCEPTED:connect@tokeativity.com
ATTENDEE;CN="normalmomsclub";CUTYPE=INDIVIDUAL;PARTSTAT=ACCE
	PTED:connect@tokeativity.com
ATTENDEE;CN="NY Cannabis Times";CUTYPE=INDIVIDUAL;PARTSTAT=A
	CCEPTED:connect@tokeativity.com
ATTENDEE;CN="The CannaDiva";CUTYPE=INDIVIDUAL;PARTSTAT=ACCEP
	TED:connect@tokeativity.com
ATTENDEE;CN="thechefali";CUTYPE=INDIVIDUAL;PARTSTAT=ACCEPTED
	:connect@tokeativity.com
ATTENDEE;CN="Sheena.pachon";CUTYPE=INDIVIDUAL;PARTSTAT=ACCEP
	TED:connect@tokeativity.com
ATTENDEE;CN="Jovayova";CUTYPE=INDIVIDUAL;PARTSTAT=ACCEPTED:c
	onnect@tokeativity.com
ATTENDEE;CN="Etain - Tanasha Oakley";CUTYPE=INDIVIDUAL;PARTS
	TAT=ACCEPTED:connect@tokeativity.com
ATTENDEE;CN="voelkl.sarah";CUTYPE=INDIVIDUAL;PARTSTAT=ACCEPT
	ED:connect@tokeativity.com
ATTENDEE;CN="afernandezny";CUTYPE=INDIVIDUAL;PARTSTAT=ACCEPT
	ED:connect@tokeativity.com
ATTENDEE;CN="Madisonts";CUTYPE=INDIVIDUAL;PARTSTAT=ACCEPTED:
	connect@tokeativity.com
ATTENDEE;CN="Uncle Freak";CUTYPE=INDIVIDUAL;PARTSTAT=ACCEPTE
	D:connect@tokeativity.com
ATTENDEE;CN="TONIC";CUTYPE=INDIVIDUAL;PARTSTAT=ACCEPTED:conn
	ect@tokeativity.com
ATTENDEE;CN="beckycity";CUTYPE=INDIVIDUAL;PARTSTAT=ACCEPTED:
	connect@tokeativity.com
ATTENDEE;CN="SGluck";CUTYPE=INDIVIDUAL;PARTSTAT=ACCEPTED:con
	nect@tokeativity.com
ATTENDEE;CN="Puff Cards";CUTYPE=INDIVIDUAL;PARTSTAT=ACCEPTED
	:connect@tokeativity.com
ATTENDEE;CN="Steph Redhead";CUTYPE=INDIVIDUAL;PARTSTAT=ACCEP
	TED:connect@tokeativity.com
ATTENDEE;CN="KaitJane";CUTYPE=INDIVIDUAL;PARTSTAT=ACCEPTED:c
	onnect@tokeativity.com
ATTENDEE;CN="Lupita Saldana";CUTYPE=INDIVIDUAL;PARTSTAT=ACCE
	PTED:connect@tokeativity.com
ATTENDEE;CN="Chala";CUTYPE=INDIVIDUAL;PARTSTAT=ACCEPTED:conn
	ect@tokeativity.com
ATTENDEE;CN="The Travel Agency";CUTYPE=INDIVIDUAL;PARTSTAT=A
	CCEPTED:connect@tokeativity.com
ATTENDEE;CN="Tamika";CUTYPE=INDIVIDUAL;PARTSTAT=ACCEPTED:con
	nect@tokeativity.com
ATTENDEE;CN="Danielle Klausner";CUTYPE=INDIVIDUAL;PARTSTAT=A
	CCEPTED:connect@tokeativity.com
ATTENDEE;CN="Kiva - Kathleen Hegedus";CUTYPE=INDIVIDUAL;PART
	STAT=ACCEPTED:connect@tokeativity.com
ATTENDEE;CN="Rania";CUTYPE=INDIVIDUAL;PARTSTAT=ACCEPTED:conn
	ect@tokeativity.com
ATTENDEE;CN="visinequeen";CUTYPE=INDIVIDUAL;PARTSTAT=ACCEPTE
	D:connect@tokeativity.com
ATTENDEE;CN="Jenny Joslin";CUTYPE=INDIVIDUAL;PARTSTAT=ACCEPT
	ED:connect@tokeativity.com
ATTENDEE;CN="Kiva - Adriana Carlile";CUTYPE=INDIVIDUAL;PARTS
	TAT=ACCEPTED:connect@tokeativity.com
ATTENDEE;CN="Liz Abere";CUTYPE=INDIVIDUAL;PARTSTAT=ACCEPTED:
	connect@tokeativity.com
ATTENDEE;CN="Tess Taylor";CUTYPE=INDIVIDUAL;PARTSTAT=ACCEPTE
	D:connect@tokeativity.com
ATTENDEE;CN="Clangsdon";CUTYPE=INDIVIDUAL;PARTSTAT=ACCEPTED:
	connect@tokeativity.com
ATTENDEE;CN="Kiva - Tanai Estwick";CUTYPE=INDIVIDUAL;PARTSTA
	T=ACCEPTED:connect@tokeativity.com
ATTENDEE;CN="Kristi Wright";CUTYPE=INDIVIDUAL;PARTSTAT=ACCEP
	TED:connect@tokeativity.com
ATTENDEE;CN="barbfair";CUTYPE=INDIVIDUAL;PARTSTAT=ACCEPTED:c
	onnect@tokeativity.com
ATTENDEE;CN="Etain - Georgette Clay";CUTYPE=INDIVIDUAL;PARTS
	TAT=ACCEPTED:connect@tokeativity.com
ATTENDEE;CN="Vicki Loo";CUTYPE=INDIVIDUAL;PARTSTAT=ACCEPTED:
	connect@tokeativity.com
ATTENDEE;CN="Gia Maron";CUTYPE=INDIVIDUAL;PARTSTAT=ACCEPTED:
	connect@tokeativity.com
ATTENDEE;CN="Blaze";CUTYPE=INDIVIDUAL;PARTSTAT=ACCEPTED:conn
	ect@tokeativity.com
ATTENDEE;CN="cannabritt";CUTYPE=INDIVIDUAL;PARTSTAT=ACCEPTED
	:connect@tokeativity.com
ATTENDEE;CN="Sin420CBD";CUTYPE=INDIVIDUAL;PARTSTAT=ACCEPTED:
	connect@tokeativity.com
ATTENDEE;CN="Brelixi";CUTYPE=INDIVIDUAL;PARTSTAT=ACCEPTED:co
	nnect@tokeativity.com
ATTENDEE;CN="Joint Culture Project";CUTYPE=INDIVIDUAL;PARTST
	AT=ACCEPTED:connect@tokeativity.com
ATTENDEE;CN="Claire Hankin";CUTYPE=INDIVIDUAL;PARTSTAT=ACCEP
	TED:connect@tokeativity.com
ATTENDEE;CN="raquelsroom";CUTYPE=INDIVIDUAL;PARTSTAT=ACCEPTE
	D:connect@tokeativity.com
ATTENDEE;CN="The Weed Witch";CUTYPE=INDIVIDUAL;PARTSTAT=ACCE
	PTED:connect@tokeativity.com
ATTENDEE;CN="Kim Rubino";CUTYPE=INDIVIDUAL;PARTSTAT=ACCEPTED
	:connect@tokeativity.com
ATTENDEE;CN="Lady Buddha Cannabis";CUTYPE=INDIVIDUAL;PARTSTA
	T=ACCEPTED:connect@tokeativity.com
ATTENDEE;CN="Megan Labrise";CUTYPE=INDIVIDUAL;PARTSTAT=ACCEP
	TED:connect@tokeativity.com
ATTENDEE;CN="Iman The Alchemist";CUTYPE=INDIVIDUAL;PARTSTAT=
	ACCEPTED:connect@tokeativity.com
ATTENDEE;CN="Lisa";CUTYPE=INDIVIDUAL;PARTSTAT=ACCEPTED:conne
	ct@tokeativity.com
ATTENDEE;CN="Maeve Mariotti";CUTYPE=INDIVIDUAL;PARTSTAT=ACCE
	PTED:connect@tokeativity.com
ATTENDEE;CN="Lisa Barone";CUTYPE=INDIVIDUAL;PARTSTAT=ACCEPTE
	D:connect@tokeativity.com
ATTENDEE;CN="Solonje Burnett";CUTYPE=INDIVIDUAL;PARTSTAT=ACC
	EPTED:connect@tokeativity.com
ATTENDEE;CN="Blparker";CUTYPE=INDIVIDUAL;PARTSTAT=ACCEPTED:c
	onnect@tokeativity.com
ATTENDEE;CN="Angie Lowe";CUTYPE=INDIVIDUAL;PARTSTAT=ACCEPTED
	:connect@tokeativity.com
ATTENDEE;CN="Kad Diallo";CUTYPE=INDIVIDUAL;PARTSTAT=ACCEPTED
	:connect@tokeativity.com
ATTENDEE;CN="Queenee";CUTYPE=INDIVIDUAL;PARTSTAT=ACCEPTED:co
	nnect@tokeativity.com
ATTENDEE;CN="kailynharlan";CUTYPE=INDIVIDUAL;PARTSTAT=ACCEPT
	ED:connect@tokeativity.com
ATTENDEE;CN="Dj Misbehaviour";CUTYPE=INDIVIDUAL;PARTSTAT=ACC
	EPTED:connect@tokeativity.com
ATTENDEE;CN="Janescapades";CUTYPE=INDIVIDUAL;PARTSTAT=ACCEPT
	ED:connect@tokeativity.com
ATTENDEE;CN="Eighth Flower";CUTYPE=INDIVIDUAL;PARTSTAT=ACCEP
	TED:connect@tokeativity.com
ATTENDEE;CN="Hoffeee";CUTYPE=INDIVIDUAL;PARTSTAT=ACCEPTED:co
	nnect@tokeativity.com
ATTENDEE;CN="The CannaDiva - Dani";CUTYPE=INDIVIDUAL;PARTSTA
	T=ACCEPTED:connect@tokeativity.com
ATTENDEE;CN="Mar Fitzgerald";CUTYPE=INDIVIDUAL;PARTSTAT=ACCE
	PTED:connect@tokeativity.com
ATTENDEE;CN="Michelle Sajous";CUTYPE=INDIVIDUAL;PARTSTAT=ACC
	EPTED:connect@tokeativity.com
ATTENDEE;CN="Sarah Wang";CUTYPE=INDIVIDUAL;PARTSTAT=ACCEPTED
	:connect@tokeativity.com
ATTENDEE;CN="Rhiannon B";CUTYPE=INDIVIDUAL;PARTSTAT=ACCEPTED
	:connect@tokeativity.com
ATTENDEE;CN="Kaylee Manzano";CUTYPE=INDIVIDUAL;PARTSTAT=ACCE
	PTED:connect@tokeativity.com
ATTENDEE;CN="High Yoga NYC";CUTYPE=INDIVIDUAL;PARTSTAT=ACCEP
	TED:connect@tokeativity.com
ATTENDEE;CN="Gail Hepworth";CUTYPE=INDIVIDUAL;PARTSTAT=ACCEP
	TED:connect@tokeativity.com
ATTENDEE;CN="Rachel Francis";CUTYPE=INDIVIDUAL;PARTSTAT=ACCE
	PTED:connect@tokeativity.com
ATTENDEE;CN="Amy Chin";CUTYPE=INDIVIDUAL;PARTSTAT=ACCEPTED:c
	onnect@tokeativity.com
ATTENDEE;CN="k.tanami";CUTYPE=INDIVIDUAL;PARTSTAT=ACCEPTED:c
	onnect@tokeativity.com
ATTENDEE;CN="Dasheeda Dawson";CUTYPE=INDIVIDUAL;PARTSTAT=ACC
	EPTED:connect@tokeativity.com
ATTENDEE;CN="Doreen Sullivan";CUTYPE=INDIVIDUAL;PARTSTAT=ACC
	EPTED:connect@tokeativity.com
ATTENDEE;CN="Alexisp446";CUTYPE=INDIVIDUAL;PARTSTAT=ACCEPTED
	:connect@tokeativity.com
ATTENDEE;CN="Shakeerah Shak";CUTYPE=INDIVIDUAL;PARTSTAT=ACCE
	PTED:connect@tokeativity.com
ATTENDEE;CN="Ruby";CUTYPE=INDIVIDUAL;PARTSTAT=ACCEPTED:conne
	ct@tokeativity.com
ATTENDEE;CN="Rita Abrhams";CUTYPE=INDIVIDUAL;PARTSTAT=ACCEPT
	ED:connect@tokeativity.com
ATTENDEE;CN="Sydney Price";CUTYPE=INDIVIDUAL;PARTSTAT=ACCEPT
	ED:connect@tokeativity.com
ATTENDEE;CN="Ilya Guydouk";CUTYPE=INDIVIDUAL;PARTSTAT=ACCEPT
	ED:connect@tokeativity.com
ATTENDEE;CN="Mariah Yager";CUTYPE=INDIVIDUAL;PARTSTAT=ACCEPT
	ED:connect@tokeativity.com
ATTENDEE;CN="Jeanne Sullivan - Arcview";CUTYPE=INDIVIDUAL;PA
	RTSTAT=ACCEPTED:connect@tokeativity.com
ATTENDEE;CN="Kate Thies";CUTYPE=INDIVIDUAL;PARTSTAT=ACCEPTED
	:connect@tokeativity.com
ATTENDEE;CN="Mindy";CUTYPE=INDIVIDUAL;PARTSTAT=ACCEPTED:conn
	ect@tokeativity.com
ATTENDEE;CN="Sarah Todd";CUTYPE=INDIVIDUAL;PARTSTAT=ACCEPTED
	:connect@tokeativity.com
ATTENDEE;CN="Paige Meserve";CUTYPE=INDIVIDUAL;PARTSTAT=ACCEP
	TED:connect@tokeativity.com
ATTENDEE;CN="venus.nyc";CUTYPE=INDIVIDUAL;PARTSTAT=ACCEPTED:
	connect@tokeativity.com
ATTENDEE;CN="rourke.rebecca";CUTYPE=INDIVIDUAL;PARTSTAT=ACCE
	PTED:connect@tokeativity.com
ATTENDEE;CN="Marco";CUTYPE=INDIVIDUAL;PARTSTAT=ACCEPTED:conn
	ect@tokeativity.com
ATTENDEE;CN="Love London Sweets";CUTYPE=INDIVIDUAL;PARTSTAT=
	ACCEPTED:connect@tokeativity.com
ATTENDEE;CN="SaraShapiro";CUTYPE=INDIVIDUAL;PARTSTAT=ACCEPTE
	D:connect@tokeativity.com
ATTENDEE;CN="The CannaDiva - Kimber";CUTYPE=INDIVIDUAL;PARTS
	TAT=ACCEPTED:connect@tokeativity.com
ATTENDEE;CN="Work and Roll - Julia";CUTYPE=INDIVIDUAL;PARTST
	AT=ACCEPTED:connect@tokeativity.com
ATTENDEE;CN="Inga Butler";CUTYPE=INDIVIDUAL;PARTSTAT=ACCEPTE
	D:connect@tokeativity.com
ATTENDEE;CN="Nyteresita";CUTYPE=INDIVIDUAL;PARTSTAT=ACCEPTED
	:connect@tokeativity.com
ATTENDEE;CN="Sbsomerset";CUTYPE=INDIVIDUAL;PARTSTAT=ACCEPTED
	:connect@tokeativity.com
ATTENDEE;CN="tosinajayi";CUTYPE=INDIVIDUAL;PARTSTAT=ACCEPTED
	:connect@tokeativity.com
ATTENDEE;CN="coyediran";CUTYPE=INDIVIDUAL;PARTSTAT=ACCEPTED:
	connect@tokeativity.com
ATTENDEE;CN="Atchara.betances";CUTYPE=INDIVIDUAL;PARTSTAT=AC
	CEPTED:connect@tokeativity.com
ATTENDEE;CN="glepilates - cheryl";CUTYPE=INDIVIDUAL;PARTSTAT
	=ACCEPTED:connect@tokeativity.com
ATTENDEE;CN="MAC";CUTYPE=INDIVIDUAL;PARTSTAT=ACCEPTED:connec
	t@tokeativity.com
ATTENDEE;CN="Charmaine.amey";CUTYPE=INDIVIDUAL;PARTSTAT=ACCE
	PTED:connect@tokeativity.com
ATTENDEE;CN="Cristina Buccola";CUTYPE=INDIVIDUAL;PARTSTAT=AC
	CEPTED:connect@tokeativity.com
ATTENDEE;CN="The CannaDiva - Jessica";CUTYPE=INDIVIDUAL;PART
	STAT=ACCEPTED:connect@tokeativity.com
ATTENDEE;CN="brookestachyra";CUTYPE=INDIVIDUAL;PARTSTAT=ACCE
	PTED:connect@tokeativity.com
ATTENDEE;CN="matawanany";CUTYPE=INDIVIDUAL;PARTSTAT=ACCEPTED
	:connect@tokeativity.com
ATTENDEE;CN="iamblackrosenyc";CUTYPE=INDIVIDUAL;PARTSTAT=ACC
	EPTED:connect@tokeativity.com
ATTENDEE;CN="The CannaDiva - Jennifer";CUTYPE=INDIVIDUAL;PAR
	TSTAT=ACCEPTED:connect@tokeativity.com
ATTENDEE;CN="Amy Hepworth";CUTYPE=INDIVIDUAL;PARTSTAT=ACCEPT
	ED:connect@tokeativity.com
ATTENDEE;CN="solahtea.inc";CUTYPE=INDIVIDUAL;PARTSTAT=ACCEPT
	ED:connect@tokeativity.com
ATTENDEE;CN="Jill Goldsberry";CUTYPE=INDIVIDUAL;PARTSTAT=ACC
	EPTED:connect@tokeativity.com
ATTENDEE;CN="bossieebudz";CUTYPE=INDIVIDUAL;PARTSTAT=ACCEPTE
	D:connect@tokeativity.com
ATTENDEE;CN="Meryl Montgomery";CUTYPE=INDIVIDUAL;PARTSTAT=AC
	CEPTED:connect@tokeativity.com
ATTENDEE;CN="Sephida Artis-Mills";CUTYPE=INDIVIDUAL;PARTSTAT
	=ACCEPTED:connect@tokeativity.com
ATTENDEE;CN="The Canna Witch NYC";CUTYPE=INDIVIDUAL;PARTSTAT
	=ACCEPTED:connect@tokeativity.com
ATTENDEE;CN="Michelle Wild";CUTYPE=INDIVIDUAL;PARTSTAT=ACCEP
	TED:connect@tokeativity.com
ATTENDEE;CN="Canna Content - Brie";CUTYPE=INDIVIDUAL;PARTSTA
	T=ACCEPTED:connect@tokeativity.com
ATTENDEE;CN="Stella";CUTYPE=INDIVIDUAL;PARTSTAT=ACCEPTED:con
	nect@tokeativity.com
ATTENDEE;CN="IcarusDH";CUTYPE=INDIVIDUAL;PARTSTAT=ACCEPTED:c
	onnect@tokeativity.com
ATTENDEE;CN="ricadeo";CUTYPE=INDIVIDUAL;PARTSTAT=ACCEPTED:co
	nnect@tokeativity.com
ATTENDEE;CN="dabodegaunion.store";CUTYPE=INDIVIDUAL;PARTSTAT
	=ACCEPTED:connect@tokeativity.com
ATTENDEE;CN="katie.reiter";CUTYPE=INDIVIDUAL;PARTSTAT=ACCEPT
	ED:connect@tokeativity.com
ATTENDEE;CN="Gemelly";CUTYPE=INDIVIDUAL;PARTSTAT=ACCEPTED:co
	nnect@tokeativity.com
ATTENDEE;CN="Bonita Rodriguez";CUTYPE=INDIVIDUAL;PARTSTAT=AC
	CEPTED:connect@tokeativity.com
ATTENDEE;CN="Happy Hounds CBD";CUTYPE=INDIVIDUAL;PARTSTAT=AC
	CEPTED:connect@tokeativity.com
ATTENDEE;CN="monagiamanco";CUTYPE=INDIVIDUAL;PARTSTAT=ACCEPT
	ED:connect@tokeativity.com
ATTENDEE;CN="Lolita Loca";CUTYPE=INDIVIDUAL;PARTSTAT=ACCEPTE
	D:connect@tokeativity.com
ATTENDEE;CN="Shaindel";CUTYPE=INDIVIDUAL;PARTSTAT=ACCEPTED:c
	onnect@tokeativity.com
ATTENDEE;CN="saranoh";CUTYPE=INDIVIDUAL;PARTSTAT=ACCEPTED:co
	nnect@tokeativity.com
END:VEVENT
END:VCALENDAR
