BEGIN:VCALENDAR
VERSION:2.0
PRODID:-//IP.Board Calendar 4.7.5//EN
METHOD:PUBLISH
CALSCALE:GREGORIAN
X-WR-CALNAME:Tokeativity Calendar
BEGIN:VTIMEZONE
TZID:Europe/London
TZURL:http://tzurl.org/zoneinfo/Europe/London
X-LIC-LOCATION:Europe/London
BEGIN:DAYLIGHT
TZOFFSETFROM:+0000
TZOFFSETTO:+0100
TZNAME:BST
DTSTART:20220327T020000Z
RRULE:FREQ=YEARLY;BYMONTH=3;BYDAY=-1SU
END:DAYLIGHT
BEGIN:STANDARD
TZOFFSETFROM:+0100
TZOFFSETTO:+0000
TZNAME:GMT
DTSTART:20221030T020000Z
RRULE:FREQ=YEARLY;BYMONTH=10;BYDAY=-1SU
END:STANDARD
END:VTIMEZONE
BEGIN:VEVENT
SUMMARY:Integrating Activism
DTSTAMP:20220907T063008Z
SEQUENCE:0
UID:504-1-2dead269adc02be51f2f7a68eeb17a98@tokeativity.com
ORGANIZER;CN="Wendy Mintey":connect@tokeativity.com
DESCRIPTION:\n	Date: Sept 21\, 2022\n\n	Time: 4:20p Eastern / 1:20p Pa
	cific\n\n	Place: ONLINE SPECIAL BROADCAST\n\n\n\n	Place: ONLINE - RSVP f
	or login details and password\n\n	Cost: Free for Tokeativity Corporate\, B
	usiness &amp\; Grassroots Members (Upgrade Your Membership)\n\n	Basic Mem
	bers: Pay what you can\, sliding scale $0 - $25\n\n	\n\n	Join us for a sp
	ecial broadcast as we ramp up for the midterm election season!\n\n\n\n	Act
	ivism encompasses much more than protesting in the streets...If you're fir
	ed up like us\, let's get together and scheme how best to put our activism
	 and advocacy to work for our beloved communities.\n\n\n\n	⁠We will be h
	osting a special broadcast showcasing some of our most powerful keynote sp
	eakers over the years centering activism at it's core. \n\n	⁠\n\n	Let's
	 do this!\n\n	 \n\n\n\n	EVENT SCHEDULE\n\n	4:20p EDT/ 1:20p PDT - Integra
	ting Activism: A Tokeativity Special Broadcast\n\n\n\n	5:15p EDT / 2:15p P
	DT - Group Download - Open Session Conversation moderated by Lori Lord\, F
	ounder of Natural High Co.\n\n\n\n	Tokeativity Confessional Booth Open th
	roughout the event\n\n	Share with us via audio or video for a chance to wi
	n \n\n	Prompts provided \n\n\n\n	 \n\n\n\n	VISIT THE EXPO &amp\; TOKEAT
	IVITY PHOTO BOOTH THROUGHOUT THE EVENT!\n\n	\n\n	\n\n	 \n\n\n\n	INTERESTE
	D IN SUPPORTING?\n\n\n\n	SPONSOR THIS EVENT\n\n	Purchase a logo or link du
	ring registration for this or future events\n\n	\n\n	WORK WITH US - BECOME
	 A CORPORATE OR BUSINESS MEMBER\n\n	Visit Tokeativity.com/collaborate o
	r email connect@tokeativity.com\n\n\n\n	SUPPORT THE CANNABIS &amp\; FEMIN
	ISM MOVEMENT\n\n	Grassroots Memberships available for individuals - visit 
	Tokeativity.com/members\n\n\n\n	READ OUR WOMANIFESTO &amp\; LEARN MORE ABO
	UT OUR WORK\n\n\n\n	\n\n	\n\n\n\n	\n\n\n\n	\n\n	Tokeativity Has Been Featu
	red In:\n\n\n\n	\n\n\n\n	 \n\n\n\n	 \n\n\n\n	 \n\n
DTSTART:20220921T202000Z
DTEND:20220921T220000Z
ATTENDEE;CN="Wendy Mintey";CUTYPE=INDIVIDUAL;PARTSTAT=ACCEPT
	ED:connect@tokeativity.com
ATTENDEE;CN="ripcitybitty";CUTYPE=INDIVIDUAL;PARTSTAT=ACCEPT
	ED:connect@tokeativity.com
ATTENDEE;CN="Laura-GingerGanjaGoddess";CUTYPE=INDIVIDUAL;PAR
	TSTAT=ACCEPTED:connect@tokeativity.com
ATTENDEE;CN="Lisa";CUTYPE=INDIVIDUAL;PARTSTAT=ACCEPTED:conne
	ct@tokeativity.com
ATTENDEE;CN="Rose Glow Tea Room";CUTYPE=INDIVIDUAL;PARTSTAT=
	ACCEPTED:connect@tokeativity.com
ATTENDEE;CN="Heather James";CUTYPE=INDIVIDUAL;PARTSTAT=ACCEP
	TED:connect@tokeativity.com
ATTENDEE;CN="Danielle Simone Brand";CUTYPE=INDIVIDUAL;PARTST
	AT=ACCEPTED:connect@tokeativity.com
ATTENDEE;CN="Amanda\, ANG Consulting";CUTYPE=INDIVIDUAL;PART
	STAT=ACCEPTED:connect@tokeativity.com
END:VEVENT
END:VCALENDAR
