BEGIN:VCALENDAR
VERSION:2.0
PRODID:-//IP.Board Calendar 4.7.5//EN
METHOD:PUBLISH
CALSCALE:GREGORIAN
X-WR-CALNAME:Tokeativity Calendar
BEGIN:VTIMEZONE
TZID:Europe/London
TZURL:http://tzurl.org/zoneinfo/Europe/London
X-LIC-LOCATION:Europe/London
BEGIN:DAYLIGHT
TZOFFSETFROM:+0000
TZOFFSETTO:+0100
TZNAME:BST
DTSTART:20220327T020000Z
RRULE:FREQ=YEARLY;BYMONTH=3;BYDAY=-1SU
END:DAYLIGHT
BEGIN:STANDARD
TZOFFSETFROM:+0100
TZOFFSETTO:+0000
TZNAME:GMT
DTSTART:20221030T020000Z
RRULE:FREQ=YEARLY;BYMONTH=10;BYDAY=-1SU
END:STANDARD
END:VTIMEZONE
BEGIN:VEVENT
SUMMARY:Creative Pro Workshop: How to Build Your Personal Brand
DTSTAMP:20220810T013123Z
SEQUENCE:0
UID:503-1-2dead269adc02be51f2f7a68eeb17a98@tokeativity.com
ORGANIZER;CN="Wendy Mintey":connect@tokeativity.com
DESCRIPTION:\n	 \n\n\n\n	Date: Aug 24\, 2022\n\n	Time: 4 - 5:30 pm Pac
	ific / 7 - 8:30pm Eastern\n\n	Place: ONLINE - RSVP for login details and
	 password\n\n	\n\n	Cost: Free for Tokeativity Creative Pro Members\, Busin
	ess Members\, Brand Partners\, &amp\; students of the Mommy Jane's Social
	 Media Program\n\n	Basic &amp\; Grassroots Members: Pay what you can\, sl
	iding scale $15 - $25\n\n	Upgrade Your Membership or get our social media
	 guide to get access to all Creative Pro Workshops for free!\n\n\n\n	ABOUT
	 THIS WORKSHOP\n\n\n\n	Join Tokeativity CMO Lesley Martinez for this live 
	creative workshop as she shares how to formulate and bring to fruition you
	r own personal brand.\n\n	 \n\n	Group Q &amp\; A afterwards to pick our b
	rains!\n\n	﻿\n\n\n\n	ABOUT OUR CREATIVE PRO WORKSHOPS\n\n\n\n	Learn dire
	ctly from creative professionals in the Tokeativity network on how to next
	 level your digital and creative professional skills!\n\n\n\n	\n\n	 \n\n\
	n\n	INTERESTED IN SUPPORTING?\n\n\n\n	SPONSOR THIS EVENT\n\n	Purchase a lo
	go or link during registration for this or future events\n\n	\n\n	BECOME A
	 BRAND PARTNER\n\n	Visit Tokeativity.com/collaborate or email connect@t
	okeativity.com\n\n\n\n	SUPPORT THE CANNABIS &amp\; FEMINISM MOVEMENT\n\n	U
	pgrade your membership - visit Tokeativity.com/members\n\n\n\n	READ OUR W
	OMANIFESTO &amp\; LEARN MORE ABOUT OUR WORK\n\n\n\n	\n\n	\n\n	\n\n	Tokeati
	vity Has Been Featured In:\n\n\n\n	\n\n\n\n	 \n\n\n\n	 \n\n\n\n	\n\n\n\
	n	 \n\n
DTSTART:20220824T230000Z
DTEND:20220825T003000Z
ATTENDEE;CN="JasmineTokesKaya";CUTYPE=INDIVIDUAL;PARTSTAT=AC
	CEPTED:connect@tokeativity.com
ATTENDEE;CN="ripcitybitty";CUTYPE=INDIVIDUAL;PARTSTAT=ACCEPT
	ED:connect@tokeativity.com
ATTENDEE;CN="Dana Miller";CUTYPE=INDIVIDUAL;PARTSTAT=ACCEPTE
	D:connect@tokeativity.com
ATTENDEE;CN="Kristen Brooks";CUTYPE=INDIVIDUAL;PARTSTAT=ACCE
	PTED:connect@tokeativity.com
ATTENDEE;CN="tmalvesta";CUTYPE=INDIVIDUAL;PARTSTAT=ACCEPTED:
	connect@tokeativity.com
ATTENDEE;CN="Wendy Mintey";CUTYPE=INDIVIDUAL;PARTSTAT=ACCEPT
	ED:connect@tokeativity.com
ATTENDEE;CN="Heather James";CUTYPE=INDIVIDUAL;PARTSTAT=ACCEP
	TED:connect@tokeativity.com
ATTENDEE;CN="Lisa";CUTYPE=INDIVIDUAL;PARTSTAT=ACCEPTED:conne
	ct@tokeativity.com
ATTENDEE;CN="markbrightridge";CUTYPE=INDIVIDUAL;PARTSTAT=ACC
	EPTED:connect@tokeativity.com
ATTENDEE;CN="Jayewill";CUTYPE=INDIVIDUAL;PARTSTAT=ACCEPTED:c
	onnect@tokeativity.com
ATTENDEE;CN="nrchason";CUTYPE=INDIVIDUAL;PARTSTAT=ACCEPTED:c
	onnect@tokeativity.com
ATTENDEE;CN="Tracy Barbosa";CUTYPE=INDIVIDUAL;PARTSTAT=ACCEP
	TED:connect@tokeativity.com
ATTENDEE;CN="Beryl Solomon";CUTYPE=INDIVIDUAL;PARTSTAT=ACCEP
	TED:connect@tokeativity.com
ATTENDEE;CN="aliciapingul";CUTYPE=INDIVIDUAL;PARTSTAT=ACCEPT
	ED:connect@tokeativity.com
ATTENDEE;CN="Kim Davis";CUTYPE=INDIVIDUAL;PARTSTAT=ACCEPTED:
	connect@tokeativity.com
ATTENDEE;CN="Deb Martin";CUTYPE=INDIVIDUAL;PARTSTAT=ACCEPTED
	:connect@tokeativity.com
END:VEVENT
END:VCALENDAR
