BEGIN:VCALENDAR
VERSION:2.0
PRODID:-//IP.Board Calendar 4.7.5//EN
METHOD:PUBLISH
CALSCALE:GREGORIAN
X-WR-CALNAME:Tokeativity Calendar
BEGIN:VTIMEZONE
TZID:Europe/London
TZURL:http://tzurl.org/zoneinfo/Europe/London
X-LIC-LOCATION:Europe/London
BEGIN:DAYLIGHT
TZOFFSETFROM:+0000
TZOFFSETTO:+0100
TZNAME:BST
DTSTART:20220327T020000Z
RRULE:FREQ=YEARLY;BYMONTH=3;BYDAY=-1SU
END:DAYLIGHT
BEGIN:STANDARD
TZOFFSETFROM:+0100
TZOFFSETTO:+0000
TZNAME:GMT
DTSTART:20221030T020000Z
RRULE:FREQ=YEARLY;BYMONTH=10;BYDAY=-1SU
END:STANDARD
END:VTIMEZONE
BEGIN:VEVENT
SUMMARY:Creative Pro Workshop: Next Level Reels
DTSTAMP:20220701T015301Z
SEQUENCE:0
UID:497-1-2dead269adc02be51f2f7a68eeb17a98@tokeativity.com
ORGANIZER;CN="Lisa":connect@tokeativity.com
DESCRIPTION:\n	 \n\n\n\n	Date: July 27\, 2022\n\n	Time: 4 - 5:30 pm Pa
	cific / 7 - 8:30pm Eastern\n\n	Place: ONLINE - RSVP for login details an
	d password\n\n	\n\n	Cost: Free for Tokeativity Creative Pro Members\, Busi
	ness Members\, Brand Partners\, &amp\; students of the Mommy Jane's Socia
	l Media Program\n\n	Basic &amp\; Grassroots Members: Pay what you can\, s
	liding scale $15 - $25\n\n	Upgrade Your Membership or get our social medi
	a guide to get access to all Creative Pro Workshops for free!\n\n\n\n	ABOU
	T THIS WORKSHOP\n\n\n\n	Join The Mommy Jane &amp\; Tokeativity Co-Founder\
	, Lisa Snyder for this live creative workshop as we share all our secrets 
	on navigating cannabis and social media.\n\n	\n\n	﻿This month we'll be t
	alking about Instagram Reels! ﻿\n\n	How to create reels that are engagin
	g\, educational and have the best chance of going viral\n\n	Tips on avoidi
	ng your IG getting shut down (and what to do if/when that happens)\n\n	Gro
	up Q &amp\; A afterwards to pick our brains on all things cannabis and soc
	ial media!\n\n	﻿\n\n\n\n	ABOUT OUR CREATIVE PRO WORKSHOPS\n\n\n\n	Learn 
	directly from creative professionals in the Tokeativity network on how to 
	next level your digital and creative professional skills!\n\n\n\n	\n\n	 \
	n\n\n\n	INTERESTED IN SUPPORTING?\n\n\n\n	SPONSOR THIS EVENT\n\n	Purchase 
	a logo or link during registration for this or future events\n\n	\n\n	BECO
	ME A BRAND PARTNER\n\n	Visit Tokeativity.com/collaborate or email conne
	ct@tokeativity.com\n\n\n\n	SUPPORT THE CANNABIS &amp\; FEMINISM MOVEMENT\n
	\n	Upgrade your membership - visit Tokeativity.com/members\n\n\n\n	READ O
	UR WOMANIFESTO &amp\; LEARN MORE ABOUT OUR WORK\n\n\n\n	\n\n	\n\n	\n\n	Tok
	eativity Has Been Featured In:\n\n\n\n	\n\n\n\n	 \n\n\n\n	 \n\n\n\n	\n\n
	\n\n	 \n\n
DTSTART:20220727T230000Z
DTEND:20220728T003000Z
ATTENDEE;CN="Mercedes";CUTYPE=INDIVIDUAL;PARTSTAT=ACCEPTED:c
	onnect@tokeativity.com
ATTENDEE;CN="fderogatis";CUTYPE=INDIVIDUAL;PARTSTAT=ACCEPTED
	:connect@tokeativity.com
ATTENDEE;CN="Beryl Solomon";CUTYPE=INDIVIDUAL;PARTSTAT=ACCEP
	TED:connect@tokeativity.com
ATTENDEE;CN="Suzannabis";CUTYPE=INDIVIDUAL;PARTSTAT=ACCEPTED
	:connect@tokeativity.com
ATTENDEE;CN="ripcitybitty";CUTYPE=INDIVIDUAL;PARTSTAT=ACCEPT
	ED:connect@tokeativity.com
ATTENDEE;CN="Allison Trimbell";CUTYPE=INDIVIDUAL;PARTSTAT=AC
	CEPTED:connect@tokeativity.com
ATTENDEE;CN="Rose Glow Tea Room";CUTYPE=INDIVIDUAL;PARTSTAT=
	ACCEPTED:connect@tokeativity.com
ATTENDEE;CN="Amy Chin";CUTYPE=INDIVIDUAL;PARTSTAT=ACCEPTED:c
	onnect@tokeativity.com
ATTENDEE;CN="Lisa";CUTYPE=INDIVIDUAL;PARTSTAT=ACCEPTED:conne
	ct@tokeativity.com
ATTENDEE;CN="talya";CUTYPE=INDIVIDUAL;PARTSTAT=ACCEPTED:conn
	ect@tokeativity.com
ATTENDEE;CN="Alicia Moon Dahlen";CUTYPE=INDIVIDUAL;PARTSTAT=
	ACCEPTED:connect@tokeativity.com
ATTENDEE;CN="Wendy Mintey";CUTYPE=INDIVIDUAL;PARTSTAT=ACCEPT
	ED:connect@tokeativity.com
ATTENDEE;CN="Kim @ Green Bee Botanicals";CUTYPE=INDIVIDUAL;P
	ARTSTAT=ACCEPTED:connect@tokeativity.com
END:VEVENT
END:VCALENDAR
