BEGIN:VCALENDAR
VERSION:2.0
PRODID:-//IP.Board Calendar 4.7.5//EN
METHOD:PUBLISH
CALSCALE:GREGORIAN
X-WR-CALNAME:Tokeativity Calendar
BEGIN:VTIMEZONE
TZID:Europe/London
TZURL:http://tzurl.org/zoneinfo/Europe/London
X-LIC-LOCATION:Europe/London
BEGIN:DAYLIGHT
TZOFFSETFROM:+0000
TZOFFSETTO:+0100
TZNAME:BST
DTSTART:20220327T020000Z
RRULE:FREQ=YEARLY;BYMONTH=3;BYDAY=-1SU
END:DAYLIGHT
BEGIN:STANDARD
TZOFFSETFROM:+0100
TZOFFSETTO:+0000
TZNAME:GMT
DTSTART:20221030T020000Z
RRULE:FREQ=YEARLY;BYMONTH=10;BYDAY=-1SU
END:STANDARD
END:VTIMEZONE
BEGIN:VEVENT
SUMMARY:Powering Up! Unlocking the POWER of Crypto
DTSTAMP:20220505T021514Z
SEQUENCE:0
UID:494-1-2dead269adc02be51f2f7a68eeb17a98@tokeativity.com
ORGANIZER;CN="Lisa":connect@tokeativity.com
DESCRIPTION:\n	WEIC PARTNER EVENT\n\n\n\n	\n\n	Registration available th
	rough EventHi Now &gt\;&gt\;\n\n	 \n\n\n\n	Powering Up! is an event serie
	s by Women Employed in Cannabis designed to keep women\n\n	working in cann
	abis ahead of the curve with access to cutting-edge innovation and technol
	ogy.\n\n	\n\n	Women too often fall behind evolutions in tech\, industry an
	d finance that puts them at a disadvantage in business.\n\n	Powering Up! i
	s designed to make topics accessible and easy to learn in a short period o
	f time.\n\n\n\n	 \n\n\n\n	Our first series is Unlocking the Power of Cryp
	to:\n\n	the fundamentals of Blockchain\, Crypto Currency\, WEB 3\, NFTs an
	d the Metaverse.\n\n\n\n	Hosted by Amanda Reiman Founder of Personal Plant
	s and Lisa Snyder Co-Founder of Tokeativity.\n\n	We will welcome special g
	uests who are experts in numerous areas of digital currency\, art and the 
	future of the web.\n\n\n\n	The first installment of this series is May 23.
	 For more information\, please visit Women Employed in Cannabis\n\n
DTSTART:20220523T230000Z
DTEND:20220524T000000Z
END:VEVENT
END:VCALENDAR
