BEGIN:VCALENDAR
VERSION:2.0
PRODID:-//IP.Board Calendar 4.7.5//EN
METHOD:PUBLISH
CALSCALE:GREGORIAN
X-WR-CALNAME:Tokeativity Calendar
BEGIN:VTIMEZONE
TZID:Europe/London
TZURL:http://tzurl.org/zoneinfo/Europe/London
X-LIC-LOCATION:Europe/London
BEGIN:DAYLIGHT
TZOFFSETFROM:+0000
TZOFFSETTO:+0100
TZNAME:BST
DTSTART:20220327T020000Z
RRULE:FREQ=YEARLY;BYMONTH=3;BYDAY=-1SU
END:DAYLIGHT
BEGIN:STANDARD
TZOFFSETFROM:+0100
TZOFFSETTO:+0000
TZNAME:GMT
DTSTART:20221030T020000Z
RRULE:FREQ=YEARLY;BYMONTH=10;BYDAY=-1SU
END:STANDARD
END:VTIMEZONE
BEGIN:VEVENT
SUMMARY:The Pride & Equity Tokeativity Social
DTSTAMP:20210824T171955Z
SEQUENCE:0
UID:492-1-2dead269adc02be51f2f7a68eeb17a98@tokeativity.com
ORGANIZER;CN="Wendy Mintey":connect@tokeativity.com
DESCRIPTION:\n	Date: Jun 15\, 2022\n\n	Time: 3 - 5pm Pacific / 6 - 8p
	m Eastern\n\n	Place: ONLINE\n\n\n\n	Place: ONLINE - RSVP for login detai
	ls and password\n\n	Cost: Free for Tokeativity Corporate\, Business &amp\;
	 Grassroots Members (Upgrade Your Membership)\n\n	Basic Members: Pay wha
	t you can\, sliding scale $0 - $25\n\n	 \n\n\n\n	ABOUT THE TOKEATIVITY® 
	SOCIAL\n\n\n\n	Coined \"A Beehive of Actives\" by Rolling Stone\, the Toke
	ativity® Social features 1-on-1 business speed networking\,\n\n	education
	al sessions\, workshops\, guest speakers and themed community sesh rooms.\
	n\n	Meet and network with other cannabis loving feminists from across the 
	globe.\n\n	Listen in or join the live conversation via chat\, audio or vid
	eo!\n\n	 \n\n\n\n	EVENT SCHEDULE\n\n\n\n	3 - 3:15p PDT / 6 - 6:15p EDT  
	- SPEED NETWORKING Brought to you by Women Employed in Cannabis\n\n\n\n	3:
	15 - 4:05p PDT / 6:15 - 7:05p EDT - MAIN STAGE EVENTS \n\n	3:15/6:15p - O
	pening Remarks with Tokeativity MC Lisa Snyder @Lisa Tokeativity Co-Foun
	der &amp\; CIO \n\n	3:25/6:25p -  The 7 C's of Change with Vonda Page\, 
	Founder of Radical Change @Radical CHANGE\, LLC\n\n	3:45/6:45p - 420 frien
	dly Travel for the BIPOC &amp\; Queer Communities with Ayanna Lawson\, Fou
	nder of Front Row Travels @Front Row Travels\n\n\n\n	\n\n	4:05 - 4:45p PDT
	 / 7:05 - 7:45p EDT - SESSIONS\n\n	BRIDGES - Courageous Conversations abou
	t Race\, Equity &amp\; Inclusion - Hosted by Tiffany Watkins @Tiffany Wat
	kins&amp\; Mskindness B. Ramirez @Mskindness B. \n\n	Cannapreneur Lounge 
	- Hosted by Brittany Parker @Naturalbrii\, Founder of A Green Legacy\n\n\n
	\n	4:45 - 5:00p PDT / 7:45 - 8:00p EDT - MAIN STAGE\n\n	Closing Remarks\, 
	Giveaways from Tokeativity\, Front Row Travels\, &amp\; More! \n\n\n\n	EX
	PO &amp\; TOKEATIVITY PHOTO BOOTH OPEN THROUGHOUT THE EVENT!\n\n	Don't for
	get to visit the photo booth and share your pics from the\n\n	#PRIDE&amp\;
	EQUITY Tokeativity Social and tag @tokeativity\n\n	for a chance to be feat
	ured! \n\n	\n\n	 \n\n\n\n	INTERESTED IN SUPPORTING?\n\n\n\n	SPONSOR THIS
	 EVENT\n\n	Purchase a logo or link during registration for this or future 
	events\n\n	\n\n	WORK WITH US - BECOME A CORPORATE OR BUSINESS MEMBER\n\n	V
	isit Tokeativity.com/collaborate or email connect@tokeativity.com\n\n\n
	\n	SUPPORT THE CANNABIS &amp\; FEMINISM MOVEMENT\n\n	Grassroots Membership
	s available for individuals - visit Tokeativity.com/members\n\n\n\n	READ O
	UR WOMANIFESTO &amp\; LEARN MORE ABOUT OUR WORK\n\n\n\n	\n\n	\n\n	\n\n	Tok
	eativity Has Been Featured In:\n\n\n\n	\n\n\n\n	 \n\n\n\n	 \n\n\n\n	 \n
	\n
DTSTART:20220615T220000Z
DTEND:20220616T000000Z
ATTENDEE;CN="Dana Miller";CUTYPE=INDIVIDUAL;PARTSTAT=ACCEPTE
	D:connect@tokeativity.com
ATTENDEE;CN="Desi";CUTYPE=INDIVIDUAL;PARTSTAT=ACCEPTED:conne
	ct@tokeativity.com
ATTENDEE;CN="SabrinaRace";CUTYPE=INDIVIDUAL;PARTSTAT=ACCEPTE
	D:connect@tokeativity.com
ATTENDEE;CN="Laura-GingerGanjaGoddess";CUTYPE=INDIVIDUAL;PAR
	TSTAT=ACCEPTED:connect@tokeativity.com
ATTENDEE;CN="rsmkeith";CUTYPE=INDIVIDUAL;PARTSTAT=ACCEPTED:c
	onnect@tokeativity.com
ATTENDEE;CN="Lady Nwadike";CUTYPE=INDIVIDUAL;PARTSTAT=ACCEPT
	ED:connect@tokeativity.com
ATTENDEE;CN="K Alexis";CUTYPE=INDIVIDUAL;PARTSTAT=ACCEPTED:c
	onnect@tokeativity.com
ATTENDEE;CN="Wendy Mintey";CUTYPE=INDIVIDUAL;PARTSTAT=ACCEPT
	ED:connect@tokeativity.com
ATTENDEE;CN="Radical CHANGE\, LLC";CUTYPE=INDIVIDUAL;PARTSTA
	T=ACCEPTED:connect@tokeativity.com
ATTENDEE;CN="Front Row Travels";CUTYPE=INDIVIDUAL;PARTSTAT=A
	CCEPTED:connect@tokeativity.com
ATTENDEE;CN="Tiffany Watkins";CUTYPE=INDIVIDUAL;PARTSTAT=ACC
	EPTED:connect@tokeativity.com
ATTENDEE;CN="Naturalbrii";CUTYPE=INDIVIDUAL;PARTSTAT=ACCEPTE
	D:connect@tokeativity.com
ATTENDEE;CN="Lisa";CUTYPE=INDIVIDUAL;PARTSTAT=ACCEPTED:conne
	ct@tokeativity.com
ATTENDEE;CN="ripcitybitty";CUTYPE=INDIVIDUAL;PARTSTAT=ACCEPT
	ED:connect@tokeativity.com
ATTENDEE;CN="Heather James";CUTYPE=INDIVIDUAL;PARTSTAT=ACCEP
	TED:connect@tokeativity.com
ATTENDEE;CN="JasmineTokesKaya";CUTYPE=INDIVIDUAL;PARTSTAT=AC
	CEPTED:connect@tokeativity.com
ATTENDEE;CN="katyjane";CUTYPE=INDIVIDUAL;PARTSTAT=ACCEPTED:c
	onnect@tokeativity.com
ATTENDEE;CN="Angela Woulard";CUTYPE=INDIVIDUAL;PARTSTAT=ACCE
	PTED:connect@tokeativity.com
ATTENDEE;CN="Hawbaked";CUTYPE=INDIVIDUAL;PARTSTAT=ACCEPTED:c
	onnect@tokeativity.com
ATTENDEE;CN="Just_Kate";CUTYPE=INDIVIDUAL;PARTSTAT=ACCEPTED:
	connect@tokeativity.com
ATTENDEE;CN="Corina Sanford";CUTYPE=INDIVIDUAL;PARTSTAT=ACCE
	PTED:connect@tokeativity.com
ATTENDEE;CN="Anika at Trigger Hippie Co";CUTYPE=INDIVIDUAL;P
	ARTSTAT=ACCEPTED:connect@tokeativity.com
ATTENDEE;CN="Keiko Beatie";CUTYPE=INDIVIDUAL;PARTSTAT=ACCEPT
	ED:connect@tokeativity.com
ATTENDEE;CN="AmberF";CUTYPE=INDIVIDUAL;PARTSTAT=ACCEPTED:con
	nect@tokeativity.com
ATTENDEE;CN="Dwan";CUTYPE=INDIVIDUAL;PARTSTAT=ACCEPTED:conne
	ct@tokeativity.com
ATTENDEE;CN="MelissaB";CUTYPE=INDIVIDUAL;PARTSTAT=ACCEPTED:c
	onnect@tokeativity.com
ATTENDEE;CN="Anika";CUTYPE=INDIVIDUAL;PARTSTAT=ACCEPTED:conn
	ect@tokeativity.com
ATTENDEE;CN="Stormi Hunt";CUTYPE=INDIVIDUAL;PARTSTAT=ACCEPTE
	D:connect@tokeativity.com
ATTENDEE;CN="SidneeLenoraGrubb";CUTYPE=INDIVIDUAL;PARTSTAT=A
	CCEPTED:connect@tokeativity.com
ATTENDEE;CN="Debbi Spranza";CUTYPE=INDIVIDUAL;PARTSTAT=ACCEP
	TED:connect@tokeativity.com
ATTENDEE;CN="Kirstie Chadsey";CUTYPE=INDIVIDUAL;PARTSTAT=ACC
	EPTED:connect@tokeativity.com
ATTENDEE;CN="Lori DeCarlo";CUTYPE=INDIVIDUAL;PARTSTAT=ACCEPT
	ED:connect@tokeativity.com
ATTENDEE;CN="Joyce1965";CUTYPE=INDIVIDUAL;PARTSTAT=ACCEPTED:
	connect@tokeativity.com
ATTENDEE;CN="Takisha";CUTYPE=INDIVIDUAL;PARTSTAT=ACCEPTED:co
	nnect@tokeativity.com
ATTENDEE;CN="TheHorrorHippy";CUTYPE=INDIVIDUAL;PARTSTAT=ACCE
	PTED:connect@tokeativity.com
ATTENDEE;CN="ElyVedar";CUTYPE=INDIVIDUAL;PARTSTAT=ACCEPTED:c
	onnect@tokeativity.com
ATTENDEE;CN="MarijuanaWisdom";CUTYPE=INDIVIDUAL;PARTSTAT=ACC
	EPTED:connect@tokeativity.com
ATTENDEE;CN="Pax";CUTYPE=INDIVIDUAL;PARTSTAT=ACCEPTED:connec
	t@tokeativity.com
ATTENDEE;CN="Alex Leonárdos";CUTYPE=INDIVIDUAL;PARTSTAT=ACC
	EPTED:connect@tokeativity.com
ATTENDEE;CN="Sara Frank - OU Marketing";CUTYPE=INDIVIDUAL;PA
	RTSTAT=ACCEPTED:connect@tokeativity.com
ATTENDEE;CN="Beth Hemp Huntress";CUTYPE=INDIVIDUAL;PARTSTAT=
	ACCEPTED:connect@tokeativity.com
END:VEVENT
END:VCALENDAR
