BEGIN:VCALENDAR
VERSION:2.0
PRODID:-//IP.Board Calendar 4.7.5//EN
METHOD:PUBLISH
CALSCALE:GREGORIAN
X-WR-CALNAME:Tokeativity Calendar
BEGIN:VTIMEZONE
TZID:Europe/London
TZURL:http://tzurl.org/zoneinfo/Europe/London
X-LIC-LOCATION:Europe/London
BEGIN:DAYLIGHT
TZOFFSETFROM:+0000
TZOFFSETTO:+0100
TZNAME:BST
DTSTART:20220327T020000Z
RRULE:FREQ=YEARLY;BYMONTH=3;BYDAY=-1SU
END:DAYLIGHT
BEGIN:STANDARD
TZOFFSETFROM:+0100
TZOFFSETTO:+0000
TZNAME:GMT
DTSTART:20221030T020000Z
RRULE:FREQ=YEARLY;BYMONTH=10;BYDAY=-1SU
END:STANDARD
END:VTIMEZONE
BEGIN:VEVENT
SUMMARY:The Flower Power Tokeativity Social
DTSTAMP:20210824T171607Z
SEQUENCE:0
UID:490-1-2dead269adc02be51f2f7a68eeb17a98@tokeativity.com
ORGANIZER;CN="Wendy Mintey":connect@tokeativity.com
DESCRIPTION:\n	Date: Apr 20\, 2022\n\n	Time: 1 - 3pm Pacific / 4 - 6p
	m Eastern\n\n	Place: ONLINE\n\n\n\n	Place: ONLINE - RSVP for login detai
	ls and password\n\n	Cost: Free for Tokeativity Corporate\, Business &amp\;
	 Grassroots Members (Upgrade Your Membership)\n\n	Basic Members: Pay wha
	t you can\, sliding scale $0 - $25\n\n	 \n\n\n\n	ABOUT THE TOKEATIVITY® 
	SOCIAL\n\n\n\n	Coined \"A Beehive of Actives\" by Rolling Stone\, the Toke
	ativity® Social features 1-on-1 business speed networking\,\n\n	education
	al sessions\, workshops\, guest speakers and themed community sesh rooms.\
	n\n	Meet and network with other cannabis loving feminists from across the 
	globe.\n\n	Listen in or join the live conversation via chat\, audio or vid
	eo!\n\n\n\n	EVENT SCHEDULE\n\n\n\n	1 - 1:15p PDT / 4 - 4:15p EDT  - SPEED
	 NETWORKING Brought to you by Women Employed in Cannabis\n\n	1 - 2:05p PDT
	 / 4 - 5:05p EDT - Cannapreneurs Lounge Business Open Mic - Hosted by Bri
	ttany Parker @Naturalbrii\, Founder of A Green Legacy \n\n\n\n	1:15 - 2:0
	5p PDT / 4:15 - 5:05p EDT - MAIN STAGE EVENTS \n\n	1:15/4:15p - Opening R
	emarks with Tokeativity MC Lisa Snyder @Lisa Tokeativity Co-Founder &amp\
	; CIO \n\n	1:25/4:25p -  How to Start a Dispensary: A Black Woman's Per
	spective with Nicole Kennedy\, Co-Founder of Green Muse @Green Muse\n\n	1:
	45/4:45p - Running a Social Enterprise with Joy Hudson\, Co-Founder of Ni
	mble Distro\n\n\n\n	\n\n	2:05 - 2:45p PDT / 5:05 - 5:45p EDT - SESSIONS\n\
	n	BRIDGES - Courageous Conversations about Race\, Equity &amp\; Inclusion 
	 - Hosted by Tiffany Watkins @Tiffany Watkins &amp\; Mskindness B. Ramir
	ez @Mskindness B.\n\n	GROUP TOPIC: Open Conversation\n\n	How to Become a C
	annabis Social Media Influencer with The Mommy Jane @The Mommy Jane \n\n\
	n\n	2:45 - 3:00p PDT / 5:45 - 6:00p EDT - MAIN STAGE\n\n	Closing Remarks\,
	 Giveaways from Buds &amp\; Brushes\, Front Row Travels\, &amp\; More! \n
	\n\n\n	EXPO &amp\; TOKEATIVITY PHOTO BOOTH OPEN THROUGHOUT THE EVENT!\n\n	
	Don't forget to visit the photo booth and share your pics from the\n\n	#FL
	OWERPOWER Tokeativity Social and tag @tokeativity\n\n	for a chance to be f
	eatured! \n\n\n\n	\n\n\n\n	\n	INTERESTED IN SUPPORTING?\n\n\n\n	SPONSOR T
	HIS EVENT\n\n	Purchase a logo or link during registration for this or futu
	re events\n\n	\n\n	WORK WITH US - BECOME A CORPORATE OR BUSINESS MEMBER\n\
	n	Visit Tokeativity.com/collaborate or email connect@tokeativity.com\n\
	n\n\n	SUPPORT THE CANNABIS &amp\; FEMINISM MOVEMENT\n\n	Grassroots Members
	hips available for individuals - visit Tokeativity.com/members\n\n\n\n	REA
	D OUR WOMANIFESTO &amp\; LEARN MORE ABOUT OUR WORK\n\n\n\n	 \n\n\n\n	 \n
	\n\n\n	Tokeativity Has Been Featured In:\n\n\n\n	\n\n\n\n	 \n\n\n\n	 \n\
	n\n\n	 \n\n
DTSTART:20220420T200000Z
DTEND:20220420T220000Z
ATTENDEE;CN="talya";CUTYPE=INDIVIDUAL;PARTSTAT=ACCEPTED:conn
	ect@tokeativity.com
ATTENDEE;CN="tillerbbotkins";CUTYPE=INDIVIDUAL;PARTSTAT=ACCE
	PTED:connect@tokeativity.com
ATTENDEE;CN="Desi";CUTYPE=INDIVIDUAL;PARTSTAT=ACCEPTED:conne
	ct@tokeativity.com
ATTENDEE;CN="Beth Hemp Huntress";CUTYPE=INDIVIDUAL;PARTSTAT=
	ACCEPTED:connect@tokeativity.com
ATTENDEE;CN="otherworldwellness";CUTYPE=INDIVIDUAL;PARTSTAT=
	ACCEPTED:connect@tokeativity.com
ATTENDEE;CN="Wendy Mintey";CUTYPE=INDIVIDUAL;PARTSTAT=ACCEPT
	ED:connect@tokeativity.com
ATTENDEE;CN="Dana Miller";CUTYPE=INDIVIDUAL;PARTSTAT=ACCEPTE
	D:connect@tokeativity.com
ATTENDEE;CN="Katie p";CUTYPE=INDIVIDUAL;PARTSTAT=ACCEPTED:co
	nnect@tokeativity.com
ATTENDEE;CN="Allison Trimbell";CUTYPE=INDIVIDUAL;PARTSTAT=AC
	CEPTED:connect@tokeativity.com
ATTENDEE;CN="DottieJL";CUTYPE=INDIVIDUAL;PARTSTAT=ACCEPTED:c
	onnect@tokeativity.com
ATTENDEE;CN="Elevated vibes";CUTYPE=INDIVIDUAL;PARTSTAT=ACCE
	PTED:connect@tokeativity.com
ATTENDEE;CN="Asiankitty420";CUTYPE=INDIVIDUAL;PARTSTAT=ACCEP
	TED:connect@tokeativity.com
ATTENDEE;CN="HighFelicia";CUTYPE=INDIVIDUAL;PARTSTAT=ACCEPTE
	D:connect@tokeativity.com
ATTENDEE;CN="Shantilly";CUTYPE=INDIVIDUAL;PARTSTAT=ACCEPTED:
	connect@tokeativity.com
ATTENDEE;CN="Desirebleu";CUTYPE=INDIVIDUAL;PARTSTAT=ACCEPTED
	:connect@tokeativity.com
ATTENDEE;CN="Deserae";CUTYPE=INDIVIDUAL;PARTSTAT=ACCEPTED:co
	nnect@tokeativity.com
ATTENDEE;CN="SabrinaRace";CUTYPE=INDIVIDUAL;PARTSTAT=ACCEPTE
	D:connect@tokeativity.com
ATTENDEE;CN="MelissaB";CUTYPE=INDIVIDUAL;PARTSTAT=ACCEPTED:c
	onnect@tokeativity.com
ATTENDEE;CN="ashshafer";CUTYPE=INDIVIDUAL;PARTSTAT=ACCEPTED:
	connect@tokeativity.com
ATTENDEE;CN="Dacie";CUTYPE=INDIVIDUAL;PARTSTAT=ACCEPTED:conn
	ect@tokeativity.com
ATTENDEE;CN="JasmineTokesKaya";CUTYPE=INDIVIDUAL;PARTSTAT=AC
	CEPTED:connect@tokeativity.com
ATTENDEE;CN="MK2u";CUTYPE=INDIVIDUAL;PARTSTAT=ACCEPTED:conne
	ct@tokeativity.com
ATTENDEE;CN="Kaitlyn Fitzgerald";CUTYPE=INDIVIDUAL;PARTSTAT=
	ACCEPTED:connect@tokeativity.com
ATTENDEE;CN="Jana Stolins CannaSourePro";CUTYPE=INDIVIDUAL;P
	ARTSTAT=ACCEPTED:connect@tokeativity.com
ATTENDEE;CN="Lisa";CUTYPE=INDIVIDUAL;PARTSTAT=ACCEPTED:conne
	ct@tokeativity.com
ATTENDEE;CN="Peter Kasper";CUTYPE=INDIVIDUAL;PARTSTAT=ACCEPT
	ED:connect@tokeativity.com
ATTENDEE;CN="Smoke Break Clay";CUTYPE=INDIVIDUAL;PARTSTAT=AC
	CEPTED:connect@tokeativity.com
ATTENDEE;CN="Blaze";CUTYPE=INDIVIDUAL;PARTSTAT=ACCEPTED:conn
	ect@tokeativity.com
ATTENDEE;CN="ripcitybitty";CUTYPE=INDIVIDUAL;PARTSTAT=ACCEPT
	ED:connect@tokeativity.com
ATTENDEE;CN="Alisha Lamore";CUTYPE=INDIVIDUAL;PARTSTAT=ACCEP
	TED:connect@tokeativity.com
ATTENDEE;CN="Anika at Trigger Hippie Co";CUTYPE=INDIVIDUAL;P
	ARTSTAT=ACCEPTED:connect@tokeativity.com
ATTENDEE;CN="Francesca Astino";CUTYPE=INDIVIDUAL;PARTSTAT=AC
	CEPTED:connect@tokeativity.com
ATTENDEE;CN="Kaya Harvest";CUTYPE=INDIVIDUAL;PARTSTAT=ACCEPT
	ED:connect@tokeativity.com
ATTENDEE;CN="Amanda Reiman";CUTYPE=INDIVIDUAL;PARTSTAT=ACCEP
	TED:connect@tokeativity.com
ATTENDEE;CN="Bevin";CUTYPE=INDIVIDUAL;PARTSTAT=ACCEPTED:conn
	ect@tokeativity.com
ATTENDEE;CN="Julie E. Creative";CUTYPE=INDIVIDUAL;PARTSTAT=A
	CCEPTED:connect@tokeativity.com
ATTENDEE;CN="Nicole Weber";CUTYPE=INDIVIDUAL;PARTSTAT=ACCEPT
	ED:connect@tokeativity.com
ATTENDEE;CN="KimTavernier";CUTYPE=INDIVIDUAL;PARTSTAT=ACCEPT
	ED:connect@tokeativity.com
ATTENDEE;CN="Pax";CUTYPE=INDIVIDUAL;PARTSTAT=ACCEPTED:connec
	t@tokeativity.com
ATTENDEE;CN="Karen Annette Byars";CUTYPE=INDIVIDUAL;PARTSTAT
	=ACCEPTED:connect@tokeativity.com
ATTENDEE;CN="Leigh Breslin";CUTYPE=INDIVIDUAL;PARTSTAT=ACCEP
	TED:connect@tokeativity.com
ATTENDEE;CN="Danielle Simone Brand";CUTYPE=INDIVIDUAL;PARTST
	AT=ACCEPTED:connect@tokeativity.com
ATTENDEE;CN="Kyra Reed";CUTYPE=INDIVIDUAL;PARTSTAT=ACCEPTED:
	connect@tokeativity.com
ATTENDEE;CN="Keiko Beatie";CUTYPE=INDIVIDUAL;PARTSTAT=ACCEPT
	ED:connect@tokeativity.com
ATTENDEE;CN="Marissa Rodriguez";CUTYPE=INDIVIDUAL;PARTSTAT=A
	CCEPTED:connect@tokeativity.com
ATTENDEE;CN="Green Muse";CUTYPE=INDIVIDUAL;PARTSTAT=ACCEPTED
	:connect@tokeativity.com
ATTENDEE;CN="Joy Hudson";CUTYPE=INDIVIDUAL;PARTSTAT=ACCEPTED
	:connect@tokeativity.com
ATTENDEE;CN="Naturalbrii";CUTYPE=INDIVIDUAL;PARTSTAT=ACCEPTE
	D:connect@tokeativity.com
ATTENDEE;CN="Tiffany Watkins";CUTYPE=INDIVIDUAL;PARTSTAT=ACC
	EPTED:connect@tokeativity.com
ATTENDEE;CN="catleathers";CUTYPE=INDIVIDUAL;PARTSTAT=ACCEPTE
	D:connect@tokeativity.com
ATTENDEE;CN="California Birthday";CUTYPE=INDIVIDUAL;PARTSTAT
	=ACCEPTED:connect@tokeativity.com
ATTENDEE;CN="Joyce1965";CUTYPE=INDIVIDUAL;PARTSTAT=ACCEPTED:
	connect@tokeativity.com
ATTENDEE;CN="wborman";CUTYPE=INDIVIDUAL;PARTSTAT=ACCEPTED:co
	nnect@tokeativity.com
ATTENDEE;CN="Sara Frank - OU Marketing";CUTYPE=INDIVIDUAL;PA
	RTSTAT=ACCEPTED:connect@tokeativity.com
ATTENDEE;CN="Julie U";CUTYPE=INDIVIDUAL;PARTSTAT=ACCEPTED:co
	nnect@tokeativity.com
ATTENDEE;CN="Comfortably Numb";CUTYPE=INDIVIDUAL;PARTSTAT=AC
	CEPTED:connect@tokeativity.com
ATTENDEE;CN="Mary Stuart";CUTYPE=INDIVIDUAL;PARTSTAT=ACCEPTE
	D:connect@tokeativity.com
ATTENDEE;CN="Kim Davis";CUTYPE=INDIVIDUAL;PARTSTAT=ACCEPTED:
	connect@tokeativity.com
ATTENDEE;CN="Jennifer Pardey";CUTYPE=INDIVIDUAL;PARTSTAT=ACC
	EPTED:connect@tokeativity.com
ATTENDEE;CN="Mark Taylor-Canfield";CUTYPE=INDIVIDUAL;PARTSTA
	T=ACCEPTED:connect@tokeativity.com
END:VEVENT
END:VCALENDAR
