BEGIN:VCALENDAR
VERSION:2.0
PRODID:-//IP.Board Calendar 4.7.5//EN
METHOD:PUBLISH
CALSCALE:GREGORIAN
X-WR-CALNAME:Tokeativity Calendar
BEGIN:VTIMEZONE
TZID:Europe/London
TZURL:http://tzurl.org/zoneinfo/Europe/London
X-LIC-LOCATION:Europe/London
BEGIN:DAYLIGHT
TZOFFSETFROM:+0000
TZOFFSETTO:+0100
TZNAME:BST
DTSTART:20220327T020000Z
RRULE:FREQ=YEARLY;BYMONTH=3;BYDAY=-1SU
END:DAYLIGHT
BEGIN:STANDARD
TZOFFSETFROM:+0100
TZOFFSETTO:+0000
TZNAME:GMT
DTSTART:20221030T020000Z
RRULE:FREQ=YEARLY;BYMONTH=10;BYDAY=-1SU
END:STANDARD
END:VTIMEZONE
BEGIN:VEVENT
SUMMARY:The Love Yourself MoreTokeativity Social
DTSTAMP:20210824T171208Z
SEQUENCE:0
UID:488-1-2dead269adc02be51f2f7a68eeb17a98@tokeativity.com
ORGANIZER;CN="Wendy Mintey":connect@tokeativity.com
DESCRIPTION:\n	Date: Feb 12\, 2022\n\n	Time: 3 - 5pm Pacific / 6 - 8
	pm Eastern\n\n	Place: ONLINE\n\n\n\n	Place: ONLINE - RSVP for login deta
	ils and password\n\n	Cost: Free for Tokeativity Corporate\, Business &amp\
	; Grassroots Members (Upgrade Your Membership)\n\n	Basic Members: Pay wh
	at you can\, sliding scale $0 - $25\n\n	 \n\n\n\n	ABOUT THE TOKEATIVITY®
	 SOCIAL\n\n\n\n	Coined \"A Beehive of Actives\" by Rolling Stone\, the Tok
	eativity® Social features 1-on-1 business speed networking\,\n\n	educatio
	nal sessions\, workshops\, guest speakers and themed community sesh rooms.
	\n\n	Meet and network with other cannabis loving feminists from across the
	 globe.\n\n	Listen in or join the live conversation via chat\, audio or vi
	deo!\n\n\n\n	 \n\n\n\n	EVENT SCHEDULE\n	\n	3:00p PST / 6:00p EST  - MAI
	N STAGE EVENTS\n	3:00/6:00p - Opening Remarks with Tokeativity MC Lisa S
	nyder @Lisa Tokeativity Co-Founder &amp\; CIO \n\n	3:08/6:08p - Cannabis
	's Effects on Covid-19\, Cancer and other Dis-eases with Sasha Kalcheff-Ko
	rn\, Executive Director of Realm of Caring \n\n	3:29/6:29p - Breast Canc
	er and Balance with Dr. Bridget Williams\, MD @Dr. Bridget Williams\n\n\n\
	n	\n	3:30p PDT / 6:30p EDT - SESSIONS\n	BRIDGES - Courageous Conversations
	 about Race\, Equity &amp\; Inclusion  - Hosted by Mskindness B. Ramire
	z @Mskindness B. &amp\; Tiffany Watkins @Tiffany Watkins\n	GROUP TOPIC
	: Love My Black Neighbor as I Love Myself\n	Self-care Tips for Women Over 
	50  - Hosted by Suzanne Kludt\, Founder of Glass Cardinal @Suzanne Klu
	dt &amp\; Heather James\, Tokeativity HQ @Heather James\n\n\n\n	\n	4:10p 
	PDT / 7:10p EDT - SESSIONS\n	CannaMom's Sesh - Hosted by Brittany Parker\
	, Founder of A Green Legacy @Naturalbrii\n	Cannapreneur Lounge - Hosted b
	y Casey Wiser\, COO Tokeativity @Casey@Tokeativity\n	\n	\n	4:50p PDT / 7:5
	0p EDT - MAIN STAGE\n	Closing Remarks\, Giveaways from Front Row Travels\,
	 SWAY x Barbari &amp\; More! \n	\n	EXPO &amp\; TOKEATIVITY PHOTO BOOTH OP
	EN THROUGHOUT THE EVENT!\n	Don't forget to visit the photo booth and share
	 your pics from the\n	#LoveYourselfMore Tokeativity Social and tag @toke
	ativity\n	for a chance to be featured! \n\n\n\n	\n	\n\n\n\n	 \n\n\n\n	IN
	TERESTED IN SUPPORTING?\n\n\n\n	SPONSOR THIS EVENT\n\n	Purchase a logo or 
	link during registration for this or future events\n\n	\n\n	WORK WITH US -
	 BECOME A CORPORATE OR BUSINESS MEMBER\n\n	Visit Tokeativity.com/collabor
	ate or email connect@tokeativity.com\n\n\n\n	SUPPORT THE CANNABIS &amp\;
	 FEMINISM MOVEMENT\n\n	Grassroots Memberships available for individuals - 
	visit Tokeativity.com/members\n\n\n\n	READ OUR WOMANIFESTO &amp\; LEARN MO
	RE ABOUT OUR WORK\n\n\n\n	 \n\n\n\n	 \n\n\n\n	Tokeativity Has Been Featu
	red In:\n\n\n\n	\n\n\n\n	 \n\n\n\n	 \n\n\n\n	 \n\n
DTSTART:20220212T230000Z
DTEND:20220213T010000Z
ATTENDEE;CN="Kim Davis";CUTYPE=INDIVIDUAL;PARTSTAT=ACCEPTED:
	connect@tokeativity.com
ATTENDEE;CN="Lisa";CUTYPE=INDIVIDUAL;PARTSTAT=ACCEPTED:conne
	ct@tokeativity.com
ATTENDEE;CN="MelissaM";CUTYPE=INDIVIDUAL;PARTSTAT=ACCEPTED:c
	onnect@tokeativity.com
ATTENDEE;CN="Rose Glow Tea Room";CUTYPE=INDIVIDUAL;PARTSTAT=
	ACCEPTED:connect@tokeativity.com
ATTENDEE;CN="TokusSoakus";CUTYPE=INDIVIDUAL;PARTSTAT=ACCEPTE
	D:connect@tokeativity.com
ATTENDEE;CN="Front Row Travels";CUTYPE=INDIVIDUAL;PARTSTAT=A
	CCEPTED:connect@tokeativity.com
ATTENDEE;CN="plantsfor_persephone";CUTYPE=INDIVIDUAL;PARTSTA
	T=ACCEPTED:connect@tokeativity.com
ATTENDEE;CN="ripcitybitty";CUTYPE=INDIVIDUAL;PARTSTAT=ACCEPT
	ED:connect@tokeativity.com
ATTENDEE;CN="NydiaZTCWC";CUTYPE=INDIVIDUAL;PARTSTAT=ACCEPTED
	:connect@tokeativity.com
ATTENDEE;CN="Julie E. Creative";CUTYPE=INDIVIDUAL;PARTSTAT=A
	CCEPTED:connect@tokeativity.com
ATTENDEE;CN="JasmineTokesKaya";CUTYPE=INDIVIDUAL;PARTSTAT=AC
	CEPTED:connect@tokeativity.com
ATTENDEE;CN="firedupfairy";CUTYPE=INDIVIDUAL;PARTSTAT=ACCEPT
	ED:connect@tokeativity.com
ATTENDEE;CN="Peachy T";CUTYPE=INDIVIDUAL;PARTSTAT=ACCEPTED:c
	onnect@tokeativity.com
ATTENDEE;CN="Rochelle K";CUTYPE=INDIVIDUAL;PARTSTAT=ACCEPTED
	:connect@tokeativity.com
ATTENDEE;CN="Debbi Spranza";CUTYPE=INDIVIDUAL;PARTSTAT=ACCEP
	TED:connect@tokeativity.com
ATTENDEE;CN="rnmbact";CUTYPE=INDIVIDUAL;PARTSTAT=ACCEPTED:co
	nnect@tokeativity.com
ATTENDEE;CN="Keiko Beatie";CUTYPE=INDIVIDUAL;PARTSTAT=ACCEPT
	ED:connect@tokeativity.com
ATTENDEE;CN="Takisha";CUTYPE=INDIVIDUAL;PARTSTAT=ACCEPTED:co
	nnect@tokeativity.com
ATTENDEE;CN="Heather James";CUTYPE=INDIVIDUAL;PARTSTAT=ACCEP
	TED:connect@tokeativity.com
ATTENDEE;CN="Reina";CUTYPE=INDIVIDUAL;PARTSTAT=ACCEPTED:conn
	ect@tokeativity.com
ATTENDEE;CN="Desi";CUTYPE=INDIVIDUAL;PARTSTAT=ACCEPTED:conne
	ct@tokeativity.com
ATTENDEE;CN="Lotusblissbotanicals";CUTYPE=INDIVIDUAL;PARTSTA
	T=ACCEPTED:connect@tokeativity.com
ATTENDEE;CN="CincyMomBuds";CUTYPE=INDIVIDUAL;PARTSTAT=ACCEPT
	ED:connect@tokeativity.com
ATTENDEE;CN="Amanda Rogers";CUTYPE=INDIVIDUAL;PARTSTAT=ACCEP
	TED:connect@tokeativity.com
ATTENDEE;CN="TheMaryJaneMaven";CUTYPE=INDIVIDUAL;PARTSTAT=AC
	CEPTED:connect@tokeativity.com
ATTENDEE;CN="Kiara";CUTYPE=INDIVIDUAL;PARTSTAT=ACCEPTED:conn
	ect@tokeativity.com
ATTENDEE;CN="ladylabyrinthine";CUTYPE=INDIVIDUAL;PARTSTAT=AC
	CEPTED:connect@tokeativity.com
ATTENDEE;CN="Blaze";CUTYPE=INDIVIDUAL;PARTSTAT=ACCEPTED:conn
	ect@tokeativity.com
ATTENDEE;CN="Miriam";CUTYPE=INDIVIDUAL;PARTSTAT=ACCEPTED:con
	nect@tokeativity.com
ATTENDEE;CN="Karen Annette Byars";CUTYPE=INDIVIDUAL;PARTSTAT
	=ACCEPTED:connect@tokeativity.com
ATTENDEE;CN="Dori";CUTYPE=INDIVIDUAL;PARTSTAT=ACCEPTED:conne
	ct@tokeativity.com
ATTENDEE;CN="Desirebleu";CUTYPE=INDIVIDUAL;PARTSTAT=ACCEPTED
	:connect@tokeativity.com
ATTENDEE;CN="Izzi Clawson";CUTYPE=INDIVIDUAL;PARTSTAT=ACCEPT
	ED:connect@tokeativity.com
ATTENDEE;CN="talya";CUTYPE=INDIVIDUAL;PARTSTAT=ACCEPTED:conn
	ect@tokeativity.com
ATTENDEE;CN="sallyisabel";CUTYPE=INDIVIDUAL;PARTSTAT=ACCEPTE
	D:connect@tokeativity.com
ATTENDEE;CN="emeraldtempleliving";CUTYPE=INDIVIDUAL;PARTSTAT
	=ACCEPTED:connect@tokeativity.com
ATTENDEE;CN="Wendy Mintey";CUTYPE=INDIVIDUAL;PARTSTAT=ACCEPT
	ED:connect@tokeativity.com
ATTENDEE;CN="Beth Hemp Huntress";CUTYPE=INDIVIDUAL;PARTSTAT=
	ACCEPTED:connect@tokeativity.com
ATTENDEE;CN="Melanie perez";CUTYPE=INDIVIDUAL;PARTSTAT=ACCEP
	TED:connect@tokeativity.com
ATTENDEE;CN="Thesallymander";CUTYPE=INDIVIDUAL;PARTSTAT=ACCE
	PTED:connect@tokeativity.com
ATTENDEE;CN="Deserae";CUTYPE=INDIVIDUAL;PARTSTAT=ACCEPTED:co
	nnect@tokeativity.com
ATTENDEE;CN="Sami Micelli";CUTYPE=INDIVIDUAL;PARTSTAT=ACCEPT
	ED:connect@tokeativity.com
END:VEVENT
END:VCALENDAR
