BEGIN:VCALENDAR
VERSION:2.0
PRODID:-//IP.Board Calendar 4.7.5//EN
METHOD:PUBLISH
CALSCALE:GREGORIAN
X-WR-CALNAME:Tokeativity Calendar
BEGIN:VTIMEZONE
TZID:Europe/London
TZURL:http://tzurl.org/zoneinfo/Europe/London
X-LIC-LOCATION:Europe/London
BEGIN:DAYLIGHT
TZOFFSETFROM:+0000
TZOFFSETTO:+0100
TZNAME:BST
DTSTART:20210328T020000Z
RRULE:FREQ=YEARLY;BYMONTH=3;BYDAY=-1SU
END:DAYLIGHT
BEGIN:STANDARD
TZOFFSETFROM:+0100
TZOFFSETTO:+0000
TZNAME:GMT
DTSTART:20211031T020000Z
RRULE:FREQ=YEARLY;BYMONTH=10;BYDAY=-1SU
END:STANDARD
END:VTIMEZONE
BEGIN:VEVENT
SUMMARY:The Holidaze Tokeativity Social
DTSTAMP:20210818T034558Z
SEQUENCE:0
UID:486-1-2dead269adc02be51f2f7a68eeb17a98@tokeativity.com
ORGANIZER;CN="Wendy Mintey":connect@tokeativity.com
DESCRIPTION:\n	Date: Dec 15\, 2021\n\n	Time: 1 - 3pm Pacific / 4 - 6
	pm Eastern\n\n	Place: ONLINE\n\n\n\n	Place: ONLINE - RSVP for login deta
	ils and password\n\n	Cost: Free for Tokeativity Corporate\, Business &amp\
	; Grassroots Members (Upgrade Your Membership)\n\n	Basic Members: Pay wh
	at you can\, sliding scale $0 - $25\n\n	 \n\n\n\n	ABOUT THE TOKEATIVITY®
	 SOCIAL\n\n\n\n	Coined \"A Beehive of Actives\" by Rolling Stone\, the Tok
	eativity® Social features 1-on-1 business speed networking\,\n\n	educatio
	nal sessions\, workshops\, guest speakers and themed community sesh rooms.
	\n\n	Meet and network with other cannabis loving feminists from across the
	 globe.\n\n	Listen in or join the live conversation via chat\, audio or vi
	deo!\n\n	 \n\n\n\n	EVENT SCHEDULE\n	\n	1:00p PDT / 4p EDT - MAIN STAGE EV
	ENTS\n	1:00/4:00p - Opening Remarks with Holidaze MC @Lisa Snyder\, Tokea
	tivity Co-Founder &amp\; CIO\n\n	1:10/4:10p -How to Create a Buzz for Your
	 Biz with @Doreen Sullivan Founder of My Bud Vase\n\n	1:30/4:30p - Consc
	ious Consumption with Mary Hines\, Founder of @JTT Accessories\n\n	1:50/4
	:50p - Cannabis in Texas: A Queer Latina's Perspective Live interview wit
	h Jae Graham\, Founder of MARYJAE®\n\n	2:10/5:10p - The Art of Being You
	rself through Social Media &amp\; Branding with Harlee Case\, Co-Founder o
	f Ladies of Paradise &amp\; Lady Jays\n\n	*Special Live Musical Performanc
	e*\n	\n	1:30p PDT / 4:30p EDT - SESSIONS\n	Speed Networking - Connect wit
	h others in a rapid 5 min random session\n	Sourcing Quality Products for y
	our Online Shop - Workshop hosted by Eliza Torres  @Lit and Luxury\n	C
	ommunity Open Mic &amp\; Toke - Hosted by Tokeativity CCL\, @Wendy Mintey
	\n	TOPIC: Holiday Rituals \n	BRIDGES - Black Owned Open Mic- Hosted by @
	Mskindness B. &amp\; @Tiffany Watkins\n\n	TOPIC: What We Really Mean Whe
	n We Say \"Shop Black Owned\" \n	\n	\n	2:10p PDT / 5:10p EDT - SESSIONS\n
		CannaMom's Sesh - Hosted by @Suzanne Kludt Co-Founder of Glass Cardina
	l &amp\; @Samantha Montanaro\, Co-Founder &amp\; CEO of Tokeativity\n	Ca
	nna Bella Lux Gift Guide - with Founder\, @Tiffany (Canna Bella Lux) &a
	mp\; Jenae Williams @Jayewill\n	Business Open Mic &amp\; Toke - Hosted by
	 A Green Legacy @Naturalbrii\n\n	\n	\n	2:50p PDT / 5:50p EDT - MAIN STAGE
	\n	Closing Remarks\, Studio Linear x Tokeativity DOPE Design Winner Announ
	cement &amp\; Giveaways!\n	\n	EXPO &amp\; TOKEATIVITY PHOTO BOOTH OPEN TH
	ROUGHOUT THE EVENT!\n	Don't forget to visit the photo booth and share your
	 pics from the\n	#Holidaze Tokeativity Social and tag @tokeativity\n	for
	 a chance to be featured! \n\n\n\n	\n	INTERESTED IN SUPPORTING?\n\n\n\n	S
	PONSOR THIS EVENT\n\n	Purchase a logo or link during registration for this
	 or future events\n\n	\n\n	WORK WITH US - BECOME A CORPORATE OR BUSINESS M
	EMBER\n\n	Visit Tokeativity.com/collaborate or email connect@tokeativit
	y.com\n\n\n\n	SUPPORT THE CANNABIS &amp\; FEMINISM MOVEMENT\n\n	Grassroots
	 Memberships available for individuals - visit Tokeativity.com/members\n\n
	\n\n	READ OUR WOMANIFESTO &amp\; LEARN MORE ABOUT OUR WORK\n\n\n\n	 \n\n\
	n\n	 \n\n\n\n	Tokeativity Has Been Featured In:\n\n\n\n	\n\n\n\n	 \n\n\n
	\n	 \n\n\n\n	 \n\n\n\n	\n\n
DTSTART:20211215T210000Z
DTEND:20211215T230000Z
ATTENDEE;CN="Ana MacDuff";CUTYPE=INDIVIDUAL;PARTSTAT=ACCEPTE
	D:connect@tokeativity.com
ATTENDEE;CN="Andrea at Studio Linear";CUTYPE=INDIVIDUAL;PART
	STAT=ACCEPTED:connect@tokeativity.com
ATTENDEE;CN="Desirebleu";CUTYPE=INDIVIDUAL;PARTSTAT=ACCEPTED
	:connect@tokeativity.com
ATTENDEE;CN="Kim Davis";CUTYPE=INDIVIDUAL;PARTSTAT=ACCEPTED:
	connect@tokeativity.com
ATTENDEE;CN="rnmbact";CUTYPE=INDIVIDUAL;PARTSTAT=ACCEPTED:co
	nnect@tokeativity.com
ATTENDEE;CN="Debbi Spranza";CUTYPE=INDIVIDUAL;PARTSTAT=ACCEP
	TED:connect@tokeativity.com
ATTENDEE;CN="Julie E. Creative";CUTYPE=INDIVIDUAL;PARTSTAT=A
	CCEPTED:connect@tokeativity.com
ATTENDEE;CN="Wendy Mintey";CUTYPE=INDIVIDUAL;PARTSTAT=ACCEPT
	ED:connect@tokeativity.com
ATTENDEE;CN="HolistiCann";CUTYPE=INDIVIDUAL;PARTSTAT=ACCEPTE
	D:connect@tokeativity.com
ATTENDEE;CN="JTT Accessories";CUTYPE=INDIVIDUAL;PARTSTAT=ACC
	EPTED:connect@tokeativity.com
ATTENDEE;CN="Elle Rahman\, Astral Treats";CUTYPE=INDIVIDUAL;
	PARTSTAT=ACCEPTED:connect@tokeativity.com
ATTENDEE;CN="Staci Weller";CUTYPE=INDIVIDUAL;PARTSTAT=ACCEPT
	ED:connect@tokeativity.com
ATTENDEE;CN="Kate Johnson";CUTYPE=INDIVIDUAL;PARTSTAT=ACCEPT
	ED:connect@tokeativity.com
ATTENDEE;CN="CMAGMT";CUTYPE=INDIVIDUAL;PARTSTAT=ACCEPTED:con
	nect@tokeativity.com
ATTENDEE;CN="Stacey St.louis";CUTYPE=INDIVIDUAL;PARTSTAT=ACC
	EPTED:connect@tokeativity.com
ATTENDEE;CN="Sami Micelli";CUTYPE=INDIVIDUAL;PARTSTAT=ACCEPT
	ED:connect@tokeativity.com
ATTENDEE;CN="Lisa";CUTYPE=INDIVIDUAL;PARTSTAT=ACCEPTED:conne
	ct@tokeativity.com
ATTENDEE;CN="JasmineTokesKaya";CUTYPE=INDIVIDUAL;PARTSTAT=AC
	CEPTED:connect@tokeativity.com
ATTENDEE;CN="puffherbalsmokes";CUTYPE=INDIVIDUAL;PARTSTAT=AC
	CEPTED:connect@tokeativity.com
ATTENDEE;CN="Heather Shelton";CUTYPE=INDIVIDUAL;PARTSTAT=ACC
	EPTED:connect@tokeativity.com
ATTENDEE;CN="Hustle Hard Media LLC";CUTYPE=INDIVIDUAL;PARTST
	AT=ACCEPTED:connect@tokeativity.com
ATTENDEE;CN="talya";CUTYPE=INDIVIDUAL;PARTSTAT=ACCEPTED:conn
	ect@tokeativity.com
ATTENDEE;CN="Linnea Helvie";CUTYPE=INDIVIDUAL;PARTSTAT=ACCEP
	TED:connect@tokeativity.com
ATTENDEE;CN="Jamie Kay";CUTYPE=INDIVIDUAL;PARTSTAT=ACCEPTED:
	connect@tokeativity.com
ATTENDEE;CN="Desi";CUTYPE=INDIVIDUAL;PARTSTAT=ACCEPTED:conne
	ct@tokeativity.com
ATTENDEE;CN="Kyra Reed";CUTYPE=INDIVIDUAL;PARTSTAT=ACCEPTED:
	connect@tokeativity.com
ATTENDEE;CN="Liv Vasquez";CUTYPE=INDIVIDUAL;PARTSTAT=ACCEPTE
	D:connect@tokeativity.com
ATTENDEE;CN="Ashleigh";CUTYPE=INDIVIDUAL;PARTSTAT=ACCEPTED:c
	onnect@tokeativity.com
ATTENDEE;CN="Celenise";CUTYPE=INDIVIDUAL;PARTSTAT=ACCEPTED:c
	onnect@tokeativity.com
ATTENDEE;CN="Amy Chin";CUTYPE=INDIVIDUAL;PARTSTAT=ACCEPTED:c
	onnect@tokeativity.com
ATTENDEE;CN="Yvonne";CUTYPE=INDIVIDUAL;PARTSTAT=ACCEPTED:con
	nect@tokeativity.com
ATTENDEE;CN="Kaya Harvest";CUTYPE=INDIVIDUAL;PARTSTAT=ACCEPT
	ED:connect@tokeativity.com
ATTENDEE;CN="Hannah Atkins";CUTYPE=INDIVIDUAL;PARTSTAT=ACCEP
	TED:connect@tokeativity.com
ATTENDEE;CN="Melissa Sanseverino-Alliso";CUTYPE=INDIVIDUAL;P
	ARTSTAT=ACCEPTED:connect@tokeativity.com
ATTENDEE;CN="Jill G";CUTYPE=INDIVIDUAL;PARTSTAT=ACCEPTED:con
	nect@tokeativity.com
ATTENDEE;CN="MelissaB";CUTYPE=INDIVIDUAL;PARTSTAT=ACCEPTED:c
	onnect@tokeativity.com
ATTENDEE;CN="mssplendasweetnlow";CUTYPE=INDIVIDUAL;PARTSTAT=
	ACCEPTED:connect@tokeativity.com
ATTENDEE;CN="Taiya";CUTYPE=INDIVIDUAL;PARTSTAT=ACCEPTED:conn
	ect@tokeativity.com
ATTENDEE;CN="Hawbaked";CUTYPE=INDIVIDUAL;PARTSTAT=ACCEPTED:c
	onnect@tokeativity.com
ATTENDEE;CN="Jennifer Pardey";CUTYPE=INDIVIDUAL;PARTSTAT=ACC
	EPTED:connect@tokeativity.com
ATTENDEE;CN="Pax";CUTYPE=INDIVIDUAL;PARTSTAT=ACCEPTED:connec
	t@tokeativity.com
ATTENDEE;CN="selobo";CUTYPE=INDIVIDUAL;PARTSTAT=ACCEPTED:con
	nect@tokeativity.com
ATTENDEE;CN="Linda Seebohar";CUTYPE=INDIVIDUAL;PARTSTAT=ACCE
	PTED:connect@tokeativity.com
ATTENDEE;CN="LadyBPJ";CUTYPE=INDIVIDUAL;PARTSTAT=ACCEPTED:co
	nnect@tokeativity.com
ATTENDEE;CN="Debbie Gonzales";CUTYPE=INDIVIDUAL;PARTSTAT=ACC
	EPTED:connect@tokeativity.com
ATTENDEE;CN="Erin Purchase";CUTYPE=INDIVIDUAL;PARTSTAT=ACCEP
	TED:connect@tokeativity.com
ATTENDEE;CN="GinaP1999";CUTYPE=INDIVIDUAL;PARTSTAT=ACCEPTED:
	connect@tokeativity.com
ATTENDEE;CN="Blaze";CUTYPE=INDIVIDUAL;PARTSTAT=ACCEPTED:conn
	ect@tokeativity.com
ATTENDEE;CN="Milly";CUTYPE=INDIVIDUAL;PARTSTAT=ACCEPTED:conn
	ect@tokeativity.com
ATTENDEE;CN="Hannah Wolfram";CUTYPE=INDIVIDUAL;PARTSTAT=ACCE
	PTED:connect@tokeativity.com
ATTENDEE;CN="Maps Bolt";CUTYPE=INDIVIDUAL;PARTSTAT=ACCEPTED:
	connect@tokeativity.com
ATTENDEE;CN="RosaEvie";CUTYPE=INDIVIDUAL;PARTSTAT=ACCEPTED:c
	onnect@tokeativity.com
ATTENDEE;CN="mmvintage59";CUTYPE=INDIVIDUAL;PARTSTAT=ACCEPTE
	D:connect@tokeativity.com
ATTENDEE;CN="Joyce1965";CUTYPE=INDIVIDUAL;PARTSTAT=ACCEPTED:
	connect@tokeativity.com
ATTENDEE;CN="Taye Maat";CUTYPE=INDIVIDUAL;PARTSTAT=ACCEPTED:
	connect@tokeativity.com
ATTENDEE;CN="Sarah_Omlie";CUTYPE=INDIVIDUAL;PARTSTAT=ACCEPTE
	D:connect@tokeativity.com
ATTENDEE;CN="Jane Daly";CUTYPE=INDIVIDUAL;PARTSTAT=ACCEPTED:
	connect@tokeativity.com
ATTENDEE;CN="Comfortably Numb";CUTYPE=INDIVIDUAL;PARTSTAT=AC
	CEPTED:connect@tokeativity.com
ATTENDEE;CN="Maryjanes VA";CUTYPE=INDIVIDUAL;PARTSTAT=ACCEPT
	ED:connect@tokeativity.com
ATTENDEE;CN="ripcitybitty";CUTYPE=INDIVIDUAL;PARTSTAT=ACCEPT
	ED:connect@tokeativity.com
ATTENDEE;CN="Sunnie Rizzolo";CUTYPE=INDIVIDUAL;PARTSTAT=ACCE
	PTED:connect@tokeativity.com
ATTENDEE;CN="Lauren_";CUTYPE=INDIVIDUAL;PARTSTAT=ACCEPTED:co
	nnect@tokeativity.com
ATTENDEE;CN="Georgia.marinkovich";CUTYPE=INDIVIDUAL;PARTSTAT
	=ACCEPTED:connect@tokeativity.com
ATTENDEE;CN="Xandréa J- 420 Mama Yogi";CUTYPE=INDIVIDUAL;PA
	RTSTAT=ACCEPTED:connect@tokeativity.com
ATTENDEE;CN="Alisha Lamore";CUTYPE=INDIVIDUAL;PARTSTAT=ACCEP
	TED:connect@tokeativity.com
ATTENDEE;CN="ChloLou";CUTYPE=INDIVIDUAL;PARTSTAT=ACCEPTED:co
	nnect@tokeativity.com
END:VEVENT
END:VCALENDAR
