BEGIN:VCALENDAR
VERSION:2.0
PRODID:-//IP.Board Calendar 4.7.5//EN
METHOD:PUBLISH
CALSCALE:GREGORIAN
X-WR-CALNAME:Tokeativity Calendar
BEGIN:VTIMEZONE
TZID:Europe/London
TZURL:http://tzurl.org/zoneinfo/Europe/London
X-LIC-LOCATION:Europe/London
BEGIN:DAYLIGHT
TZOFFSETFROM:+0000
TZOFFSETTO:+0100
TZNAME:BST
DTSTART:20210328T020000Z
RRULE:FREQ=YEARLY;BYMONTH=3;BYDAY=-1SU
END:DAYLIGHT
BEGIN:STANDARD
TZOFFSETFROM:+0100
TZOFFSETTO:+0000
TZNAME:GMT
DTSTART:20211031T020000Z
RRULE:FREQ=YEARLY;BYMONTH=10;BYDAY=-1SU
END:STANDARD
END:VTIMEZONE
BEGIN:VEVENT
SUMMARY:The Creative Culinary Tokeativity Social
DTSTAMP:20210818T033259Z
SEQUENCE:0
UID:485-1-2dead269adc02be51f2f7a68eeb17a98@tokeativity.com
ORGANIZER;CN="Wendy Mintey":connect@tokeativity.com
DESCRIPTION:\n	Date: Nov 17\, 2021\nTime: 2 - 4pm Pacific / 5 - 7pm 
	Eastern\nPlace: ONLINE\n\n\n\n	Place: ONLINE - RSVP for login details an
	d password\nCost: Free for Tokeativity Corporate\, Business &amp\; Grassro
	ots Members (Upgrade Your Membership)\nBasic Members: Pay what you can\,
	 sliding scale $0 - $25\n\n	 \n\n\n\n	ABOUT THE TOKEATIVITY® SOCIAL\n\n\
	n\n	Coined \"A Beehive of Actives\" by Rolling Stone\, the Tokeativity® S
	ocial features 1-on-1 business speed networking\,\n\n	educational sessions
	\, workshops\, guest speakers and themed community sesh rooms.\n\n	Meet an
	d network with other cannabis loving feminists from across the globe.\n\n	
	Listen in or join the live conversation via chat\, audio or video!\n\n\n\n
		\nEVENT SCHEDULE2:00p PDT / 5p EDT - MAIN STAGEOpening Remarks &amp\; Key
	note Speaker Chef Liv Vasquez @Livviesmalls2:25p PDT / 5:25p EDT - SESSIO
	NSSpeed Networking - Connect with others in a rapid 5 min random sessionH
	ealing Crohn's Disease through Cannabis  - Hosted by Chef Jazmine Moore
	 @Greenpantherchef\nTips for Safe &amp\; Confident Edible Consumption - 
	Hosted by Erica Danielle\, RN @CannaNurseHealCommunity Open Mic &amp\; Tok
	e - Hosted by Tokeativity COO\, @Casey@TokeativityTOPIC: Cannabis Recipe
	 Share BRIDGES - Daring Conversations- Hosted by @Mskindness B. &amp\;
	 @Tiffany Watkins3:10p PDT / 6:10p EDT - SESSIONSCannaMom's Sesh - Hoste
	d by Nydia Zamorano-Torres @NydiaZTCWCTOPIC: Kids &amp\; Edible SafetyDos
	ing Edibles 101 - Hosted by Takisha Carter @TakishaPlant Based Meals &amp
	\; Juicing for Anxiety &amp\; Depression - Hosted by More Life Liquid CE
	O\, Ashley Donaldson Business Open Mic &amp\; Toke - Hosted by A Green L
	egacy @Naturalbrii3:50p PDT / 6:50p EDT - MAIN STAGEClosing Remarks EXPO
	 &amp\; TOKEATIVITY PHOTO BOOTH OPEN THROUGHOUT THE EVENT!Don't forget to 
	visit the photo booth and share your pics from the#CreativeCulinary Tokea
	tivity Social and tag @tokeativityfor a chance to be featured! \n\n\n\n	
	INTERESTED IN SUPPORTING?\n\n\n\n	SPONSOR THIS EVENT\n\n	Purchase a logo o
	r link during registration for this or future events\n\nWORK WITH US - BEC
	OME A CORPORATE OR BUSINESS MEMBER\nVisit Tokeativity.com/collaborate o
	r email connect@tokeativity.com\n\n\n\n	SUPPORT THE CANNABIS &amp\; FEMIN
	ISM MOVEMENT\n\n	Grassroots Memberships available for individuals - visit 
	Tokeativity.com/members\n\n\n\n	READ OUR WOMANIFESTO &amp\; LEARN MORE ABO
	UT OUR WORK\n\n\n\n	 \n\n\n\n	 \n\n\n\n	Tokeativity Has Been Featured In
	:\n\n\n\n	\n\n\n	 \n\n\n\n	\n\n\n	 \n\n
DTSTART:20211117T220000Z
DTEND:20211118T000000Z
ATTENDEE;CN="Elyse";CUTYPE=INDIVIDUAL;PARTSTAT=ACCEPTED:conn
	ect@tokeativity.com
ATTENDEE;CN="CMAGMT";CUTYPE=INDIVIDUAL;PARTSTAT=ACCEPTED:con
	nect@tokeativity.com
ATTENDEE;CN="Chef Stacey Dougan";CUTYPE=INDIVIDUAL;PARTSTAT=
	ACCEPTED:connect@tokeativity.com
ATTENDEE;CN="ripcitybitty";CUTYPE=INDIVIDUAL;PARTSTAT=ACCEPT
	ED:connect@tokeativity.com
ATTENDEE;CN="Wendy Mintey";CUTYPE=INDIVIDUAL;PARTSTAT=ACCEPT
	ED:connect@tokeativity.com
ATTENDEE;CN="VapeJawn";CUTYPE=INDIVIDUAL;PARTSTAT=ACCEPTED:c
	onnect@tokeativity.com
ATTENDEE;CN="KiaraJ";CUTYPE=INDIVIDUAL;PARTSTAT=ACCEPTED:con
	nect@tokeativity.com
ATTENDEE;CN="Cannatech Network";CUTYPE=INDIVIDUAL;PARTSTAT=A
	CCEPTED:connect@tokeativity.com
ATTENDEE;CN="Lisa";CUTYPE=INDIVIDUAL;PARTSTAT=ACCEPTED:conne
	ct@tokeativity.com
ATTENDEE;CN="Katricia";CUTYPE=INDIVIDUAL;PARTSTAT=ACCEPTED:c
	onnect@tokeativity.com
ATTENDEE;CN="Joyce1965";CUTYPE=INDIVIDUAL;PARTSTAT=ACCEPTED:
	connect@tokeativity.com
ATTENDEE;CN="rnmbact";CUTYPE=INDIVIDUAL;PARTSTAT=ACCEPTED:co
	nnect@tokeativity.com
ATTENDEE;CN="Hannah Atkins";CUTYPE=INDIVIDUAL;PARTSTAT=ACCEP
	TED:connect@tokeativity.com
ATTENDEE;CN="Desi";CUTYPE=INDIVIDUAL;PARTSTAT=ACCEPTED:conne
	ct@tokeativity.com
ATTENDEE;CN="Laura Hand";CUTYPE=INDIVIDUAL;PARTSTAT=ACCEPTED
	:connect@tokeativity.com
ATTENDEE;CN="Julie E. Creative";CUTYPE=INDIVIDUAL;PARTSTAT=A
	CCEPTED:connect@tokeativity.com
ATTENDEE;CN="Debbi Spranza";CUTYPE=INDIVIDUAL;PARTSTAT=ACCEP
	TED:connect@tokeativity.com
ATTENDEE;CN="Rthompson424";CUTYPE=INDIVIDUAL;PARTSTAT=ACCEPT
	ED:connect@tokeativity.com
ATTENDEE;CN="Caroline Scheibel";CUTYPE=INDIVIDUAL;PARTSTAT=A
	CCEPTED:connect@tokeativity.com
ATTENDEE;CN="Kayli";CUTYPE=INDIVIDUAL;PARTSTAT=ACCEPTED:conn
	ect@tokeativity.com
ATTENDEE;CN="Linda Seebohar";CUTYPE=INDIVIDUAL;PARTSTAT=ACCE
	PTED:connect@tokeativity.com
ATTENDEE;CN="DarkHeartArt";CUTYPE=INDIVIDUAL;PARTSTAT=ACCEPT
	ED:connect@tokeativity.com
ATTENDEE;CN="Ashleigh";CUTYPE=INDIVIDUAL;PARTSTAT=ACCEPTED:c
	onnect@tokeativity.com
ATTENDEE;CN="Avery Shnow";CUTYPE=INDIVIDUAL;PARTSTAT=ACCEPTE
	D:connect@tokeativity.com
ATTENDEE;CN="Ariel Pierre Louis";CUTYPE=INDIVIDUAL;PARTSTAT=
	ACCEPTED:connect@tokeativity.com
ATTENDEE;CN="cannacrystal";CUTYPE=INDIVIDUAL;PARTSTAT=ACCEPT
	ED:connect@tokeativity.com
ATTENDEE;CN="Lauren_";CUTYPE=INDIVIDUAL;PARTSTAT=ACCEPTED:co
	nnect@tokeativity.com
ATTENDEE;CN="Taye Maat";CUTYPE=INDIVIDUAL;PARTSTAT=ACCEPTED:
	connect@tokeativity.com
ATTENDEE;CN="Epicepicdemic";CUTYPE=INDIVIDUAL;PARTSTAT=ACCEP
	TED:connect@tokeativity.com
ATTENDEE;CN="Emma.larry";CUTYPE=INDIVIDUAL;PARTSTAT=ACCEPTED
	:connect@tokeativity.com
ATTENDEE;CN="Mary Jane Services Network";CUTYPE=INDIVIDUAL;P
	ARTSTAT=ACCEPTED:connect@tokeativity.com
ATTENDEE;CN="Lilmrsmathews";CUTYPE=INDIVIDUAL;PARTSTAT=ACCEP
	TED:connect@tokeativity.com
ATTENDEE;CN="Rachel E";CUTYPE=INDIVIDUAL;PARTSTAT=ACCEPTED:c
	onnect@tokeativity.com
ATTENDEE;CN="King Marley and Co";CUTYPE=INDIVIDUAL;PARTSTAT=
	ACCEPTED:connect@tokeativity.com
ATTENDEE;CN="Alisha Lamore";CUTYPE=INDIVIDUAL;PARTSTAT=ACCEP
	TED:connect@tokeativity.com
ATTENDEE;CN="MelissaB";CUTYPE=INDIVIDUAL;PARTSTAT=ACCEPTED:c
	onnect@tokeativity.com
ATTENDEE;CN="Faerie Ganjmother";CUTYPE=INDIVIDUAL;PARTSTAT=A
	CCEPTED:connect@tokeativity.com
ATTENDEE;CN="Ruth Anne";CUTYPE=INDIVIDUAL;PARTSTAT=ACCEPTED:
	connect@tokeativity.com
ATTENDEE;CN="Renee G";CUTYPE=INDIVIDUAL;PARTSTAT=ACCEPTED:co
	nnect@tokeativity.com
ATTENDEE;CN="sarahcharley";CUTYPE=INDIVIDUAL;PARTSTAT=ACCEPT
	ED:connect@tokeativity.com
ATTENDEE;CN="D33IVERSONS";CUTYPE=INDIVIDUAL;PARTSTAT=ACCEPTE
	D:connect@tokeativity.com
ATTENDEE;CN="GGoncalves";CUTYPE=INDIVIDUAL;PARTSTAT=ACCEPTED
	:connect@tokeativity.com
ATTENDEE;CN="Blaze";CUTYPE=INDIVIDUAL;PARTSTAT=ACCEPTED:conn
	ect@tokeativity.com
ATTENDEE;CN="MoReCannaCare";CUTYPE=INDIVIDUAL;PARTSTAT=ACCEP
	TED:connect@tokeativity.com
ATTENDEE;CN="Kaya Harvest";CUTYPE=INDIVIDUAL;PARTSTAT=ACCEPT
	ED:connect@tokeativity.com
ATTENDEE;CN="Greenpantherchef";CUTYPE=INDIVIDUAL;PARTSTAT=AC
	CEPTED:connect@tokeativity.com
ATTENDEE;CN="CannaNurseHeal";CUTYPE=INDIVIDUAL;PARTSTAT=ACCE
	PTED:connect@tokeativity.com
ATTENDEE;CN="Abigail Kalmbach";CUTYPE=INDIVIDUAL;PARTSTAT=AC
	CEPTED:connect@tokeativity.com
ATTENDEE;CN="Tiffany Watkins";CUTYPE=INDIVIDUAL;PARTSTAT=ACC
	EPTED:connect@tokeativity.com
ATTENDEE;CN="Ana MacDuff";CUTYPE=INDIVIDUAL;PARTSTAT=ACCEPTE
	D:connect@tokeativity.com
ATTENDEE;CN="Reagan Reynolds";CUTYPE=INDIVIDUAL;PARTSTAT=ACC
	EPTED:connect@tokeativity.com
ATTENDEE;CN="NydiaZTCWC";CUTYPE=INDIVIDUAL;PARTSTAT=ACCEPTED
	:connect@tokeativity.com
ATTENDEE;CN="Takisha";CUTYPE=INDIVIDUAL;PARTSTAT=ACCEPTED:co
	nnect@tokeativity.com
ATTENDEE;CN="Naturalbrii";CUTYPE=INDIVIDUAL;PARTSTAT=ACCEPTE
	D:connect@tokeativity.com
ATTENDEE;CN="Liv Vasquez";CUTYPE=INDIVIDUAL;PARTSTAT=ACCEPTE
	D:connect@tokeativity.com
ATTENDEE;CN="Kim Davis";CUTYPE=INDIVIDUAL;PARTSTAT=ACCEPTED:
	connect@tokeativity.com
ATTENDEE;CN="emeraldtempleliving";CUTYPE=INDIVIDUAL;PARTSTAT
	=ACCEPTED:connect@tokeativity.com
ATTENDEE;CN="Hawbaked";CUTYPE=INDIVIDUAL;PARTSTAT=ACCEPTED:c
	onnect@tokeativity.com
ATTENDEE;CN="star lengas";CUTYPE=INDIVIDUAL;PARTSTAT=ACCEPTE
	D:connect@tokeativity.com
ATTENDEE;CN="TokusSoakus";CUTYPE=INDIVIDUAL;PARTSTAT=ACCEPTE
	D:connect@tokeativity.com
ATTENDEE;CN="Front Row Travels";CUTYPE=INDIVIDUAL;PARTSTAT=A
	CCEPTED:connect@tokeativity.com
ATTENDEE;CN="Jana Stolins CannaSourePro";CUTYPE=INDIVIDUAL;P
	ARTSTAT=ACCEPTED:connect@tokeativity.com
ATTENDEE;CN="UnderStory Arts";CUTYPE=INDIVIDUAL;PARTSTAT=ACC
	EPTED:connect@tokeativity.com
END:VEVENT
END:VCALENDAR
