BEGIN:VCALENDAR
VERSION:2.0
PRODID:-//IP.Board Calendar 4.7.5//EN
METHOD:PUBLISH
CALSCALE:GREGORIAN
X-WR-CALNAME:Tokeativity Calendar
BEGIN:VTIMEZONE
TZID:Europe/London
TZURL:http://tzurl.org/zoneinfo/Europe/London
X-LIC-LOCATION:Europe/London
BEGIN:DAYLIGHT
TZOFFSETFROM:+0000
TZOFFSETTO:+0100
TZNAME:BST
DTSTART:20180325T020000Z
RRULE:FREQ=YEARLY;BYMONTH=3;BYDAY=-1SU
END:DAYLIGHT
BEGIN:STANDARD
TZOFFSETFROM:+0100
TZOFFSETTO:+0000
TZNAME:GMT
DTSTART:20181028T020000Z
RRULE:FREQ=YEARLY;BYMONTH=10;BYDAY=-1SU
END:STANDARD
END:VTIMEZONE
BEGIN:VEVENT
SUMMARY:Workshop: Intro to Action
DTSTAMP:20180220T070536Z
SEQUENCE:0
UID:48-1-2dead269adc02be51f2f7a68eeb17a98@tokeativity.com
ORGANIZER;CN="Lisa":connect@tokeativity.com
DESCRIPTION:\n\n	Date: Saturday\, March 24\n\nTime: 1-4pm\n\nPlace: A Wo
	man-Friendly Space in NE Portland (Registrants will receive address)\n\n\n
	\nEarly Bird: $10 before 3/20\n\nGeneral Admission: $15 after 3/20\n\nBrin
	g a friend andsave $\n\n\n\n	Free for low income women &amp\; women of col
	or\, apply now atTokeativity.com/scholarships\n\n\n\n\n\n	A Portion of the
	 proceeds will go to Dont Shoot Portland\n\n\n\nREGISTER NOW: https://imp
	actflow.com/event/7279\n\nDETAILS: http://tokeativity.com/march24\n\n\n\n	
	- - - - - - - - - - - - - - - - - - - - - - - - - - - - - - \n\n\n\nAre y
	ou curious about how to make change in your community?\n\n\n\n	Are you fee
	ling motivated by the #METOO or #BLACKLIVESMATTERcampaigns?\n\n\n\n	Are
	 you feeling fed up with our local\, state and federal policy makers seemi
	ngly doing whatever interests them?\n\n\n\n	Are you just plain confused ab
	out how the hell this democracy thing works?\n\n\n\nDo you get overwhelmed
	 at even the thought of politics? \n\n\n\n\n\n	If you said yes to any of 
	the above questions\, then INTRO TO ACTION is the right workshop for you! 
	Our American Democracy is a complicated beast and making our voices heard 
	is no easy feat. Tokeativity is a cannabis inclusive community for women t
	hat curates safe spaces to create\, learn and connect. Join us for this wo
	rkshop open to all women at all stages of their politicalawakening! We aim
	 to create conversations\, discussions and experiences that will inspire m
	ore women to feel confident about making their voices heard.\n\n\n\n\n\n	B
	ring a delicious dish in exchange for your ticket! Email potluck@tokeativi
	ty.com to participate! We have scholarships for low income andwomen of col
	or. Please apply through tokeativity.com/scholarships to participate. Th
	ank you!\n\n\n\n\n\n	Featuring:\n\n\n\n	Erica Fuller\, Women's Caucus of 
	the Democratic Party of Oregon Chair\n\n\n\n	Teresa Raiford\, Dont Shoot
	 Portland\n\n\n\n\n\n	Flow:\n\n\n\n	1:00pm Welcome &amp\; Mingle\n\n\n\n	1
	:30pm - 3:00pm Speakers + Q &amp\; A\n\n\n\n	3:00pm Networking\n\n\n\n	4:0
	0pm End\n\n\n\n\n\n\n\n	* No door sales or refunds will be available. All 
	women must be 21+ and registered online prior to coming. Please make sure 
	to register all members of yourparty online ahead of time. We support safe
	 transportation and consumption of all substances.\n\n
DTSTART:20180324T200000Z
DTEND:20180324T230000Z
END:VEVENT
END:VCALENDAR
