BEGIN:VCALENDAR
VERSION:2.0
PRODID:-//IP.Board Calendar 4.7.5//EN
METHOD:PUBLISH
CALSCALE:GREGORIAN
X-WR-CALNAME:Tokeativity Calendar
BEGIN:VTIMEZONE
TZID:Europe/London
TZURL:http://tzurl.org/zoneinfo/Europe/London
X-LIC-LOCATION:Europe/London
BEGIN:DAYLIGHT
TZOFFSETFROM:+0000
TZOFFSETTO:+0100
TZNAME:BST
DTSTART:20220327T020000Z
RRULE:FREQ=YEARLY;BYMONTH=3;BYDAY=-1SU
END:DAYLIGHT
BEGIN:STANDARD
TZOFFSETFROM:+0100
TZOFFSETTO:+0000
TZNAME:GMT
DTSTART:20221030T020000Z
RRULE:FREQ=YEARLY;BYMONTH=10;BYDAY=-1SU
END:STANDARD
END:VTIMEZONE
BEGIN:VEVENT
SUMMARY:Clubhouse Round Table: \"The Herstory of Tokeativity - Celeb
	rating 5 Years\"
DTSTAMP:20210817T210317Z
SEQUENCE:0
UID:477-1-2dead269adc02be51f2f7a68eeb17a98@tokeativity.com
ORGANIZER;CN="Wendy Mintey":connect@tokeativity.com
DESCRIPTION:\n	Date: Jan 12\, 2022\n\n	Time: 4 -5pm Pacific / 7 - 8pm
	 Eastern\n\n	Place: TOKEATIVITY CLUBHOUSE\n\n	Specific Event Link COMING 
	SOON\n\n	(Clubhouse App Required - Join the Tokeativity Clubhouse here)\n\
	n	\n\n	Cost: Free\n\n\n\n	\n	ABOUT THIS EVENT:\n\n\n\n	Join us for an enga
	ging roundtable discussion on Clubhouse\, hosted by Tokeativity Co-Founder
	 &amp\; Chief Innovation Officer Lisa Snyder\,\n\n	with special guests fr
	om the Tokeativity community\, talking all things revolving around the ca
	nnabis\, feminism\, and consumption movements.\n\n\n\n	 \n\n\n\n	 \n\n\
	n\n	\n	INTERESTED IN SUPPORTING?\n\n\n\n	SPONSOR THIS EVENT\n\n	Purchase a
	 logo or link on the page by registering for this event\n\n\n\n	WORK WITH 
	US  - BECOME A CORPORATE MEMBER OR BUSINESS MEMBER\n\n	Visit Tokeativit
	y.com/collaborate or email connect@tokeativity.com\n\n\n\n	UPGRADE YOUR 
	TOKEATIVITY MEMBERSHIP &amp\; SUPPORT THE CANNABIS &amp\; FEMINISM MOVEME
	NT!\n\n	Grassroots Memberships available for individuals - visit Tokeativi
	ty.com/members\n\n\n\n	READ OUR WOMANIFESTO &amp\; LEARN MORE ABOUT OUR WO
	RK\n\n\n\n	 \n\n\n\n	 \n\n\n\n	 \n\n\n\n	Tokeativity Has Been Featured 
	In:\n\n\n\n	\n\n\n\n	 \n\n
DTSTART:20220113T000000Z
DTEND:20220113T010000Z
ATTENDEE;CN="CannaNurseHeal";CUTYPE=INDIVIDUAL;PARTSTAT=ACCE
	PTED:connect@tokeativity.com
ATTENDEE;CN="JTT Accessories";CUTYPE=INDIVIDUAL;PARTSTAT=ACC
	EPTED:connect@tokeativity.com
ATTENDEE;CN="AKunstler";CUTYPE=INDIVIDUAL;PARTSTAT=ACCEPTED:
	connect@tokeativity.com
ATTENDEE;CN="Taye Maat";CUTYPE=INDIVIDUAL;PARTSTAT=ACCEPTED:
	connect@tokeativity.com
ATTENDEE;CN="emeraldtempleliving";CUTYPE=INDIVIDUAL;PARTSTAT
	=ACCEPTED:connect@tokeativity.com
ATTENDEE;CN="Wendy Mintey";CUTYPE=INDIVIDUAL;PARTSTAT=ACCEPT
	ED:connect@tokeativity.com
END:VEVENT
END:VCALENDAR
