BEGIN:VCALENDAR
VERSION:2.0
PRODID:-//IP.Board Calendar 4.7.5//EN
METHOD:PUBLISH
CALSCALE:GREGORIAN
X-WR-CALNAME:Tokeativity Calendar
BEGIN:VTIMEZONE
TZID:Europe/London
TZURL:http://tzurl.org/zoneinfo/Europe/London
X-LIC-LOCATION:Europe/London
BEGIN:DAYLIGHT
TZOFFSETFROM:+0000
TZOFFSETTO:+0100
TZNAME:BST
DTSTART:20210328T020000Z
RRULE:FREQ=YEARLY;BYMONTH=3;BYDAY=-1SU
END:DAYLIGHT
BEGIN:STANDARD
TZOFFSETFROM:+0100
TZOFFSETTO:+0000
TZNAME:GMT
DTSTART:20211031T020000Z
RRULE:FREQ=YEARLY;BYMONTH=10;BYDAY=-1SU
END:STANDARD
END:VTIMEZONE
BEGIN:VEVENT
SUMMARY:Clubhouse Round Table: \"Celebrating the Holidaze\"
DTSTAMP:20210817T210141Z
SEQUENCE:0
UID:476-1-2dead269adc02be51f2f7a68eeb17a98@tokeativity.com
ORGANIZER;CN="Wendy Mintey":connect@tokeativity.com
DESCRIPTION:\n	Date: Dec 08\, 2021\nTime: 4 -5pm Pacific / 7 - 8pm Ea
	stern\nPlace: TOKEATIVITY CLUBHOUSE\nSpecific Event Link COMING SOON\n\n	
	(Clubhouse App Required - Join the Tokeativity Clubhouse here)\n\nCost: Fr
	ee\n\n\n\n	ABOUT THIS EVENT:\n\n\n\n	Join us for an engaging roundtable di
	scussion on Clubhouse\, hosted by Tokeativity Co-Founder &amp\; Chief Inno
	vation Officer Lisa Snyder\,\n\n	with special guests from the Tokeativit
	y community\, talking all things revolving around the cannabis\, feminism\
	, and consumption movements.\n\n\n\n	 \n\n\n\n	 \n\n\n\n	INTERESTED IN 
	SUPPORTING?\n\n\n\n	SPONSOR THIS EVENT\n\n	Purchase a logo or link on the 
	page by registering for this event\n\n\n\n	WORK WITH US  - BECOME A CORPO
	RATE MEMBER OR BUSINESS MEMBER\nVisit Tokeativity.com/collaborate or e
	mail connect@tokeativity.com\n\n\n\n	UPGRADE YOUR TOKEATIVITY MEMBERSHIP 
	&amp\; SUPPORT THE CANNABIS &amp\; FEMINISM MOVEMENT!\n\n	Grassroots Membe
	rships available for individuals - visit Tokeativity.com/members\n\n\n\n	R
	EAD OUR WOMANIFESTO &amp\; LEARN MORE ABOUT OUR WORK\n\n\n\n	 \n\n\n\n	 
	\n\n\n\n	 \n\n\n\n	Tokeativity Has Been Featured In:\n\n\n\n	\n\n\n	 \n
DTSTART:20211209T000000Z
DTEND:20211209T010000Z
ATTENDEE;CN="Joan - HempStaff";CUTYPE=INDIVIDUAL;PARTSTAT=AC
	CEPTED:connect@tokeativity.com
ATTENDEE;CN="Kaya Harvest";CUTYPE=INDIVIDUAL;PARTSTAT=ACCEPT
	ED:connect@tokeativity.com
ATTENDEE;CN="TheMaryJaneMaven";CUTYPE=INDIVIDUAL;PARTSTAT=AC
	CEPTED:connect@tokeativity.com
END:VEVENT
END:VCALENDAR
