BEGIN:VCALENDAR
VERSION:2.0
PRODID:-//IP.Board Calendar 4.7.5//EN
METHOD:PUBLISH
CALSCALE:GREGORIAN
X-WR-CALNAME:Tokeativity Calendar
BEGIN:VTIMEZONE
TZID:Europe/London
TZURL:http://tzurl.org/zoneinfo/Europe/London
X-LIC-LOCATION:Europe/London
BEGIN:DAYLIGHT
TZOFFSETFROM:+0000
TZOFFSETTO:+0100
TZNAME:BST
DTSTART:20210328T020000Z
RRULE:FREQ=YEARLY;BYMONTH=3;BYDAY=-1SU
END:DAYLIGHT
BEGIN:STANDARD
TZOFFSETFROM:+0100
TZOFFSETTO:+0000
TZNAME:GMT
DTSTART:20211031T020000Z
RRULE:FREQ=YEARLY;BYMONTH=10;BYDAY=-1SU
END:STANDARD
END:VTIMEZONE
BEGIN:VEVENT
SUMMARY:Clubhouse Round Table: \"Witchy Women & Cannabis\"
DTSTAMP:20210817T204239Z
SEQUENCE:0
UID:474-1-2dead269adc02be51f2f7a68eeb17a98@tokeativity.com
ORGANIZER;CN="Wendy Mintey":connect@tokeativity.com
DESCRIPTION:\n	Date: Oct 13\, 2021\nTime: 4 -5pm Pacific / 7 - 8pm Ea
	stern\nPlace: TOKEATIVITY CLUBHOUSE\n\n	(Clubhouse App Required - Join th
	e Tokeativity Clubhouse here)\n\nCost: Free\n\n\n\n	ABOUT THIS EVENT:\n\n\
	n\n	Join us for an engaging roundtable discussion on Clubhouse\, hosted by
	 Tokeativity Co-Founder &amp\; Chief Innovation Officer Lisa Snyder\,\n\n
		with special guests from the Tokeativity community\, talking all things 
	revolving around the cannabis\, feminism\, and consumption movements.\n\n
	\n\n	 \n\n\n\n	 \n\n\n\n	INTERESTED IN SUPPORTING?\n\n\n\n	SPONSOR THIS 
	EVENT\n\n	Purchase a logo or link on the page by registering for this even
	t\n\n\n\n	WORK WITH US  - BECOME A CORPORATE MEMBER OR BUSINESS MEMBER\n
	Visit Tokeativity.com/collaborate or email connect@tokeativity.com\n\n\
	n\n	UPGRADE YOUR TOKEATIVITY MEMBERSHIP &amp\; SUPPORT THE CANNABIS &amp\
	; FEMINISM MOVEMENT!\n\n	Grassroots Memberships available for individuals 
	- visit Tokeativity.com/members\n\n\n\n	READ OUR WOMANIFESTO &amp\; LEARN 
	MORE ABOUT OUR WORK\n\n\n\n	 \n\n\n\n	 \n\n\n\n	 \n\n\n\n	Tokeativity H
	as Been Featured In:\n\n\n\n	\n\n\n	 \n
DTSTART:20211013T230000Z
DTEND:20211014T000000Z
ATTENDEE;CN="Amy Chin";CUTYPE=INDIVIDUAL;PARTSTAT=ACCEPTED:c
	onnect@tokeativity.com
ATTENDEE;CN="TheCannaBossLady";CUTYPE=INDIVIDUAL;PARTSTAT=AC
	CEPTED:connect@tokeativity.com
ATTENDEE;CN="Miranda Beck";CUTYPE=INDIVIDUAL;PARTSTAT=ACCEPT
	ED:connect@tokeativity.com
ATTENDEE;CN="Cassandra Uthgenannt";CUTYPE=INDIVIDUAL;PARTSTA
	T=ACCEPTED:connect@tokeativity.com
ATTENDEE;CN="Wendy Mintey";CUTYPE=INDIVIDUAL;PARTSTAT=ACCEPT
	ED:connect@tokeativity.com
ATTENDEE;CN="JTT Accessories";CUTYPE=INDIVIDUAL;PARTSTAT=ACC
	EPTED:connect@tokeativity.com
ATTENDEE;CN="Ellie Ash";CUTYPE=INDIVIDUAL;PARTSTAT=ACCEPTED:
	connect@tokeativity.com
ATTENDEE;CN="Hannah Atkins";CUTYPE=INDIVIDUAL;PARTSTAT=ACCEP
	TED:connect@tokeativity.com
ATTENDEE;CN="TheMaryJaneMaven";CUTYPE=INDIVIDUAL;PARTSTAT=AC
	CEPTED:connect@tokeativity.com
END:VEVENT
END:VCALENDAR
