BEGIN:VCALENDAR
VERSION:2.0
PRODID:-//IP.Board Calendar 4.7.5//EN
METHOD:PUBLISH
CALSCALE:GREGORIAN
X-WR-CALNAME:Tokeativity Calendar
BEGIN:VTIMEZONE
TZID:Europe/London
TZURL:http://tzurl.org/zoneinfo/Europe/London
X-LIC-LOCATION:Europe/London
BEGIN:DAYLIGHT
TZOFFSETFROM:+0000
TZOFFSETTO:+0100
TZNAME:BST
DTSTART:20220327T020000Z
RRULE:FREQ=YEARLY;BYMONTH=3;BYDAY=-1SU
END:DAYLIGHT
BEGIN:STANDARD
TZOFFSETFROM:+0100
TZOFFSETTO:+0000
TZNAME:GMT
DTSTART:20221030T020000Z
RRULE:FREQ=YEARLY;BYMONTH=10;BYDAY=-1SU
END:STANDARD
END:VTIMEZONE
BEGIN:VEVENT
SUMMARY:Our Members are the Movement - Instagram LIVE
DTSTAMP:20210811T230133Z
SEQUENCE:0
UID:473-1-2dead269adc02be51f2f7a68eeb17a98@tokeativity.com
ORGANIZER;CN="Wendy Mintey":connect@tokeativity.com
DESCRIPTION:\n	Date: June 01\, 2022\nTime: 4:20 - 5pm Pacific / 7:20 -
	 8pm Eastern\nPlace: Tokeativity Instagram Account @Tokeativity\nCost: Fre
	e\n\n\n\n	ABOUT THIS EVENT:\n\n\n\n	Join us for a budding conversation\, h
	osted by Tokeativity Co-Founder &amp\; CEO Samantha Montanaro \n\n	with s
	pecial guests from the Tokeativity community\, talking all things revolvi
	ng around the cannabis\, feminism\, and consumption movements.\n\n\n\n	IN
	TERESTED IN SUPPORTING?\n\n\n\n	SPONSOR THIS EVENT\n\n	Purchase a logo or 
	link on the page by registering for this event above\n\n\n\n	WORK WITH US
	  - BECOME A CORPORATE MEMBER OR BUSINESS MEMBER\nVisit Tokeativity.com
	/collaborate or email connect@tokeativity.com\n\n\n\n	UPGRADE YOUR TOKEA
	TIVITY MEMBERSHIP &amp\; SUPPORT THE CANNABIS &amp\; FEMINISM MOVEMENT!\n
	\n	Grassroots Memberships available for individuals - visit Tokeativity.co
	m/members\n\n\n\n	READ OUR WOMANIFESTO &amp\; LEARN MORE ABOUT OUR WORK\n\
	n\n\n	 \n\n\n\n	 \n\n\n\n	Tokeativity Has Been Featured In:\n\n\n\n	\n\n
	\n	 \n\n\n\n	 \n\n\n\n	 \n
DTSTART:20220601T232000Z
DTEND:20220602T000000Z
ATTENDEE;CN="Katie Pearn";CUTYPE=INDIVIDUAL;PARTSTAT=ACCEPTE
	D:connect@tokeativity.com
ATTENDEE;CN="SabrinaRace";CUTYPE=INDIVIDUAL;PARTSTAT=ACCEPTE
	D:connect@tokeativity.com
ATTENDEE;CN="Royalla Bernard";CUTYPE=INDIVIDUAL;PARTSTAT=ACC
	EPTED:connect@tokeativity.com
END:VEVENT
END:VCALENDAR
