BEGIN:VCALENDAR
VERSION:2.0
PRODID:-//IP.Board Calendar 4.7.5//EN
METHOD:PUBLISH
CALSCALE:GREGORIAN
X-WR-CALNAME:Tokeativity Calendar
BEGIN:VTIMEZONE
TZID:Europe/London
TZURL:http://tzurl.org/zoneinfo/Europe/London
X-LIC-LOCATION:Europe/London
BEGIN:DAYLIGHT
TZOFFSETFROM:+0000
TZOFFSETTO:+0100
TZNAME:BST
DTSTART:20220327T020000Z
RRULE:FREQ=YEARLY;BYMONTH=3;BYDAY=-1SU
END:DAYLIGHT
BEGIN:STANDARD
TZOFFSETFROM:+0100
TZOFFSETTO:+0000
TZNAME:GMT
DTSTART:20221030T020000Z
RRULE:FREQ=YEARLY;BYMONTH=10;BYDAY=-1SU
END:STANDARD
END:VTIMEZONE
BEGIN:VEVENT
SUMMARY:Our Members are the Movement - Instagram LIVE
DTSTAMP:20210811T225938Z
SEQUENCE:0
UID:470-1-2dead269adc02be51f2f7a68eeb17a98@tokeativity.com
ORGANIZER;CN="Wendy Mintey":connect@tokeativity.com
DESCRIPTION:\n	Date: March 01\, 2022\n\n	Time: 4:20 - 5pm Pacific / 7:
	20 - 8pm Eastern\n\n	Place: Tokeativity Instagram Account @Tokeativity\n\n
		Cost: Free\n\n\n\n	\n	ABOUT THIS EVENT:\n\n\n\n	Join us for a budding con
	versation\, hosted by Tokeativity Co-Founder &amp\; CEO Samantha Montanaro
	 \n\n	with special guests from the Tokeativity community\, talking all t
	hings revolving around the cannabis\, feminism\, and consumption movement
	s.\n\n\n\n	\n	INTERESTED IN SUPPORTING?\n\n\n\n	SPONSOR THIS EVENT\n\n	Pur
	chase a logo or link on the page by registering for this event above\n\n\n
	\n	WORK WITH US  - BECOME A CORPORATE MEMBER OR BUSINESS MEMBER\n\n	Vis
	it Tokeativity.com/collaborate or email connect@tokeativity.com\n\n\n\n
		UPGRADE YOUR TOKEATIVITY MEMBERSHIP &amp\; SUPPORT THE CANNABIS &amp\; F
	EMINISM MOVEMENT!\n\n	Grassroots Memberships available for individuals - v
	isit Tokeativity.com/members\n\n\n\n	READ OUR WOMANIFESTO &amp\; LEARN MOR
	E ABOUT OUR WORK\n\n\n\n	 \n\n\n\n	 \n\n\n\n	Tokeativity Has Been Featur
	ed In:\n\n\n\n	\n\n\n\n	 \n\n\n\n	 \n\n\n\n	 \n\n
DTSTART:20220302T002000Z
DTEND:20220302T010000Z
ATTENDEE;CN="Dori";CUTYPE=INDIVIDUAL;PARTSTAT=ACCEPTED:conne
	ct@tokeativity.com
END:VEVENT
END:VCALENDAR
