BEGIN:VCALENDAR
VERSION:2.0
PRODID:-//IP.Board Calendar 4.7.5//EN
METHOD:PUBLISH
CALSCALE:GREGORIAN
X-WR-CALNAME:Tokeativity Calendar
BEGIN:VTIMEZONE
TZID:Europe/London
TZURL:http://tzurl.org/zoneinfo/Europe/London
X-LIC-LOCATION:Europe/London
BEGIN:DAYLIGHT
TZOFFSETFROM:+0000
TZOFFSETTO:+0100
TZNAME:BST
DTSTART:20220327T020000Z
RRULE:FREQ=YEARLY;BYMONTH=3;BYDAY=-1SU
END:DAYLIGHT
BEGIN:STANDARD
TZOFFSETFROM:+0100
TZOFFSETTO:+0000
TZNAME:GMT
DTSTART:20221030T020000Z
RRULE:FREQ=YEARLY;BYMONTH=10;BYDAY=-1SU
END:STANDARD
END:VTIMEZONE
BEGIN:VEVENT
SUMMARY:Our Members are the Movement - Instagram LIVE
DTSTAMP:20210811T225520Z
SEQUENCE:0
UID:468-1-2dead269adc02be51f2f7a68eeb17a98@tokeativity.com
ORGANIZER;CN="Wendy Mintey":connect@tokeativity.com
DESCRIPTION:\n	Date: Jan 01\, 2022\nTime: 4:20 - 5pm Pacific / 7:20 - 
	8pm Eastern\nPlace: Tokeativity Instagram Account @Tokeativity\nCost: Free
	\n\n\n\n	ABOUT THIS EVENT:\n\n\n\n	Join us for a budding conversation\, ho
	sted by Tokeativity Co-Founder &amp\; CEO Samantha Montanaro \n\n	with sp
	ecial guests from the Tokeativity community\, talking all things revolvin
	g around the cannabis\, feminism\, and consumption movements.\n\n\n\n	INT
	ERESTED IN SUPPORTING?\n\n\n\n	SPONSOR THIS EVENT\n\n	Purchase a logo or l
	ink on the page by registering for this event above\n\n\n\n	WORK WITH US 
	 - BECOME A CORPORATE MEMBER OR BUSINESS MEMBER\nVisit Tokeativity.com/c
	ollaborate or email connect@tokeativity.com\n\n\n\n	UPGRADE YOUR TOKEATI
	VITY MEMBERSHIP &amp\; SUPPORT THE CANNABIS &amp\; FEMINISM MOVEMENT!\n\n
		Grassroots Memberships available for individuals - visit Tokeativity.com/
	members\n\n\n\n	READ OUR WOMANIFESTO &amp\; LEARN MORE ABOUT OUR WORK\n\n\
	n\n	 \n\n\n\n	 \n\n\n\n	Tokeativity Has Been Featured In:\n\n\n\n	\n\n\
	n	 \n\n\n\n	 \n\n\n\n	 \n
DTSTART:20220102T002000Z
DTEND:20220102T010000Z
ATTENDEE;CN="thydankone";CUTYPE=INDIVIDUAL;PARTSTAT=ACCEPTED
	:connect@tokeativity.com
ATTENDEE;CN="Nikki V";CUTYPE=INDIVIDUAL;PARTSTAT=ACCEPTED:co
	nnect@tokeativity.com
ATTENDEE;CN="jasmine";CUTYPE=INDIVIDUAL;PARTSTAT=ACCEPTED:co
	nnect@tokeativity.com
END:VEVENT
END:VCALENDAR
