BEGIN:VCALENDAR
VERSION:2.0
PRODID:-//IP.Board Calendar 4.7.5//EN
METHOD:PUBLISH
CALSCALE:GREGORIAN
X-WR-CALNAME:Tokeativity Calendar
BEGIN:VTIMEZONE
TZID:Europe/London
TZURL:http://tzurl.org/zoneinfo/Europe/London
X-LIC-LOCATION:Europe/London
BEGIN:DAYLIGHT
TZOFFSETFROM:+0000
TZOFFSETTO:+0100
TZNAME:BST
DTSTART:20210328T020000Z
RRULE:FREQ=YEARLY;BYMONTH=3;BYDAY=-1SU
END:DAYLIGHT
BEGIN:STANDARD
TZOFFSETFROM:+0100
TZOFFSETTO:+0000
TZNAME:GMT
DTSTART:20211031T020000Z
RRULE:FREQ=YEARLY;BYMONTH=10;BYDAY=-1SU
END:STANDARD
END:VTIMEZONE
BEGIN:VEVENT
SUMMARY:BRIDGES: The Stigma of Mental Illness in the Black Community
DTSTAMP:20210108T181140Z
SEQUENCE:0
UID:452-1-2dead269adc02be51f2f7a68eeb17a98@tokeativity.com
ORGANIZER;CN="Lisa":connect@tokeativity.com
DESCRIPTION:\n	\n\nSubmit your anonymous questions to panelists here:
	  http://bit.ly/bridgesfeb4poll\n\n\n	Date: Feb 4\, 2021\nTime: 4 - 6
	pm Pacific\nPlace: ONLINE\nRSVP for login details and password\nCost: FRE
	E FOR TOKEATIVITY BUSINESS &amp\; GRASSROOTS MEMBERS\nBasic Members: Pay w
	hat you can\, sliding scale $0 - $25\nA portion of all proceeds will be g
	oing to Club Kindness\n\nHosted By: Mskindness B. Ramirez\n\n\n\n	\n\n\n	
	ABOUT THIS EVENT\n\n\n\n	This events series will feature a community of b
	rave women and bridge makers\, seeking to develop tools for greater collab
	oration and healing in our society. \n\n\n\n	Panelists will lean into cha
	llenging discussions by encouraging women and allies from all backgrounds 
	to submit anonymous questions\, while fostering an environment of conjoinm
	ent and desire for growth. \n\n\n\n	 \n\n\n\n	  \n\n\n\n	\nSCHEDULE (in
	 Pacific time)\n\nMAIN STAGE\n\n\n	4:00 - 5:00pm\n\n\n	Opening Remarks \n
	\nSpecial Guests\n\n\n\n5:00pm - 6:00pm\n\n	Live Q &amp\; A with the panel
	ists\nSubmit your anonymous questions here: http://bit.ly/bridgesfeb4poll
	\n\n\n\n	INTERESTED IN BEING A PANELISTS?\nApply here\n\n\n	INTERESTED IN 
	CONTRIBUTING TOPICS FOR THIS EVENTS SERIES?Visit http://bit.ly/bridgespol
	l\n\n\n\n	INTERESTED IN SPONSORING?Visit Tokeativity.com/collaborate or
	 email connect@tokeativity.com\n\n\n\n	 \n\n\n\n	Tokeativity Has Been Fe
	atured In:\n\n\n\n	\n\n\n	 \n\n\n\n	 \n\n\n\n	
DTSTART:20210205T000000Z
DTEND:20210205T020000Z
ATTENDEE;CN="Wendy Mintey";CUTYPE=INDIVIDUAL;PARTSTAT=ACCEPT
	ED:connect@tokeativity.com
ATTENDEE;CN="Pax";CUTYPE=INDIVIDUAL;PARTSTAT=ACCEPTED:connec
	t@tokeativity.com
ATTENDEE;CN="Amy Chin";CUTYPE=INDIVIDUAL;PARTSTAT=ACCEPTED:c
	onnect@tokeativity.com
ATTENDEE;CN="Dana Miller";CUTYPE=INDIVIDUAL;PARTSTAT=ACCEPTE
	D:connect@tokeativity.com
ATTENDEE;CN="Beth Hemp Huntress";CUTYPE=INDIVIDUAL;PARTSTAT=
	ACCEPTED:connect@tokeativity.com
ATTENDEE;CN="RoniS";CUTYPE=INDIVIDUAL;PARTSTAT=ACCEPTED:conn
	ect@tokeativity.com
ATTENDEE;CN="Bee Kynd";CUTYPE=INDIVIDUAL;PARTSTAT=ACCEPTED:c
	onnect@tokeativity.com
ATTENDEE;CN="Ishqa Hillman";CUTYPE=INDIVIDUAL;PARTSTAT=ACCEP
	TED:connect@tokeativity.com
ATTENDEE;CN="MelloCello007";CUTYPE=INDIVIDUAL;PARTSTAT=ACCEP
	TED:connect@tokeativity.com
ATTENDEE;CN="PrincessPittsy";CUTYPE=INDIVIDUAL;PARTSTAT=ACCE
	PTED:connect@tokeativity.com
ATTENDEE;CN="JasonSmith";CUTYPE=INDIVIDUAL;PARTSTAT=ACCEPTED
	:connect@tokeativity.com
ATTENDEE;CN="Radical CHANGE\, LLC";CUTYPE=INDIVIDUAL;PARTSTA
	T=ACCEPTED:connect@tokeativity.com
ATTENDEE;CN="Shansolo";CUTYPE=INDIVIDUAL;PARTSTAT=ACCEPTED:c
	onnect@tokeativity.com
ATTENDEE;CN="Chris T.";CUTYPE=INDIVIDUAL;PARTSTAT=ACCEPTED:c
	onnect@tokeativity.com
ATTENDEE;CN="Debi.Canna";CUTYPE=INDIVIDUAL;PARTSTAT=ACCEPTED
	:connect@tokeativity.com
ATTENDEE;CN="LaTonya";CUTYPE=INDIVIDUAL;PARTSTAT=ACCEPTED:co
	nnect@tokeativity.com
ATTENDEE;CN="ripcitybitty";CUTYPE=INDIVIDUAL;PARTSTAT=ACCEPT
	ED:connect@tokeativity.com
ATTENDEE;CN="Josie B";CUTYPE=INDIVIDUAL;PARTSTAT=ACCEPTED:co
	nnect@tokeativity.com
ATTENDEE;CN="Rachel Hartley";CUTYPE=INDIVIDUAL;PARTSTAT=ACCE
	PTED:connect@tokeativity.com
ATTENDEE;CN="VapeJawn";CUTYPE=INDIVIDUAL;PARTSTAT=ACCEPTED:c
	onnect@tokeativity.com
ATTENDEE;CN="Cannacopia Consultations";CUTYPE=INDIVIDUAL;PAR
	TSTAT=ACCEPTED:connect@tokeativity.com
ATTENDEE;CN="Lisa";CUTYPE=INDIVIDUAL;PARTSTAT=ACCEPTED:conne
	ct@tokeativity.com
ATTENDEE;CN="MissAdelia";CUTYPE=INDIVIDUAL;PARTSTAT=ACCEPTED
	:connect@tokeativity.com
ATTENDEE;CN="AirSeed";CUTYPE=INDIVIDUAL;PARTSTAT=ACCEPTED:co
	nnect@tokeativity.com
ATTENDEE;CN="Kim DeLaney-Surratt";CUTYPE=INDIVIDUAL;PARTSTAT
	=ACCEPTED:connect@tokeativity.com
ATTENDEE;CN="Dr. Rachel Knox";CUTYPE=INDIVIDUAL;PARTSTAT=ACC
	EPTED:connect@tokeativity.com
ATTENDEE;CN="Tiffany Watkins";CUTYPE=INDIVIDUAL;PARTSTAT=ACC
	EPTED:connect@tokeativity.com
ATTENDEE;CN="Stoney Scorpio";CUTYPE=INDIVIDUAL;PARTSTAT=ACCE
	PTED:connect@tokeativity.com
END:VEVENT
END:VCALENDAR
