BEGIN:VCALENDAR
VERSION:2.0
PRODID:-//IP.Board Calendar 4.7.5//EN
METHOD:PUBLISH
CALSCALE:GREGORIAN
X-WR-CALNAME:Tokeativity Calendar
BEGIN:VTIMEZONE
TZID:Europe/London
TZURL:http://tzurl.org/zoneinfo/Europe/London
X-LIC-LOCATION:Europe/London
BEGIN:DAYLIGHT
TZOFFSETFROM:+0000
TZOFFSETTO:+0100
TZNAME:BST
DTSTART:20200329T020000Z
RRULE:FREQ=YEARLY;BYMONTH=3;BYDAY=-1SU
END:DAYLIGHT
BEGIN:STANDARD
TZOFFSETFROM:+0100
TZOFFSETTO:+0000
TZNAME:GMT
DTSTART:20201025T020000Z
RRULE:FREQ=YEARLY;BYMONTH=10;BYDAY=-1SU
END:STANDARD
END:VTIMEZONE
BEGIN:VEVENT
SUMMARY:BRIDGES: Black History & Intergenerational Wealth
DTSTAMP:20201029T164612Z
SEQUENCE:0
UID:447-1-2dead269adc02be51f2f7a68eeb17a98@tokeativity.com
ORGANIZER;CN="Lisa":connect@tokeativity.com
DESCRIPTION:\n\n	NOV TOPIC: BLACK HISTORY &amp\; INTERGENERATIONAL WEALT
	H\n\nSubmit your anonymous questions to panelists here:  http://bit.ly/
	bridgesnov5poll\n\n\n	Date: Nov 5\, 2020\nTime: 4 - 6pm Pacific\nPlace:
	 ONLINE\nRSVP for login details and password\nCost: FREE FOR TOKEATIVITY B
	USINESS &amp\; GRASSROOTS MEMBERS\nBasic Members: Pay what you can\, slidi
	ng scale $0 - $25\nA portion of all proceeds will be going to Club Kindne
	ss\n\nHosted By: Mskindness B. Ramirez\n\n\n\n	\n\n\n	ABOUT THIS EVENT\n\
	n\n\n	This events series will feature a community of brave women and brid
	ge makers\, seeking to develop tools for greater collaboration and healing
	 in our society. \n\n\n\n	Panelists will lean into challenging discussion
	s by encouraging women and allies from all backgrounds to submit anonymous
	 questions\, while fostering an environment of conjoinment and desire for 
	growth. \n\n\n\n	 \n\n\n\n	  \n\n\n	\nSCHEDULE (in Pacific time)\n\nMAI
	N STAGE\n\n\n	4:00 - 5:00pm\n\n\n	Opening Remarks \n\nSpecial Guest Panel
	ists\nTiffani Sharp\, Attorney at Law\, Willow Tree Roots\, Founder of WO
	C Canna\n\n	Khadijah Adams\, Cannabis Investor &amp\; Business Coach\n\n
	5:00pm - 6:00pm\n\n	Live Q &amp\; A with the panelists\nSubmit your anonym
	ous questions here: http://bit.ly/bridgesnov5poll\n\n\n\n	INTERESTED IN B
	EING A PANELISTS?\nApply here\n\n\n	INTERESTED IN CONTRIBUTING TOPICS FOR 
	THIS EVENTS SERIES?Visit http://bit.ly/bridgespoll\n\n\n\n	INTERESTED IN 
	SPONSORING?Visit Tokeativity.com/collaborate or email connect@tokeativi
	ty.com\n\n\n\n	 \n\n\n\n	Tokeativity Has Been Featured In:\n\n\n\n	\n\n\n
		 \n\n\n\n	 \n\n\n\n	\n
DTSTART:20201106T000000Z
DTEND:20201106T020000Z
ATTENDEE;CN="Beth Hemp Huntress";CUTYPE=INDIVIDUAL;PARTSTAT=
	ACCEPTED:connect@tokeativity.com
ATTENDEE;CN="Pax";CUTYPE=INDIVIDUAL;PARTSTAT=ACCEPTED:connec
	t@tokeativity.com
ATTENDEE;CN="Jen F";CUTYPE=INDIVIDUAL;PARTSTAT=ACCEPTED:conn
	ect@tokeativity.com
ATTENDEE;CN="VapeJawn";CUTYPE=INDIVIDUAL;PARTSTAT=ACCEPTED:c
	onnect@tokeativity.com
ATTENDEE;CN="Tiffany Watkins";CUTYPE=INDIVIDUAL;PARTSTAT=ACC
	EPTED:connect@tokeativity.com
ATTENDEE;CN="Lisa";CUTYPE=INDIVIDUAL;PARTSTAT=ACCEPTED:conne
	ct@tokeativity.com
ATTENDEE;CN="khadijahadams";CUTYPE=INDIVIDUAL;PARTSTAT=ACCEP
	TED:connect@tokeativity.com
ATTENDEE;CN="Sarah Judd Welch";CUTYPE=INDIVIDUAL;PARTSTAT=AC
	CEPTED:connect@tokeativity.com
ATTENDEE;CN="Wendy Mintey";CUTYPE=INDIVIDUAL;PARTSTAT=ACCEPT
	ED:connect@tokeativity.com
ATTENDEE;CN="Ella";CUTYPE=INDIVIDUAL;PARTSTAT=ACCEPTED:conne
	ct@tokeativity.com
ATTENDEE;CN="LilyK_PQ";CUTYPE=INDIVIDUAL;PARTSTAT=ACCEPTED:c
	onnect@tokeativity.com
ATTENDEE;CN="Jill G";CUTYPE=INDIVIDUAL;PARTSTAT=ACCEPTED:con
	nect@tokeativity.com
ATTENDEE;CN="ripcitybitty";CUTYPE=INDIVIDUAL;PARTSTAT=ACCEPT
	ED:connect@tokeativity.com
ATTENDEE;CN="this is jane project";CUTYPE=INDIVIDUAL;PARTSTA
	T=ACCEPTED:connect@tokeativity.com
ATTENDEE;CN="AirSeed";CUTYPE=INDIVIDUAL;PARTSTAT=ACCEPTED:co
	nnect@tokeativity.com
ATTENDEE;CN="A.CHASE";CUTYPE=INDIVIDUAL;PARTSTAT=ACCEPTED:co
	nnect@tokeativity.com
ATTENDEE;CN="Stoney Scorpio";CUTYPE=INDIVIDUAL;PARTSTAT=ACCE
	PTED:connect@tokeativity.com
END:VEVENT
END:VCALENDAR
