BEGIN:VCALENDAR
VERSION:2.0
PRODID:-//IP.Board Calendar 4.7.5//EN
METHOD:PUBLISH
CALSCALE:GREGORIAN
X-WR-CALNAME:Tokeativity Calendar
BEGIN:VTIMEZONE
TZID:Europe/London
TZURL:http://tzurl.org/zoneinfo/Europe/London
X-LIC-LOCATION:Europe/London
BEGIN:DAYLIGHT
TZOFFSETFROM:+0000
TZOFFSETTO:+0100
TZNAME:BST
DTSTART:20200329T020000Z
RRULE:FREQ=YEARLY;BYMONTH=3;BYDAY=-1SU
END:DAYLIGHT
BEGIN:STANDARD
TZOFFSETFROM:+0100
TZOFFSETTO:+0000
TZNAME:GMT
DTSTART:20201025T020000Z
RRULE:FREQ=YEARLY;BYMONTH=10;BYDAY=-1SU
END:STANDARD
END:VTIMEZONE
BEGIN:VEVENT
SUMMARY:November North America Toking Hour
DTSTAMP:20201028T203557Z
SEQUENCE:0
UID:446-1-2dead269adc02be51f2f7a68eeb17a98@tokeativity.com
ORGANIZER;CN="Lisa":connect@tokeativity.com
DESCRIPTION:\n\n	Date: Nov 10\, 2020\nTime: 4 - 8:30pm Pacific / 7 - 
	11:30pm Eastern\nPlace: ONLINE\nRSVP for login details and password\nCost:
	 FREE FOR TOKEATIVITY BUSINESS &amp\; GRASSROOTS MEMBERS\nBasic Members: P
	ay what you can\, sliding scale $0 - $25\n\n	A portion of the proceeds wil
	l go to National Bail Out\n\n\n	Closed captioning available by using this 
	tool: https://webcaptioner.com/captioner\n\n\n\n	ABOUT THIS EVENT\n\n	The
	 Toking Hour is a consumption friendly online event to connect with our co
	llective cannabis community \n\n	across North America\, hosted by industr
	y leaders in various cities in our network.\n\n\n	A portion of all proce
	eds will be going to National Bail Out\, a Black-led and Black-centered c
	ollective of\n\n	abolitionist organizers\, lawyers and activists building 
	a community-based movement\n\n	to \"support our folks\" and end systems of
	 pretrial detention and ultimately mass incarceration. \n\n\n\n	\n\n\nSch
	edule (in Pacific Time)\n\n3:30pm\n\n	Digital Doors Open\n\n4:00pm\n\n	Ope
	ning Remarks - Lisa Snyder &amp\; Samantha Montanaro\, Founders of Tokeati
	vity\n\n	&amp\; Intention Setting with Tressa Yonekawa Bundren of St. Craz
	y Girl \n\nSPECIAL GUEST SPEAKERS\n\n	Jasmine Rundall\, Creator of the Pi
	nk Kush Network\n\n	Kristin Murr-Sloat\, Co-Owner at AlpinStash\n\n\n4:30 
	- 5:30pm\n\n	Black Women &amp\; Cannabis Sesh\n\n	Hosted by Tiffany Watkin
	s\, Founder of Vanguard Media &amp\; Bianca Prachyl\, Founder of Bliss Mo
	lecules\n\nQ &amp\; A with Boston Cannabis Week Founder\, Lisa Finelli Fal
	lon\n\n	Hosted by Sheri Lupoli\, Southern New England\n\nCannamoms Sesh
	\n\n	Meet &amp\; Greet hosted by Sweet Jane Magazine &amp\; Kristin Murr-
	Sloat\, Co-Owner at AlpinStash\n\n5:30 - 6:30pm\nArizona Cannabis Event Up
	date\n\n	 with Jasmine Rundall\, Creator of the Pink Kush Network\n\n\"AS
	L TOKERS\" \n\n	Meet &amp\; Greet\, hosted by Cyn Matt\n\n\"Smash the Pa
	triarchy by Making Money\"\n\n	hosted by Melanie Coddington\, Founder of
	 Sungrown Studio\n\n	Melanie Coddington leads a talk on how women can lead
	 the plant medicine industry and why it’s critical we lose our shame aro
	und making money.\n\n6:30 - 7:30pm\n\n	ASK ANYTHING \"HEMP TALK\" \n\n	ho
	sted by Beth van Elswyk \n\n	From basic cannabis science of the plant\, t
	o growing\, products\, building materials\, brokering and business buildin
	g.\n\n	Networks\, resources and connections. Hemp is a huge disruptor\, le
	t's talk Hemp and Hang!\n\nSouthern US Sesh\n\n	hosted by Oklahoma based J
	ana Stolins\, Founder of CannaSource Pro\n\n\n7:30 - 8:30pm\n\"Act like a 
	lady\, Speak Like a Man\"  \n\n	A conversation hosted by Megan Theissen
	\, \"The Canna Mum\"\, Lethbridge\, Alberta Canada\n\n	Discussion on how t
	o show up in your truest form\, speak your dreams ambitions purpose missio
	n\n\n\nApply to host a session at a future event\n\n\n\n	 \n\n\n\n	INTERE
	STED IN SPONSORING?Visit Tokeativity.com/collaborate or email connect@t
	okeativity.com\n\n\n\n	 \n\n\n\n	Tokeativity Has Been Featured In:\n\n\n\
	n	\n\n\n	 \n\n\n\n	\n\n\n	 \n\n
DTSTART:20201111T000000Z
DTEND:20201111T043000Z
ATTENDEE;CN="Beth Hemp Huntress";CUTYPE=INDIVIDUAL;PARTSTAT=
	ACCEPTED:connect@tokeativity.com
ATTENDEE;CN="Wendy Mintey";CUTYPE=INDIVIDUAL;PARTSTAT=ACCEPT
	ED:connect@tokeativity.com
ATTENDEE;CN="Zippy";CUTYPE=INDIVIDUAL;PARTSTAT=ACCEPTED:conn
	ect@tokeativity.com
ATTENDEE;CN="Jill";CUTYPE=INDIVIDUAL;PARTSTAT=ACCEPTED:conne
	ct@tokeativity.com
ATTENDEE;CN="ripcitybitty";CUTYPE=INDIVIDUAL;PARTSTAT=ACCEPT
	ED:connect@tokeativity.com
ATTENDEE;CN="TreetopGardens";CUTYPE=INDIVIDUAL;PARTSTAT=ACCE
	PTED:connect@tokeativity.com
ATTENDEE;CN="Arly_irl";CUTYPE=INDIVIDUAL;PARTSTAT=ACCEPTED:c
	onnect@tokeativity.com
ATTENDEE;CN="Lisa Finelli Fallon";CUTYPE=INDIVIDUAL;PARTSTAT
	=ACCEPTED:connect@tokeativity.com
ATTENDEE;CN="Lindsey lincoln";CUTYPE=INDIVIDUAL;PARTSTAT=ACC
	EPTED:connect@tokeativity.com
ATTENDEE;CN="Jana Stolins CannaSourePro";CUTYPE=INDIVIDUAL;P
	ARTSTAT=ACCEPTED:connect@tokeativity.com
ATTENDEE;CN="Flyingfingers";CUTYPE=INDIVIDUAL;PARTSTAT=ACCEP
	TED:connect@tokeativity.com
ATTENDEE;CN="Blaze";CUTYPE=INDIVIDUAL;PARTSTAT=ACCEPTED:conn
	ect@tokeativity.com
ATTENDEE;CN="5150 Ganja Girlz";CUTYPE=INDIVIDUAL;PARTSTAT=AC
	CEPTED:connect@tokeativity.com
ATTENDEE;CN="iman_aurelia";CUTYPE=INDIVIDUAL;PARTSTAT=ACCEPT
	ED:connect@tokeativity.com
ATTENDEE;CN="Chronic Cardz";CUTYPE=INDIVIDUAL;PARTSTAT=ACCEP
	TED:connect@tokeativity.com
ATTENDEE;CN="Sweet Jane Mag";CUTYPE=INDIVIDUAL;PARTSTAT=ACCE
	PTED:connect@tokeativity.com
ATTENDEE;CN="talya";CUTYPE=INDIVIDUAL;PARTSTAT=ACCEPTED:conn
	ect@tokeativity.com
ATTENDEE;CN="Marketing Vanguard";CUTYPE=INDIVIDUAL;PARTSTAT=
	ACCEPTED:connect@tokeativity.com
ATTENDEE;CN="Tressa Yonekawa Bundren";CUTYPE=INDIVIDUAL;PART
	STAT=ACCEPTED:connect@tokeativity.com
ATTENDEE;CN="Charleerae";CUTYPE=INDIVIDUAL;PARTSTAT=ACCEPTED
	:connect@tokeativity.com
ATTENDEE;CN="Audrey";CUTYPE=INDIVIDUAL;PARTSTAT=ACCEPTED:con
	nect@tokeativity.com
ATTENDEE;CN="Amy Chin";CUTYPE=INDIVIDUAL;PARTSTAT=ACCEPTED:c
	onnect@tokeativity.com
ATTENDEE;CN="Katie Hawbaker";CUTYPE=INDIVIDUAL;PARTSTAT=ACCE
	PTED:connect@tokeativity.com
ATTENDEE;CN="Stoney Scorpio";CUTYPE=INDIVIDUAL;PARTSTAT=ACCE
	PTED:connect@tokeativity.com
ATTENDEE;CN="Sacredflowerkimberly";CUTYPE=INDIVIDUAL;PARTSTA
	T=ACCEPTED:connect@tokeativity.com
ATTENDEE;CN="Sophia Sexton";CUTYPE=INDIVIDUAL;PARTSTAT=ACCEP
	TED:connect@tokeativity.com
ATTENDEE;CN="Jill G";CUTYPE=INDIVIDUAL;PARTSTAT=ACCEPTED:con
	nect@tokeativity.com
ATTENDEE;CN="Alisha Lamore";CUTYPE=INDIVIDUAL;PARTSTAT=ACCEP
	TED:connect@tokeativity.com
ATTENDEE;CN="Teaghan Marconi";CUTYPE=INDIVIDUAL;PARTSTAT=ACC
	EPTED:connect@tokeativity.com
END:VEVENT
END:VCALENDAR
