BEGIN:VCALENDAR
VERSION:2.0
PRODID:-//IP.Board Calendar 4.7.5//EN
METHOD:PUBLISH
CALSCALE:GREGORIAN
X-WR-CALNAME:Tokeativity Calendar
BEGIN:VTIMEZONE
TZID:Europe/London
TZURL:http://tzurl.org/zoneinfo/Europe/London
X-LIC-LOCATION:Europe/London
BEGIN:DAYLIGHT
TZOFFSETFROM:+0000
TZOFFSETTO:+0100
TZNAME:BST
DTSTART:20200329T020000Z
RRULE:FREQ=YEARLY;BYMONTH=3;BYDAY=-1SU
END:DAYLIGHT
BEGIN:STANDARD
TZOFFSETFROM:+0100
TZOFFSETTO:+0000
TZNAME:GMT
DTSTART:20201025T020000Z
RRULE:FREQ=YEARLY;BYMONTH=10;BYDAY=-1SU
END:STANDARD
END:VTIMEZONE
BEGIN:VEVENT
SUMMARY:Tokeativity North America Presents: Witchy Woman
DTSTAMP:20201021T000627Z
SEQUENCE:0
UID:445-1-2dead269adc02be51f2f7a68eeb17a98@tokeativity.com
ORGANIZER;CN="Lisa":connect@tokeativity.com
DESCRIPTION:\n\n	Date: Oct 31\, 2020\nTime: 2:30 - 4:30pm Pacific / 5
	:30 - 7:30pm Eastern\nPlace: ONLINE\nRSVP for login details and password\n
	Cost: FREE FOR TOKEATIVITY BUSINESS &amp\; GRASSROOTS MEMBERS\nBasic Membe
	rs: Pay what you can\, sliding scale $0 - $25\n\n	A portion of the proceed
	s will go to National Bail Out\n\n\n\n	BROUGHT TO YOU BY\n\n\n\n\n	ABOUT T
	HIS EVENT\n\n	Once in a Blue Moon\, when the veil is at its thinnest and p
	owers of manifestation at their strongest-Witches who love weed will gathe
	r...\n\n	CALLING ALL WEED WITCHES ACROSS NORTH AMERICA!\n\n	You are cordia
	lly invited to our 4th annual WITCHY WOMAN DIGITAL SOCIAL!\n\n\n\n	Come to
	ke for a spell dressed in your witchiest! First 100 RSVPs will be entered 
	to win:\n\n\n\n	Witchy Gift Cards from Kush Kards\n\n\n\n\n	-OR-\n\n\n\n	C
	eramic Mushroom Set Giveaway by Handpicked Ceramics\n\n\n\n	\n\n\n\n	 \n\
	n\n\n	Enter to win our grand prize - A Witchy Woman Package from \n\n\n\n
		\n\nTake a picture of your costume on instagram\, tag @tokeativity and us
	e the hashtag #witchywoman2020. Winner will be announced at the event - mu
	st be present to win!\n\n\n\n	 \n\n\n\n	\n\n	Talk with the witches of the
	 Glowing Goddess Getaway \n\n\n\n\n	Come ready to set intentions with MsK
	indness\,  Founder of Club Kindness &amp\; EBK Apothecary\n\n\n\n	Women i
	n Weed Sesh Room with Pakaloh founder Rebecca Lee Katz\, Esp. and Leading 
	Hemp Law expert\, Courtney Moran\, LLM\n\n\n\n	Hang live with Erin Gardner
	\, Founder &amp\; Chief Artist at High Society Collection\n\n\n\n	Prepare 
	to have your most burning questions answered by @tarotwithcirce\n\n\n	Soot
	hing Sound Bowls with Jill Reyes\n\n\n\n	A portion of all proceeds will b
	e going to National Bail Out\, a Black-led and Black-centered collective 
	of\n\n	abolitionist organizers\, lawyers and activists building a communit
	y-based movement\n\n	to \"support our folks\" and end systems of pretrial 
	detention and ultimately mass incarceration. \n\n\n\n	 \n\n\n\n	INTEREST
	ED IN SPONSORING?Visit Tokeativity.com/collaborate or email connect@tok
	eativity.com\n\n\n\n	 \n\n\n\n	 \n\n\n\n	Schedule\n\n\n\n	Today 2:30P
	M–2:35PM · StagePakaloh Main Stage | Opening Remarks | Lisa Snyder &am
	p\; Samantha Montanaro\, Founders of TokeativityToday 2:35PM–2:45PM ·
	 StagePakaloh Main Stage | Witchy Woman Intention Setting with MskindnessT
	oday 2:45PM–3:15PM · SessionsCannabis Lawyer Q &amp\; A | USDA\, DEA 
	&amp\; related campaignswith Founder of Pakaloh\, Rebecca Lee Katz\, Esq. 
	&amp\; Courtney Moran\, LL.M.\, Founding Principal of EARTH Law\, LLC Tod
	ay 2:45PM–3:45PM · SessionsTarot Readings with CirceToday 2:45PM
	–4:15PM · SessionsSesh &amp\; Sodder with High Society CollectionHang 
	with Erin Colvin\, Founder of High Society Collection in her Portland\, OR
	 studio!Today 2:45PM–4:15PM · StagePakaloh Main Stage | Kia's Witchy 
	Woman PlaylistPlaylist by HQ's very own Kia Delaware!Today 2:45PM–5:0
	0PM · NetworkingWitchy Woman Speed SocializingMeet other bad ass weed wi
	tches from across the country!Today 3:15PM–3:45PM · SessionsWomen in 
	Weed Sesh Roomwith Founder of Pakaloh\, Rebecca Lee Katz\, Esq. &amp\; Cou
	rtney Moran\, LL.M.\, Founding Principal of EARTH Law\, LLCToday 3:20PM
	–3:50PM · SessionsSound Bowls &amp\; Meditation with Jill ReyesChill h
	ere for calm vibes with Jill Reyes!Today 3:20PM–4:15PM · SessionsGlow
	ing Goddess Sesh RoomHang with the women from the Glowing Goddess Getaway!
	 Learn more about their group @ glowinggoddessgetaway.comToday 3:20PM–
	4:15PM · SessionsBetter Care Dog Sesh: Communicating with AnimalsLove an
	imals? Learn to communicate better with them! Hosted by Tressa Yonekawa Bu
	ndrenToday 4:15PM–4:30PM · StagePakaloh Main Stage | Giveaways! Kush 
	Kards\, Ceramic Mushroom Set by Handpicked Ceramics &amp\; GRAND PRIZE: Hi
	gh Society Collection - MUST BE PRESENT TO WIN!RSVP NOW\n\n\n\n	 \n\n\n\n
		Tokeativity Has Been Featured In:\n\n\n\n	\n\n\n	 \n\n\n\n	\n\n\n	 \n\n
	\n\n	 \n\n\n
DTSTART:20201031T213000Z
DTEND:20201031T233000Z
ATTENDEE;CN="ecreswell8980@gmail.com";CUTYPE=INDIVIDUAL;PART
	STAT=ACCEPTED:connect@tokeativity.com
ATTENDEE;CN="LJ2602";CUTYPE=INDIVIDUAL;PARTSTAT=ACCEPTED:con
	nect@tokeativity.com
ATTENDEE;CN="MissFeliciaKacey";CUTYPE=INDIVIDUAL;PARTSTAT=AC
	CEPTED:connect@tokeativity.com
ATTENDEE;CN="Jennyfromtheblock";CUTYPE=INDIVIDUAL;PARTSTAT=A
	CCEPTED:connect@tokeativity.com
ATTENDEE;CN="TheCannaBossLady";CUTYPE=INDIVIDUAL;PARTSTAT=AC
	CEPTED:connect@tokeativity.com
ATTENDEE;CN="Bevin";CUTYPE=INDIVIDUAL;PARTSTAT=ACCEPTED:conn
	ect@tokeativity.com
ATTENDEE;CN="Jill";CUTYPE=INDIVIDUAL;PARTSTAT=ACCEPTED:conne
	ct@tokeativity.com
ATTENDEE;CN="Elevated vibes";CUTYPE=INDIVIDUAL;PARTSTAT=ACCE
	PTED:connect@tokeativity.com
ATTENDEE;CN="Lady Gemini";CUTYPE=INDIVIDUAL;PARTSTAT=ACCEPTE
	D:connect@tokeativity.com
ATTENDEE;CN="HannahFoxLee";CUTYPE=INDIVIDUAL;PARTSTAT=ACCEPT
	ED:connect@tokeativity.com
ATTENDEE;CN="Beth Hemp Huntress";CUTYPE=INDIVIDUAL;PARTSTAT=
	ACCEPTED:connect@tokeativity.com
ATTENDEE;CN="Sami Micelli";CUTYPE=INDIVIDUAL;PARTSTAT=ACCEPT
	ED:connect@tokeativity.com
ATTENDEE;CN="Alisha Lamore";CUTYPE=INDIVIDUAL;PARTSTAT=ACCEP
	TED:connect@tokeativity.com
ATTENDEE;CN="Wendy Mintey";CUTYPE=INDIVIDUAL;PARTSTAT=ACCEPT
	ED:connect@tokeativity.com
ATTENDEE;CN="Aunt Mimi";CUTYPE=INDIVIDUAL;PARTSTAT=ACCEPTED:
	connect@tokeativity.com
ATTENDEE;CN="Ryann Hinch";CUTYPE=INDIVIDUAL;PARTSTAT=ACCEPTE
	D:connect@tokeativity.com
ATTENDEE;CN="Yvonne Brown";CUTYPE=INDIVIDUAL;PARTSTAT=ACCEPT
	ED:connect@tokeativity.com
ATTENDEE;CN="TreetopGardens";CUTYPE=INDIVIDUAL;PARTSTAT=ACCE
	PTED:connect@tokeativity.com
ATTENDEE;CN="Noemi";CUTYPE=INDIVIDUAL;PARTSTAT=ACCEPTED:conn
	ect@tokeativity.com
ATTENDEE;CN="beans";CUTYPE=INDIVIDUAL;PARTSTAT=ACCEPTED:conn
	ect@tokeativity.com
ATTENDEE;CN="Candace_C";CUTYPE=INDIVIDUAL;PARTSTAT=ACCEPTED:
	connect@tokeativity.com
ATTENDEE;CN="Juju";CUTYPE=INDIVIDUAL;PARTSTAT=ACCEPTED:conne
	ct@tokeativity.com
ATTENDEE;CN="Amber LaLanna";CUTYPE=INDIVIDUAL;PARTSTAT=ACCEP
	TED:connect@tokeativity.com
ATTENDEE;CN="Raediate";CUTYPE=INDIVIDUAL;PARTSTAT=ACCEPTED:c
	onnect@tokeativity.com
ATTENDEE;CN="Jessica Baker";CUTYPE=INDIVIDUAL;PARTSTAT=ACCEP
	TED:connect@tokeativity.com
ATTENDEE;CN="Kay*";CUTYPE=INDIVIDUAL;PARTSTAT=ACCEPTED:conne
	ct@tokeativity.com
ATTENDEE;CN="Blaze";CUTYPE=INDIVIDUAL;PARTSTAT=ACCEPTED:conn
	ect@tokeativity.com
ATTENDEE;CN="Caitlin";CUTYPE=INDIVIDUAL;PARTSTAT=ACCEPTED:co
	nnect@tokeativity.com
ATTENDEE;CN="GCClub";CUTYPE=INDIVIDUAL;PARTSTAT=ACCEPTED:con
	nect@tokeativity.com
ATTENDEE;CN="Sridgley0512@gmail.com";CUTYPE=INDIVIDUAL;PARTS
	TAT=ACCEPTED:connect@tokeativity.com
ATTENDEE;CN="charm_azing";CUTYPE=INDIVIDUAL;PARTSTAT=ACCEPTE
	D:connect@tokeativity.com
ATTENDEE;CN="Stoney Scorpio";CUTYPE=INDIVIDUAL;PARTSTAT=ACCE
	PTED:connect@tokeativity.com
ATTENDEE;CN="ErinC";CUTYPE=INDIVIDUAL;PARTSTAT=ACCEPTED:conn
	ect@tokeativity.com
ATTENDEE;CN="ripcitybitty";CUTYPE=INDIVIDUAL;PARTSTAT=ACCEPT
	ED:connect@tokeativity.com
ATTENDEE;CN="aseyeseeit";CUTYPE=INDIVIDUAL;PARTSTAT=ACCEPTED
	:connect@tokeativity.com
ATTENDEE;CN="Sailene";CUTYPE=INDIVIDUAL;PARTSTAT=ACCEPTED:co
	nnect@tokeativity.com
ATTENDEE;CN="Munkiepumkin";CUTYPE=INDIVIDUAL;PARTSTAT=ACCEPT
	ED:connect@tokeativity.com
ATTENDEE;CN="Nai~nai";CUTYPE=INDIVIDUAL;PARTSTAT=ACCEPTED:co
	nnect@tokeativity.com
ATTENDEE;CN="The Mommy Jane";CUTYPE=INDIVIDUAL;PARTSTAT=ACCE
	PTED:connect@tokeativity.com
ATTENDEE;CN="FreckledKush";CUTYPE=INDIVIDUAL;PARTSTAT=ACCEPT
	ED:connect@tokeativity.com
ATTENDEE;CN="Keiko Beatie";CUTYPE=INDIVIDUAL;PARTSTAT=ACCEPT
	ED:connect@tokeativity.com
ATTENDEE;CN="Tressa Yonekawa Bundren";CUTYPE=INDIVIDUAL;PART
	STAT=ACCEPTED:connect@tokeativity.com
ATTENDEE;CN="Ljp415";CUTYPE=INDIVIDUAL;PARTSTAT=ACCEPTED:con
	nect@tokeativity.com
ATTENDEE;CN="Jefnewby";CUTYPE=INDIVIDUAL;PARTSTAT=ACCEPTED:c
	onnect@tokeativity.com
ATTENDEE;CN="Lisa";CUTYPE=INDIVIDUAL;PARTSTAT=ACCEPTED:conne
	ct@tokeativity.com
ATTENDEE;CN="Leigh Breslin";CUTYPE=INDIVIDUAL;PARTSTAT=ACCEP
	TED:connect@tokeativity.com
ATTENDEE;CN="Kali";CUTYPE=INDIVIDUAL;PARTSTAT=ACCEPTED:conne
	ct@tokeativity.com
ATTENDEE;CN="Smith_7075";CUTYPE=INDIVIDUAL;PARTSTAT=ACCEPTED
	:connect@tokeativity.com
ATTENDEE;CN="Liv Vasquez";CUTYPE=INDIVIDUAL;PARTSTAT=ACCEPTE
	D:connect@tokeativity.com
ATTENDEE;CN="Deidra";CUTYPE=INDIVIDUAL;PARTSTAT=ACCEPTED:con
	nect@tokeativity.com
ATTENDEE;CN="Galaxy Gal DJ";CUTYPE=INDIVIDUAL;PARTSTAT=ACCEP
	TED:connect@tokeativity.com
ATTENDEE;CN="Eminthekitchen";CUTYPE=INDIVIDUAL;PARTSTAT=ACCE
	PTED:connect@tokeativity.com
ATTENDEE;CN="Amy Chin";CUTYPE=INDIVIDUAL;PARTSTAT=ACCEPTED:c
	onnect@tokeativity.com
ATTENDEE;CN="The Fitness Witch LA";CUTYPE=INDIVIDUAL;PARTSTA
	T=ACCEPTED:connect@tokeativity.com
END:VEVENT
END:VCALENDAR
