BEGIN:VCALENDAR
VERSION:2.0
PRODID:-//IP.Board Calendar 4.7.5//EN
METHOD:PUBLISH
CALSCALE:GREGORIAN
X-WR-CALNAME:Tokeativity Calendar
BEGIN:VTIMEZONE
TZID:Europe/London
TZURL:http://tzurl.org/zoneinfo/Europe/London
X-LIC-LOCATION:Europe/London
BEGIN:DAYLIGHT
TZOFFSETFROM:+0000
TZOFFSETTO:+0100
TZNAME:BST
DTSTART:20200329T020000Z
RRULE:FREQ=YEARLY;BYMONTH=3;BYDAY=-1SU
END:DAYLIGHT
BEGIN:STANDARD
TZOFFSETFROM:+0100
TZOFFSETTO:+0000
TZNAME:GMT
DTSTART:20201025T020000Z
RRULE:FREQ=YEARLY;BYMONTH=10;BYDAY=-1SU
END:STANDARD
END:VTIMEZONE
BEGIN:VEVENT
SUMMARY:BRIDGES: A Conversational Event Series about Race\, Equity &
	 Inclusion
DTSTAMP:20201002T174046Z
SEQUENCE:0
UID:439-1-2dead269adc02be51f2f7a68eeb17a98@tokeativity.com
ORGANIZER;CN="Lisa":connect@tokeativity.com
DESCRIPTION:\n\n	Date: Oct 8\, 2020\nTime: 4 - 6pm Pacific\nPlace: ON
	LINE\nRSVP for login details and password\nCost: FREE FOR TOKEATIVITY BUSI
	NESS &amp\; GRASSROOTS MEMBERS\nBasic Members: Pay what you can\, sliding 
	scale $0 - $25\nA portion of all proceeds will be going to Voix Noire\,
	 a safe space for Black women\, marginalized genders and children\n\n	to 
	seek and receive assistance via reparations from non-Black individuals.\n\
	nHosted By: Mskindness B. Ramirez\n\n\n\n	\n\n\n	ABOUT THIS EVENT\n\n\n\n
		This events series will feature a community of brave women and bridge ma
	kers\, seeking to develop tools for greater collaboration and healing in o
	ur society. \n\n\n\n	Panelists will lean into challenging discussions by 
	encouraging women and allies from all backgrounds to submit anonymous ques
	tions\, while fostering an environment of conjoinment and desire for growt
	h. \n\n\n\n	This October 8th event will focus on the topic of \"Tokenism\,
	 Inclusion and Opportunity\". If you'd like to submit anonymous questions 
	for our panelists\, please fill out this form.\n\n\n\n	SCHEDULE (in Pacifi
	c time)\n\nMAIN STAGE\n\n\n	4:00 - 5:00pm\n\n\n	Opening Remarks \n\nSpeci
	al Guest Panelists\n\n\n	   \n\n\n	Dr. Tiffany Bowden\, Anti-Racism Edu
	cator &amp\; Diversity Consultant\n\n	Chef Andrea Drummer\, Executive Che
	f of America’s First Cannabis Cafe\n\n	Tiffany Watkins\, Founder of Van
	guard Magazine\n\n\n\n	\n5:00pm - 6:00pm\n\n	Live Q &amp\; A with the pane
	lists\nSubmit your anonymous questions here\n\n\n\n	INTERESTED IN CONTRIBU
	TING TOPICS FOR THIS EVENTS SERIES?Visit http://bit.ly/bridgespoll\n\n	 
	\n\n\n\n	INTERESTED IN SPONSORING?Visit Tokeativity.com/collaborate or 
	email connect@tokeativity.com\n\n\n\n	 \n\n\n\n	Tokeativity Has Been Feat
	ured In:\n\n\n\n	\n\n\n	 \n\n\n\n	 \n\n
DTSTART:20201008T230000Z
DTEND:20201009T010000Z
ATTENDEE;CN="Christine Ellis";CUTYPE=INDIVIDUAL;PARTSTAT=ACC
	EPTED:connect@tokeativity.com
ATTENDEE;CN="lorendevito";CUTYPE=INDIVIDUAL;PARTSTAT=ACCEPTE
	D:connect@tokeativity.com
ATTENDEE;CN="Pax";CUTYPE=INDIVIDUAL;PARTSTAT=ACCEPTED:connec
	t@tokeativity.com
ATTENDEE;CN="DottieJL";CUTYPE=INDIVIDUAL;PARTSTAT=ACCEPTED:c
	onnect@tokeativity.com
ATTENDEE;CN="Joan - HempStaff";CUTYPE=INDIVIDUAL;PARTSTAT=AC
	CEPTED:connect@tokeativity.com
ATTENDEE;CN="TheCannaBossLady";CUTYPE=INDIVIDUAL;PARTSTAT=AC
	CEPTED:connect@tokeativity.com
ATTENDEE;CN="AshleyNN";CUTYPE=INDIVIDUAL;PARTSTAT=ACCEPTED:c
	onnect@tokeativity.com
ATTENDEE;CN="Ella";CUTYPE=INDIVIDUAL;PARTSTAT=ACCEPTED:conne
	ct@tokeativity.com
ATTENDEE;CN="Lisa";CUTYPE=INDIVIDUAL;PARTSTAT=ACCEPTED:conne
	ct@tokeativity.com
ATTENDEE;CN="JessG";CUTYPE=INDIVIDUAL;PARTSTAT=ACCEPTED:conn
	ect@tokeativity.com
ATTENDEE;CN="Ally Schott";CUTYPE=INDIVIDUAL;PARTSTAT=ACCEPTE
	D:connect@tokeativity.com
ATTENDEE;CN="Chiara";CUTYPE=INDIVIDUAL;PARTSTAT=ACCEPTED:con
	nect@tokeativity.com
ATTENDEE;CN="907butterfly@gmail.com";CUTYPE=INDIVIDUAL;PARTS
	TAT=ACCEPTED:connect@tokeativity.com
ATTENDEE;CN="Wendy Mintey";CUTYPE=INDIVIDUAL;PARTSTAT=ACCEPT
	ED:connect@tokeativity.com
ATTENDEE;CN="Beth Hemp Huntress";CUTYPE=INDIVIDUAL;PARTSTAT=
	ACCEPTED:connect@tokeativity.com
ATTENDEE;CN="Laurie.Clayton";CUTYPE=INDIVIDUAL;PARTSTAT=ACCE
	PTED:connect@tokeativity.com
ATTENDEE;CN="Tiffany Watkins";CUTYPE=INDIVIDUAL;PARTSTAT=ACC
	EPTED:connect@tokeativity.com
ATTENDEE;CN="Sheri Lupoli";CUTYPE=INDIVIDUAL;PARTSTAT=ACCEPT
	ED:connect@tokeativity.com
ATTENDEE;CN="Co!";CUTYPE=INDIVIDUAL;PARTSTAT=ACCEPTED:connec
	t@tokeativity.com
ATTENDEE;CN="eduardocabral";CUTYPE=INDIVIDUAL;PARTSTAT=ACCEP
	TED:connect@tokeativity.com
ATTENDEE;CN="Lauren Yoshiko";CUTYPE=INDIVIDUAL;PARTSTAT=ACCE
	PTED:connect@tokeativity.com
ATTENDEE;CN="Amy Chin";CUTYPE=INDIVIDUAL;PARTSTAT=ACCEPTED:c
	onnect@tokeativity.com
ATTENDEE;CN="Elizabeth";CUTYPE=INDIVIDUAL;PARTSTAT=ACCEPTED:
	connect@tokeativity.com
ATTENDEE;CN="Tracie Staten-Mirch";CUTYPE=INDIVIDUAL;PARTSTAT
	=ACCEPTED:connect@tokeativity.com
ATTENDEE;CN="Casey Nye-Herrington";CUTYPE=INDIVIDUAL;PARTSTA
	T=ACCEPTED:connect@tokeativity.com
ATTENDEE;CN="LilyK_PQ";CUTYPE=INDIVIDUAL;PARTSTAT=ACCEPTED:c
	onnect@tokeativity.com
ATTENDEE;CN="Shey";CUTYPE=INDIVIDUAL;PARTSTAT=ACCEPTED:conne
	ct@tokeativity.com
ATTENDEE;CN="talya";CUTYPE=INDIVIDUAL;PARTSTAT=ACCEPTED:conn
	ect@tokeativity.com
ATTENDEE;CN="AirSeed";CUTYPE=INDIVIDUAL;PARTSTAT=ACCEPTED:co
	nnect@tokeativity.com
ATTENDEE;CN="Chris T.";CUTYPE=INDIVIDUAL;PARTSTAT=ACCEPTED:c
	onnect@tokeativity.com
ATTENDEE;CN="ripcitybitty";CUTYPE=INDIVIDUAL;PARTSTAT=ACCEPT
	ED:connect@tokeativity.com
ATTENDEE;CN="candy@weedmaps.com";CUTYPE=INDIVIDUAL;PARTSTAT=
	ACCEPTED:connect@tokeativity.com
ATTENDEE;CN="Nalia";CUTYPE=INDIVIDUAL;PARTSTAT=ACCEPTED:conn
	ect@tokeativity.com
ATTENDEE;CN="cat.the.lion";CUTYPE=INDIVIDUAL;PARTSTAT=ACCEPT
	ED:connect@tokeativity.com
ATTENDEE;CN="Jill G";CUTYPE=INDIVIDUAL;PARTSTAT=ACCEPTED:con
	nect@tokeativity.com
ATTENDEE;CN="this is jane project";CUTYPE=INDIVIDUAL;PARTSTA
	T=ACCEPTED:connect@tokeativity.com
ATTENDEE;CN="CannaCalyn";CUTYPE=INDIVIDUAL;PARTSTAT=ACCEPTED
	:connect@tokeativity.com
ATTENDEE;CN="VapeJawn";CUTYPE=INDIVIDUAL;PARTSTAT=ACCEPTED:c
	onnect@tokeativity.com
END:VEVENT
END:VCALENDAR
