BEGIN:VCALENDAR
VERSION:2.0
PRODID:-//IP.Board Calendar 4.7.5//EN
METHOD:PUBLISH
CALSCALE:GREGORIAN
X-WR-CALNAME:Tokeativity Calendar
BEGIN:VTIMEZONE
TZID:Europe/London
TZURL:http://tzurl.org/zoneinfo/Europe/London
X-LIC-LOCATION:Europe/London
BEGIN:DAYLIGHT
TZOFFSETFROM:+0000
TZOFFSETTO:+0100
TZNAME:BST
DTSTART:20200329T020000Z
RRULE:FREQ=YEARLY;BYMONTH=3;BYDAY=-1SU
END:DAYLIGHT
BEGIN:STANDARD
TZOFFSETFROM:+0100
TZOFFSETTO:+0000
TZNAME:GMT
DTSTART:20201025T020000Z
RRULE:FREQ=YEARLY;BYMONTH=10;BYDAY=-1SU
END:STANDARD
END:VTIMEZONE
BEGIN:VEVENT
SUMMARY:October North America Toking Hour
DTSTAMP:20200914T073657Z
SEQUENCE:0
UID:438-1-2dead269adc02be51f2f7a68eeb17a98@tokeativity.com
ORGANIZER;CN="Lisa":connect@tokeativity.com
DESCRIPTION:\n\n	Date: Oct 13\, 2020\nTime: 4 - 8:30pm Pacific / 7 - 
	11:30pm Eastern\nPlace: ONLINE\nRSVP for login details and password\nCost:
	 FREE FOR TOKEATIVITY BUSINESS &amp\; GRASSROOTS MEMBERS\nBasic Members: P
	ay what you can\, sliding scale $0 - $25\n\n	A portion of the proceeds wil
	l go to National Bail Out\n\n\n\n	ABOUT THIS EVENT\n\n	The Toking Hour is 
	a consumption friendly online event to connect with our collective cannabi
	s community \n\n	across North America\, hosted by Tokeativity leaders i
	n various cities in our network.\n\n\n	A portion of all proceeds will be 
	going to National Bail Out\, a Black-led and Black-centered collective of
	\n\n	abolitionist organizers\, lawyers and activists building a community-
	based movement\n\n	to \"support our folks\" and end systems of pretrial de
	tention and ultimately mass incarceration. \n\nJoin us for\n\n\n	Opening 
	Remarks - Lisa Snyder &amp\; Samantha Montanaro\, Founders of Tokeativity\
	n\n	&amp\; Intention Setting with Tressa Yonekawa Bundren of St. Crazy Gir
	l \n\n\nBlack Women &amp\; Cannabis\n\n	Hosted by Tiffany Watkins\, Found
	er of Vanguard Media &amp\; Bianca Prachyl\, Founder of Bliss Molecules\n
	\n\"ASL TOKERS\" \n\n	Meet &amp\; Greet\, hosted by Cyn Matt\n\nCannamom
	s Meet &amp\; Greet hosted by Sweet Jane Magazine &amp\; Destiny Simon\n\
	n\n	+ MORE! Apply to host a session\n\n\n\n	 \n\n\n\n	INTERESTED IN SPONS
	ORING?Visit Tokeativity.com/collaborate or email connect@tokeativity.co
	m\n\n\n\n	 \n\n\n\n	Tokeativity Has Been Featured In:\n\n\n\n	\n\n\n	 \n
	\n\n\n	\n\n\n	 \n\n
DTSTART:20201013T230000Z
DTEND:20201014T033000Z
ATTENDEE;CN="Lisa";CUTYPE=INDIVIDUAL;PARTSTAT=ACCEPTED:conne
	ct@tokeativity.com
ATTENDEE;CN="Tiffany Watkins";CUTYPE=INDIVIDUAL;PARTSTAT=ACC
	EPTED:connect@tokeativity.com
ATTENDEE;CN="TreetopGardens";CUTYPE=INDIVIDUAL;PARTSTAT=ACCE
	PTED:connect@tokeativity.com
ATTENDEE;CN="leah";CUTYPE=INDIVIDUAL;PARTSTAT=ACCEPTED:conne
	ct@tokeativity.com
ATTENDEE;CN="Amy Chin";CUTYPE=INDIVIDUAL;PARTSTAT=ACCEPTED:c
	onnect@tokeativity.com
ATTENDEE;CN="Sheri Lupoli";CUTYPE=INDIVIDUAL;PARTSTAT=ACCEPT
	ED:connect@tokeativity.com
ATTENDEE;CN="Rebecca.mba";CUTYPE=INDIVIDUAL;PARTSTAT=ACCEPTE
	D:connect@tokeativity.com
ATTENDEE;CN="Blaze";CUTYPE=INDIVIDUAL;PARTSTAT=ACCEPTED:conn
	ect@tokeativity.com
ATTENDEE;CN="Chiara";CUTYPE=INDIVIDUAL;PARTSTAT=ACCEPTED:con
	nect@tokeativity.com
ATTENDEE;CN="Galaxy Gal DJ";CUTYPE=INDIVIDUAL;PARTSTAT=ACCEP
	TED:connect@tokeativity.com
ATTENDEE;CN="Beth Hemp Huntress";CUTYPE=INDIVIDUAL;PARTSTAT=
	ACCEPTED:connect@tokeativity.com
ATTENDEE;CN="talya";CUTYPE=INDIVIDUAL;PARTSTAT=ACCEPTED:conn
	ect@tokeativity.com
ATTENDEE;CN="Haley Burgess";CUTYPE=INDIVIDUAL;PARTSTAT=ACCEP
	TED:connect@tokeativity.com
ATTENDEE;CN="Zippy";CUTYPE=INDIVIDUAL;PARTSTAT=ACCEPTED:conn
	ect@tokeativity.com
ATTENDEE;CN="907butterfly@gmail.com";CUTYPE=INDIVIDUAL;PARTS
	TAT=ACCEPTED:connect@tokeativity.com
ATTENDEE;CN="galaxy_grrrl";CUTYPE=INDIVIDUAL;PARTSTAT=ACCEPT
	ED:connect@tokeativity.com
ATTENDEE;CN="Amber";CUTYPE=INDIVIDUAL;PARTSTAT=ACCEPTED:conn
	ect@tokeativity.com
ATTENDEE;CN="TheCannaBossLady";CUTYPE=INDIVIDUAL;PARTSTAT=AC
	CEPTED:connect@tokeativity.com
ATTENDEE;CN="GenaZM";CUTYPE=INDIVIDUAL;PARTSTAT=ACCEPTED:con
	nect@tokeativity.com
ATTENDEE;CN="Dope Culinary Reactions";CUTYPE=INDIVIDUAL;PART
	STAT=ACCEPTED:connect@tokeativity.com
ATTENDEE;CN="Tara Bernstein";CUTYPE=INDIVIDUAL;PARTSTAT=ACCE
	PTED:connect@tokeativity.com
ATTENDEE;CN="Cynthia Pohlman";CUTYPE=INDIVIDUAL;PARTSTAT=ACC
	EPTED:connect@tokeativity.com
ATTENDEE;CN="Desirebleu";CUTYPE=INDIVIDUAL;PARTSTAT=ACCEPTED
	:connect@tokeativity.com
ATTENDEE;CN="Dr. Leah-Cannabis Educator";CUTYPE=INDIVIDUAL;P
	ARTSTAT=ACCEPTED:connect@tokeativity.com
ATTENDEE;CN="Joyce1965";CUTYPE=INDIVIDUAL;PARTSTAT=ACCEPTED:
	connect@tokeativity.com
ATTENDEE;CN="Comfortably Numb";CUTYPE=INDIVIDUAL;PARTSTAT=AC
	CEPTED:connect@tokeativity.com
ATTENDEE;CN="Dana Love";CUTYPE=INDIVIDUAL;PARTSTAT=ACCEPTED:
	connect@tokeativity.com
ATTENDEE;CN="Sharon K";CUTYPE=INDIVIDUAL;PARTSTAT=ACCEPTED:c
	onnect@tokeativity.com
ATTENDEE;CN="Nisha";CUTYPE=INDIVIDUAL;PARTSTAT=ACCEPTED:conn
	ect@tokeativity.com
ATTENDEE;CN="JessG";CUTYPE=INDIVIDUAL;PARTSTAT=ACCEPTED:conn
	ect@tokeativity.com
ATTENDEE;CN="Joan - HempStaff";CUTYPE=INDIVIDUAL;PARTSTAT=AC
	CEPTED:connect@tokeativity.com
ATTENDEE;CN="Joy";CUTYPE=INDIVIDUAL;PARTSTAT=ACCEPTED:connec
	t@tokeativity.com
ATTENDEE;CN="Hope";CUTYPE=INDIVIDUAL;PARTSTAT=ACCEPTED:conne
	ct@tokeativity.com
ATTENDEE;CN="High Risk Biz Solutions";CUTYPE=INDIVIDUAL;PART
	STAT=ACCEPTED:connect@tokeativity.com
ATTENDEE;CN="Heather Roberson";CUTYPE=INDIVIDUAL;PARTSTAT=AC
	CEPTED:connect@tokeativity.com
ATTENDEE;CN="Cyn Matt";CUTYPE=INDIVIDUAL;PARTSTAT=ACCEPTED:c
	onnect@tokeativity.com
ATTENDEE;CN="re_runge";CUTYPE=INDIVIDUAL;PARTSTAT=ACCEPTED:c
	onnect@tokeativity.com
ATTENDEE;CN="Flyingfingers";CUTYPE=INDIVIDUAL;PARTSTAT=ACCEP
	TED:connect@tokeativity.com
ATTENDEE;CN="KristinB420";CUTYPE=INDIVIDUAL;PARTSTAT=ACCEPTE
	D:connect@tokeativity.com
ATTENDEE;CN="Librarian820";CUTYPE=INDIVIDUAL;PARTSTAT=ACCEPT
	ED:connect@tokeativity.com
ATTENDEE;CN="Rebecca 💚💚💚";CUTYPE=INDIVIDUAL;PARTSTA
	T=ACCEPTED:connect@tokeativity.com
ATTENDEE;CN="ecreswell8980@gmail.com";CUTYPE=INDIVIDUAL;PART
	STAT=ACCEPTED:connect@tokeativity.com
ATTENDEE;CN="ripcitybitty";CUTYPE=INDIVIDUAL;PARTSTAT=ACCEPT
	ED:connect@tokeativity.com
ATTENDEE;CN="Leigh Breslin";CUTYPE=INDIVIDUAL;PARTSTAT=ACCEP
	TED:connect@tokeativity.com
ATTENDEE;CN="Mike C";CUTYPE=INDIVIDUAL;PARTSTAT=ACCEPTED:con
	nect@tokeativity.com
ATTENDEE;CN="Murr";CUTYPE=INDIVIDUAL;PARTSTAT=ACCEPTED:conne
	ct@tokeativity.com
ATTENDEE;CN="Wendy Mintey";CUTYPE=INDIVIDUAL;PARTSTAT=ACCEPT
	ED:connect@tokeativity.com
ATTENDEE;CN="Sophie";CUTYPE=INDIVIDUAL;PARTSTAT=ACCEPTED:con
	nect@tokeativity.com
ATTENDEE;CN="Co!";CUTYPE=INDIVIDUAL;PARTSTAT=ACCEPTED:connec
	t@tokeativity.com
ATTENDEE;CN="Tanya Roth";CUTYPE=INDIVIDUAL;PARTSTAT=ACCEPTED
	:connect@tokeativity.com
ATTENDEE;CN="Cooking with CannaBelews";CUTYPE=INDIVIDUAL;PAR
	TSTAT=ACCEPTED:connect@tokeativity.com
ATTENDEE;CN="Sophia Sexton";CUTYPE=INDIVIDUAL;PARTSTAT=ACCEP
	TED:connect@tokeativity.com
ATTENDEE;CN="SafeCannaHaven";CUTYPE=INDIVIDUAL;PARTSTAT=ACCE
	PTED:connect@tokeativity.com
ATTENDEE;CN="Marne M";CUTYPE=INDIVIDUAL;PARTSTAT=ACCEPTED:co
	nnect@tokeativity.com
ATTENDEE;CN="Sensational Sam";CUTYPE=INDIVIDUAL;PARTSTAT=ACC
	EPTED:connect@tokeativity.com
ATTENDEE;CN="Dr. Tasia Henderson";CUTYPE=INDIVIDUAL;PARTSTAT
	=ACCEPTED:connect@tokeativity.com
ATTENDEE;CN="Lauren Yoshiko";CUTYPE=INDIVIDUAL;PARTSTAT=ACCE
	PTED:connect@tokeativity.com
ATTENDEE;CN="Farmer's Friend Extracts";CUTYPE=INDIVIDUAL;PAR
	TSTAT=ACCEPTED:connect@tokeativity.com
ATTENDEE;CN="Amarett";CUTYPE=INDIVIDUAL;PARTSTAT=ACCEPTED:co
	nnect@tokeativity.com
ATTENDEE;CN="Hholtmyer";CUTYPE=INDIVIDUAL;PARTSTAT=ACCEPTED:
	connect@tokeativity.com
ATTENDEE;CN="deb";CUTYPE=INDIVIDUAL;PARTSTAT=ACCEPTED:connec
	t@tokeativity.com
ATTENDEE;CN="Corina Merritt";CUTYPE=INDIVIDUAL;PARTSTAT=ACCE
	PTED:connect@tokeativity.com
ATTENDEE;CN="Marta";CUTYPE=INDIVIDUAL;PARTSTAT=ACCEPTED:conn
	ect@tokeativity.com
ATTENDEE;CN="Missy Strickland";CUTYPE=INDIVIDUAL;PARTSTAT=AC
	CEPTED:connect@tokeativity.com
ATTENDEE;CN="Sierre Siemens";CUTYPE=INDIVIDUAL;PARTSTAT=ACCE
	PTED:connect@tokeativity.com
ATTENDEE;CN="mjoatman@gmail.com";CUTYPE=INDIVIDUAL;PARTSTAT=
	ACCEPTED:connect@tokeativity.com
ATTENDEE;CN="Gay";CUTYPE=INDIVIDUAL;PARTSTAT=ACCEPTED:connec
	t@tokeativity.com
ATTENDEE;CN="Kim Hills";CUTYPE=INDIVIDUAL;PARTSTAT=ACCEPTED:
	connect@tokeativity.com
ATTENDEE;CN="ClairvoyantClaws";CUTYPE=INDIVIDUAL;PARTSTAT=AC
	CEPTED:connect@tokeativity.com
ATTENDEE;CN="CannaCalyn";CUTYPE=INDIVIDUAL;PARTSTAT=ACCEPTED
	:connect@tokeativity.com
ATTENDEE;CN="Rose Leigh Anne Weinberg";CUTYPE=INDIVIDUAL;PAR
	TSTAT=ACCEPTED:connect@tokeativity.com
ATTENDEE;CN="whitebuffalocannabis";CUTYPE=INDIVIDUAL;PARTSTA
	T=ACCEPTED:connect@tokeativity.com
ATTENDEE;CN="Rana";CUTYPE=INDIVIDUAL;PARTSTAT=ACCEPTED:conne
	ct@tokeativity.com
END:VEVENT
END:VCALENDAR
