BEGIN:VCALENDAR
VERSION:2.0
PRODID:-//IP.Board Calendar 4.7.5//EN
METHOD:PUBLISH
CALSCALE:GREGORIAN
X-WR-CALNAME:Events
BEGIN:VTIMEZONE
TZID:Europe/London
TZURL:http://tzurl.org/zoneinfo/Europe/London
X-LIC-LOCATION:Europe/London
BEGIN:DAYLIGHT
TZOFFSETFROM:+0000
TZOFFSETTO:+0100
TZNAME:BST
DTSTART:20200329T020000Z
RRULE:FREQ=YEARLY;BYMONTH=3;BYDAY=-1SU
END:DAYLIGHT
BEGIN:STANDARD
TZOFFSETFROM:+0100
TZOFFSETTO:+0000
TZNAME:GMT
DTSTART:20201025T020000Z
RRULE:FREQ=YEARLY;BYMONTH=10;BYDAY=-1SU
END:STANDARD
END:VTIMEZONE
BEGIN:VEVENT
SUMMARY:Tokeativity Eugene Craft Night: Love Yourself More
DTSTAMP:20200207T184923Z
SEQUENCE:0
UID:337-9-2dead269adc02be51f2f7a68eeb17a98@tokeativity.com
ORGANIZER;CN="Lisa":connect@tokeativity.com
DESCRIPTION:\n\n	Tokeativity works to empower women at the root level an
	d forward the normalization of cannabis through in person and online event
	s happening across the globe where women connect\, learn and create.\n\n\
	n\n	AS SEEN IN\n\n\n\n	\n\n\n	Join us for our a Tokeativity Craft Night!\n
	Wear red\, pink or anything that makes you feel amazing\n\n\n\n	\n\nSpecia
	l guests and fun include:\n\n\n	Write a love letter to your future self\, 
	we'll send it in 6 months!\n\n	Make a card for a loved one\n\n	Learn how t
	o get more involved in Tokeativity Eugene\n\n	Women Leaders in Cannabis - 
	hangout and plan for 2020 with WLC - live signs ups to get involved!\n\n\n
	\n	Email us if you'd like to sponsor or get involved in this or future eve
	nts: eugene@tokeativity.com\n\n\n\n	 \n\n\n\n	Join us! \n\n\n\n	Date: Sa
	t Feb 15\, 2020\nTime: 7-10pm Pacific\nPlace: Private location in Eugene\n
	Register for address and event details\n*LIMITED TO 45*\n\nGrassroots &amp
	\; Business Tokeativity Members: FREE\nSave 20% now when you upgrade your 
	membership PLUS bring a friend for free! \nUse coupon code eugene to upgra
	de\n\nBasic Tokeativity Members:  $15 thru 2/13 \, $20 after\n\n\n\n	\n\n\
	n\n	REGISTER NOW\n\n	Tokeativity.com/events\n\nSPECIAL ACCESS REQUIRED TO 
	REGISTER FOR THIS MEMBER-ONLY EVENT!\n\n\n\n	Our non profit social club wo
	rks to empower women at the root level by creating social\, interactive an
	d creative environments\, with a focus on plant based medicine\, for women
	 to explore personal and professional growth in a space away from the male
	 gaze.\n\nYOU MUST BE AN APPROVED MEMBER OF OUR PRIVATE SOCIAL CLUB\n\n	If
	 you are not yet a member of our private social club\, you will need to ap
	ply.\nApplying is easy and gets reviewed several times a week. You can app
	ly here.\n\n	If you are approved\, you will receive an email confirmation 
	of approval with an invitation to continue registering for social club eve
	nts for the year\, including this event.\n\n
DTSTART:20200216T030000Z
DTEND:20200216T060000Z
ATTENDEE;CN="Wendy Mintey";CUTYPE=INDIVIDUAL;PARTSTAT=ACCEPT
	ED:connect@tokeativity.com
ATTENDEE;CN="grapelor";CUTYPE=INDIVIDUAL;PARTSTAT=ACCEPTED:c
	onnect@tokeativity.com
ATTENDEE;CN="ecreswell8980@gmail.com";CUTYPE=INDIVIDUAL;PART
	STAT=ACCEPTED:connect@tokeativity.com
ATTENDEE;CN="Jenelle Pearson";CUTYPE=INDIVIDUAL;PARTSTAT=ACC
	EPTED:connect@tokeativity.com
ATTENDEE;CN="Jolene Diane";CUTYPE=INDIVIDUAL;PARTSTAT=ACCEPT
	ED:connect@tokeativity.com
ATTENDEE;CN="HighFelicia";CUTYPE=INDIVIDUAL;PARTSTAT=ACCEPTE
	D:connect@tokeativity.com
ATTENDEE;CN="Bethany H.";CUTYPE=INDIVIDUAL;PARTSTAT=ACCEPTED
	:connect@tokeativity.com
ATTENDEE;CN="Kaylasmomma910";CUTYPE=INDIVIDUAL;PARTSTAT=ACCE
	PTED:connect@tokeativity.com
ATTENDEE;CN="AishaL";CUTYPE=INDIVIDUAL;PARTSTAT=ACCEPTED:con
	nect@tokeativity.com
ATTENDEE;CN="LunaMaePNW";CUTYPE=INDIVIDUAL;PARTSTAT=ACCEPTED
	:connect@tokeativity.com
ATTENDEE;CN="D-Force 1";CUTYPE=INDIVIDUAL;PARTSTAT=ACCEPTED:
	connect@tokeativity.com
ATTENDEE;CN="Lovelight Reiki";CUTYPE=INDIVIDUAL;PARTSTAT=ACC
	EPTED:connect@tokeativity.com
ATTENDEE;CN="sara skow";CUTYPE=INDIVIDUAL;PARTSTAT=ACCEPTED:
	connect@tokeativity.com
ATTENDEE;CN="Spaceygracie20";CUTYPE=INDIVIDUAL;PARTSTAT=ACCE
	PTED:connect@tokeativity.com
ATTENDEE;CN="alexah";CUTYPE=INDIVIDUAL;PARTSTAT=ACCEPTED:con
	nect@tokeativity.com
ATTENDEE;CN="Jakku House";CUTYPE=INDIVIDUAL;PARTSTAT=ACCEPTE
	D:connect@tokeativity.com
ATTENDEE;CN="MeganHB";CUTYPE=INDIVIDUAL;PARTSTAT=ACCEPTED:co
	nnect@tokeativity.com
ATTENDEE;CN="CBrooke";CUTYPE=INDIVIDUAL;PARTSTAT=ACCEPTED:co
	nnect@tokeativity.com
ATTENDEE;CN="RaeCamp";CUTYPE=INDIVIDUAL;PARTSTAT=ACCEPTED:co
	nnect@tokeativity.com
ATTENDEE;CN="Amanda C";CUTYPE=INDIVIDUAL;PARTSTAT=ACCEPTED:c
	onnect@tokeativity.com
ATTENDEE;CN="Anna Kaplan";CUTYPE=INDIVIDUAL;PARTSTAT=ACCEPTE
	D:connect@tokeativity.com
ATTENDEE;CN="Madelaine Sleeth";CUTYPE=INDIVIDUAL;PARTSTAT=AC
	CEPTED:connect@tokeativity.com
ATTENDEE;CN="Brenda Turner";CUTYPE=INDIVIDUAL;PARTSTAT=ACCEP
	TED:connect@tokeativity.com
ATTENDEE;CN="Gia krotulski";CUTYPE=INDIVIDUAL;PARTSTAT=ACCEP
	TED:connect@tokeativity.com
ATTENDEE;CN="Nichi";CUTYPE=INDIVIDUAL;PARTSTAT=ACCEPTED:conn
	ect@tokeativity.com
ATTENDEE;CN="Bunni";CUTYPE=INDIVIDUAL;PARTSTAT=ACCEPTED:conn
	ect@tokeativity.com
ATTENDEE;CN="Christina Faux";CUTYPE=INDIVIDUAL;PARTSTAT=ACCE
	PTED:connect@tokeativity.com
ATTENDEE;CN="Calysta";CUTYPE=INDIVIDUAL;PARTSTAT=ACCEPTED:co
	nnect@tokeativity.com
ATTENDEE;CN="Karyn";CUTYPE=INDIVIDUAL;PARTSTAT=ACCEPTED:conn
	ect@tokeativity.com
END:VEVENT
END:VCALENDAR
