BEGIN:VCALENDAR
VERSION:2.0
PRODID:-//IP.Board Calendar 4.7.5//EN
METHOD:PUBLISH
CALSCALE:GREGORIAN
X-WR-CALNAME:Tokeativity Calendar
BEGIN:VTIMEZONE
TZID:Europe/London
TZURL:http://tzurl.org/zoneinfo/Europe/London
X-LIC-LOCATION:Europe/London
BEGIN:DAYLIGHT
TZOFFSETFROM:+0000
TZOFFSETTO:+0100
TZNAME:BST
DTSTART:20190331T020000Z
RRULE:FREQ=YEARLY;BYMONTH=3;BYDAY=-1SU
END:DAYLIGHT
BEGIN:STANDARD
TZOFFSETFROM:+0100
TZOFFSETTO:+0000
TZNAME:GMT
DTSTART:20191027T020000Z
RRULE:FREQ=YEARLY;BYMONTH=10;BYDAY=-1SU
END:STANDARD
END:VTIMEZONE
BEGIN:VEVENT
SUMMARY:CHRONIC TALK Vol. VIII:  Healing Women - Self Care Equals He
	althcare
DTSTAMP:20191018T194836Z
SEQUENCE:0
UID:291-1-2dead269adc02be51f2f7a68eeb17a98@tokeativity.com
ORGANIZER;CN="Lisa":connect@tokeativity.com
DESCRIPTION:\n\n	Decipher Cannabis fact from fiction while learning the 
	art of incorporating an Integrative Treatment plan into your Total Health 
	and Wellness regiment with Paschal Farms matriarch\, Candice Paschal. Lear
	n the importance of the knowing where your medicine comes from\, and how i
	t may work in and on your body. From Bath bombs\, tinctures &amp\; edibles
	\, to salves and lubricant... join in the discussion as our resident exper
	ts offer an in-depth examination of the new normal where Healthcare meets 
	Self care.\n\n\n\n	LIVE ONLINE CLASS RECORDING START TIME: Oct 20\, 2019 @
	 9am Pacific / 12pm Eastern\nCOST: FREE!\nWHERE: Tokeativity Connect Onlin
	e Classroom\n\n\n\n	Be as anonymous or as out of the green closet as you w
	ant with our interactive online classroom.\n\n\n\n	REGISTER NOW!\n\n\n\n\n
		 \n\n\n\n	ABOUT OUR PRESENTER\n\n\n\n	Candice Paschal has an unquenchabl
	e thirst for truth\, creative expression and philanthropy\, which allows h
	er to complete projects that inspire others and challenge existing boundar
	ies. She embraces serenity in nature through meditation and a plant based 
	lifestyle\, and believes that we are the authors of our own destinies. Can
	dice is a business owner with her husband\, a mother to twin sons and curr
	ently resides in Portland\, Oregon.\n\n\n\n	 \n\n\n\n	 \n\n\n\n	 \n\n\n
	\n	\n
DTSTART:20191020T160000Z
DTEND:20191020T170000Z
ATTENDEE;CN="Star";CUTYPE=INDIVIDUAL;PARTSTAT=ACCEPTED:conne
	ct@tokeativity.com
ATTENDEE;CN="GCClub";CUTYPE=INDIVIDUAL;PARTSTAT=ACCEPTED:con
	nect@tokeativity.com
ATTENDEE;CN="CandicePaschal";CUTYPE=INDIVIDUAL;PARTSTAT=ACCE
	PTED:connect@tokeativity.com
ATTENDEE;CN="momgetshigh";CUTYPE=INDIVIDUAL;PARTSTAT=ACCEPTE
	D:connect@tokeativity.com
ATTENDEE;CN="Stoney Scorpio";CUTYPE=INDIVIDUAL;PARTSTAT=ACCE
	PTED:connect@tokeativity.com
END:VEVENT
END:VCALENDAR
