BEGIN:VCALENDAR
VERSION:2.0
PRODID:-//IP.Board Calendar 4.7.5//EN
METHOD:PUBLISH
CALSCALE:GREGORIAN
X-WR-CALNAME:Tokeativity Calendar
BEGIN:VTIMEZONE
TZID:Europe/London
TZURL:http://tzurl.org/zoneinfo/Europe/London
X-LIC-LOCATION:Europe/London
BEGIN:DAYLIGHT
TZOFFSETFROM:+0000
TZOFFSETTO:+0100
TZNAME:BST
DTSTART:20190331T020000Z
RRULE:FREQ=YEARLY;BYMONTH=3;BYDAY=-1SU
END:DAYLIGHT
BEGIN:STANDARD
TZOFFSETFROM:+0100
TZOFFSETTO:+0000
TZNAME:GMT
DTSTART:20191027T020000Z
RRULE:FREQ=YEARLY;BYMONTH=10;BYDAY=-1SU
END:STANDARD
END:VTIMEZONE
BEGIN:VEVENT
SUMMARY:CHRONIC TALK Vol. VII:  420 Vacation & Holiday Travel Hack -
	 Patient Edition
DTSTAMP:20191012T005346Z
SEQUENCE:0
UID:289-1-2dead269adc02be51f2f7a68eeb17a98@tokeativity.com
ORGANIZER;CN="Lisa":connect@tokeativity.com
DESCRIPTION:\n\n	Wondering how to thoroughly enjoy your next holiday or 
	vacation without having to sacrifice your morning meditation when you leav
	e home? Learn How a Cannabis Travel Agency can afford you that much needed
	\, yet oft delayed vacation. Join our Special Guest and 2019 CannaTank Win
	ner Ayanna Lawson\, of Frontrow Travel\; to discuss the Best way to book y
	our next 420 Patient Forward travel adventure.\n\n\n\n	LIVE ONLINE CLASS S
	TARTS: Oct 13\, 2019 @ 9am Pacific / 12pm Eastern\nCOST: FREE!\nWHERE: Tok
	eativity Connect Online Classroom\n\n\n\n	Be as anonymous or as out of the
	 green closet as you want with our interactive online classroom.\n\n\n\n	R
	EGISTER NOW!\n\n\n\n	 \n\n\n\n	ABOUT OUR PRESENTER\n\n\n\n	Ayanna Lawson\
	, 2019 NCF Canna-Tank Winner\n\n	Owner\, and cannabis travel specialist at
	 Front Row Travels®\n“I've earned a reputation of excellence by providi
	ng the ultimate in value and personal attention to every customer\, every 
	time. Each trip is cultivated to ensure you have an experience\, not just 
	a vacation!”\n\n\n\n	 \n\n\n\n	 \n\n\n
DTSTART:20191013T160000Z
DTEND:20191013T170000Z
ATTENDEE;CN="Budding Butterfly";CUTYPE=INDIVIDUAL;PARTSTAT=A
	CCEPTED:connect@tokeativity.com
END:VEVENT
END:VCALENDAR
