BEGIN:VCALENDAR
VERSION:2.0
PRODID:-//IP.Board Calendar 4.7.5//EN
METHOD:PUBLISH
CALSCALE:GREGORIAN
X-WR-CALNAME:Tokeativity Calendar
BEGIN:VTIMEZONE
TZID:Europe/London
TZURL:http://tzurl.org/zoneinfo/Europe/London
X-LIC-LOCATION:Europe/London
BEGIN:DAYLIGHT
TZOFFSETFROM:+0000
TZOFFSETTO:+0100
TZNAME:BST
DTSTART:20190331T020000Z
RRULE:FREQ=YEARLY;BYMONTH=3;BYDAY=-1SU
END:DAYLIGHT
BEGIN:STANDARD
TZOFFSETFROM:+0100
TZOFFSETTO:+0000
TZNAME:GMT
DTSTART:20191027T020000Z
RRULE:FREQ=YEARLY;BYMONTH=10;BYDAY=-1SU
END:STANDARD
END:VTIMEZONE
BEGIN:VEVENT
SUMMARY:CHRONIC TALK Vol. IV: Cannabis Card 101 - How do I obtain mi
	ne?
DTSTAMP:20190824T185908Z
SEQUENCE:0
UID:282-1-2dead269adc02be51f2f7a68eeb17a98@tokeativity.com
ORGANIZER;CN="Lisa":connect@tokeativity.com
DESCRIPTION:\n\n	 Interested in transitioning into a more holistic medi
	cal treatment plan\, but unsure where to begin? Learn everything you need 
	to know about obtaining your medical cannabis card with Illuzionz O’Gran
	deur and the Regional Manager of CannaCare Docs Erica Pukatsch.\n\n\n\n	LI
	VE ONLINE CLASS STARTS: Sept 22\, 2019 @ 9am Pacific / 12pm Eastern\nCOST:
	 FREE!\nWHERE: Tokeativity Connect Online Classroom\n\n\n\n	Be as anonymou
	s or as out of the green closet as you want with our interactive online cl
	assroom.\n\n\n\n	REGISTER NOW!\n\n\n\n	 \n\n\n\n	ABOUT OUR PRESENTERS\n\n
	\n\n	As Regional Manager of Delaware and Pennsylvania the ultimate goal in
	 my office is provide the best “full spectrum” cannabis experience. I 
	believe that every patient deserves an experience tailored to their needs 
	and strive to deliver just that.\n\n	~Erica Pukatsch\n\n\n\n	Illuzionz O
	’Grandeur is a Muscular Dystrophy patient who advocates for MMJ. iLLz is
	 also the President of Deleware NORML Women's Alliance where she leads the
	 charge for better MMJ practices in the state. A natural creative\, Illuzi
	onz has successfully launched 2 podcasts: Medical Militia Radio and Twice 
	Baked. She is also working with Oregon legislature to pass a law for domes
	tic trade in the US\, which would create a prominent MMJ market for Delewa
	re patients.\n\n\n	Most importantly\, she is a mother\, fiancé\, sister\,
	 and daughter from Wilmington\, DE focused on changing the way patients wh
	o need education gain access.\n\n\n\n	 \n\n\n\n	\n\n
DTSTART:20190922T160000Z
DTEND:20190922T170000Z
ATTENDEE;CN="cannawellgabrielle";CUTYPE=INDIVIDUAL;PARTSTAT=
	ACCEPTED:connect@tokeativity.com
END:VEVENT
END:VCALENDAR
