BEGIN:VCALENDAR
VERSION:2.0
PRODID:-//IP.Board Calendar 4.7.5//EN
METHOD:PUBLISH
CALSCALE:GREGORIAN
X-WR-CALNAME:Tokeativity Calendar
BEGIN:VTIMEZONE
TZID:Europe/London
TZURL:http://tzurl.org/zoneinfo/Europe/London
X-LIC-LOCATION:Europe/London
BEGIN:DAYLIGHT
TZOFFSETFROM:+0000
TZOFFSETTO:+0100
TZNAME:BST
DTSTART:20190331T020000Z
RRULE:FREQ=YEARLY;BYMONTH=3;BYDAY=-1SU
END:DAYLIGHT
BEGIN:STANDARD
TZOFFSETFROM:+0100
TZOFFSETTO:+0000
TZNAME:GMT
DTSTART:20191027T020000Z
RRULE:FREQ=YEARLY;BYMONTH=10;BYDAY=-1SU
END:STANDARD
END:VTIMEZONE
BEGIN:VEVENT
SUMMARY:CHRONIC TALK Vol. III - Patients & Providers: Setting up you
	r Treatment Plan
DTSTAMP:20190802T033453Z
SEQUENCE:0
UID:278-1-2dead269adc02be51f2f7a68eeb17a98@tokeativity.com
ORGANIZER;CN="Lisa":connect@tokeativity.com
DESCRIPTION:\n\n	Learn the importance of Continuity of Care by getting a
	ll your Doctors and specialist on board with your desire to add cannabis t
	o your treatment plan. Understanding your rights and responsibilities as a
	 patient is the core principle of becoming your own best advocate. Join in
	 as Illuzionz provides a patients perspective on organizing your own Medic
	al TEAM.\n\n\n\n	LIVE ONLINE CLASS STARTS: Sept 15\, 2019 @ 9am Pacific / 
	12pm Eastern\nCOST: FREE!\nWHERE: Tokeativity Connect Online Classroom\n\n
	\n\n	Be as anonymous or as out of the green closet as you want with our in
	teractive online classroom.\n\n\n\n	REGISTER NOW!\n\n\n\n	 \n\n\n\n	ABOUT
	 OUR PRESENTER\n\n\n\n	Illuzionz O’Grandeur is a Muscular Dystrophy pati
	ent who advocates for MMJ. iLLz is also the President of Delaware NORML Wo
	men's Alliance where she leads the charge for better MMJ practices in the 
	state. A natural creative\, Illuzionz has successfully launched 2 podcasts
	: Medical Militia Radio and Twice Baked. She is also working with Oregon l
	egislature to pass a law for domestic trade in the US\, which would create
	 a prominent MMJ market for Delaware patients.\n\n\n	Most importantly\, sh
	e is a mother\, fiancé\, sister\, and daughter from Wilmington\, DE focus
	ed on changing the way patients who need education gain access.\n\n\n\n	 
	\n\n
DTSTART:20190915T160000Z
DTEND:20190915T170000Z
ATTENDEE;CN="Heather Allman";CUTYPE=INDIVIDUAL;PARTSTAT=ACCE
	PTED:connect@tokeativity.com
ATTENDEE;CN="Julie Battel";CUTYPE=INDIVIDUAL;PARTSTAT=ACCEPT
	ED:connect@tokeativity.com
ATTENDEE;CN="Wheresmy";CUTYPE=INDIVIDUAL;PARTSTAT=ACCEPTED:c
	onnect@tokeativity.com
ATTENDEE;CN="Thesallymander";CUTYPE=INDIVIDUAL;PARTSTAT=ACCE
	PTED:connect@tokeativity.com
ATTENDEE;CN="Niki";CUTYPE=INDIVIDUAL;PARTSTAT=ACCEPTED:conne
	ct@tokeativity.com
ATTENDEE;CN="The Cannabis Doula";CUTYPE=INDIVIDUAL;PARTSTAT=
	ACCEPTED:connect@tokeativity.com
ATTENDEE;CN="Karen Molina melendez";CUTYPE=INDIVIDUAL;PARTST
	AT=ACCEPTED:connect@tokeativity.com
END:VEVENT
END:VCALENDAR
