BEGIN:VCALENDAR
VERSION:2.0
PRODID:-//IP.Board Calendar 4.7.5//EN
METHOD:PUBLISH
CALSCALE:GREGORIAN
X-WR-CALNAME:Tokeativity Calendar
BEGIN:VTIMEZONE
TZID:Europe/London
TZURL:http://tzurl.org/zoneinfo/Europe/London
X-LIC-LOCATION:Europe/London
BEGIN:DAYLIGHT
TZOFFSETFROM:+0000
TZOFFSETTO:+0100
TZNAME:BST
DTSTART:20170326T020000Z
RRULE:FREQ=YEARLY;BYMONTH=3;BYDAY=-1SU
END:DAYLIGHT
BEGIN:STANDARD
TZOFFSETFROM:+0100
TZOFFSETTO:+0000
TZNAME:GMT
DTSTART:20171029T020000Z
RRULE:FREQ=YEARLY;BYMONTH=10;BYDAY=-1SU
END:STANDARD
END:VTIMEZONE
BEGIN:VEVENT
SUMMARY:ONLINE WORSHHOP: \"SELL IT! The Power of Women & Sales\"
DTSTAMP:20171030T011135Z
SEQUENCE:0
UID:2-1-2dead269adc02be51f2f7a68eeb17a98@tokeativity.com
ORGANIZER;CN="Lisa":connect@tokeativity.com
DESCRIPTION:\n\n	Tokeativity Presents: \n\n	SELL IT! The Power of Women
	 &amp\; Sales with Simone Cimiluca-Radzins\, CEO of Kalogia\n\nEarly Bird:
	 $15 before Sept 30\nGeneral Admin: $25 after Sept 30\nBring a friend an
	d save $!\n\n\n\n	REGISTER NOW!\n\n\n\n	 - - - - - \n\n\n\n	ABOUT THIS W
	ORKSHOP\n\n\n\n	Are you a woman who owns her own business or works selling
	 for someone else?\nAre you curious to know how to beef up your sales skil
	ls but aren't sure how?\n\n\n	Without sales you cannot build a sustainable
	 business. Selling should not be hard\, especially if you have a rock soli
	d product or service. But why do so many of us women seem to bite our tong
	ue when it comes to the words negotiation\, sales\, and can I have my mon
	ey? \n\n\n\n	In this workshop\, Simone Cimiluca-Radzins\, CEO of Kalogi
	a\, will talk about sales strategy and techniques that work and that you c
	an implement into your business today. \n\n\n\n	Whether you are in the ca
	nnabis industry or work for other conventional businesses\, this workshop 
	will open up doors for you sell smarter\, not harder.\n\n\n\n	 - - - - 
	-  \n\n	 \n\n\n\n	ABOUT SIMONE CIMILUCA-RADZINS\, CPA\n\n	Simone is the
	 Founder and CEO of Kalogia. From her experience working in the cannabis 
	industry\, she understood the painpoints of the international marijuana in
	dustry and wanted to provide a solution: Kalogia. Simone is an active mem
	ber of the cannabis business community in both Southern California and the
	 Pacific Northwest. She has spoken about cannabis banking and 280E issues 
	on National Public Radio (NPR) and 420Radio\; has lectured on the US canna
	bis economy at Cannafest in Prague\, CZ and Costa Rica\; and has given mul
	tiple talks at Cannabis Finance Bootcamp\, Women Grow and the University o
	f Oregon.\n\n\n\n	\n		Simone’s expertise is in business strategy\, finan
	ce\, risk management\, and cannabis accounting. Simone has helped take co
	mpanies public\, performed due-diligences\, and has improved business oper
	ations for hundreds of cannabis clients. With a background in Big 4 public
	 accounting and international consulting for Fortune 500 companies\, Simon
	e has lived and worked in Spain and France and has assisted clients throug
	hout Latin America\, Western and Northern Europe\, and the Asia Pacific re
	gion.\n	\n\n	\n		Simone graduated with dual degrees in Spanish and Account
	ing from the University of Oregon and holds an active CPA certificate from
	 the State of Oregon.\n\n - - - - -  \n\n		 \n	\n\n\n\n	ABOUT TOKEATIV
	ITY\n\n	Tokeativity is a cannabis events series for women based in Portlan
	d\, Oregon created by Lisa Snyder and co-curated by both Lisa &amp\; Saman
	tha Montanaro. Our intention is to nurture a safe space for women to creat
	e\, learn and connect. Whether you are a first timer or daily consumer\, a
	ll women are welcome to join.\n\n\n	Join us for workshops\, classes\, musi
	c\, guest artists\, speakers\, workshop leaders\, networking\, films and m
	ore. \n\n\n	Each event will donate a portion of it’s proceeds to a caus
	e we are passionate about supporting.\n\n\n	Learn more: http://tokeativit
	y.com\n\n
DTSTART:20171115T200000Z
DTEND:20171115T210000Z
END:VEVENT
END:VCALENDAR
