BEGIN:VCALENDAR
VERSION:2.0
PRODID:-//IP.Board Calendar 4.7.5//EN
METHOD:PUBLISH
CALSCALE:GREGORIAN
X-WR-CALNAME:Tokeativity Calendar
BEGIN:VTIMEZONE
TZID:Europe/London
TZURL:http://tzurl.org/zoneinfo/Europe/London
X-LIC-LOCATION:Europe/London
BEGIN:DAYLIGHT
TZOFFSETFROM:+0000
TZOFFSETTO:+0100
TZNAME:BST
DTSTART:20180325T020000Z
RRULE:FREQ=YEARLY;BYMONTH=3;BYDAY=-1SU
END:DAYLIGHT
BEGIN:STANDARD
TZOFFSETFROM:+0100
TZOFFSETTO:+0000
TZNAME:GMT
DTSTART:20181028T020000Z
RRULE:FREQ=YEARLY;BYMONTH=10;BYDAY=-1SU
END:STANDARD
END:VTIMEZONE
BEGIN:VEVENT
SUMMARY:LIVE RECORDING: Cannabis Horticulture with Erika Winters
DTSTAMP:20180710T225019Z
SEQUENCE:0
UID:197-1-2dead269adc02be51f2f7a68eeb17a98@tokeativity.com
ORGANIZER;CN="Lisa":connect@tokeativity.com
DESCRIPTION:\n\n	We would like to offer complimentary access to founding
	 members\, beta testers\, business members\, community members\, chapter l
	eaders and our internal team to participate in our live classroom reco
	rding with Horticulture Consultant\, Erika Winters of Everbloom Consul
	ting tomorrow Wednesday\, July 11th starting at 10:45am in the Tokeativit
	y Connect classroom. This recording will live in our online classroom and 
	on other Tokeativity partner channels.\n\n\n\n	We are adding more Cannabi
	s Horticulture to our classroom offerings and will be recording the class
	es below live tomorrow at 11 am\, 12:30pm\, and 2:00 pm! Each class is 
	50 minutes of educational presentation followed by 10 minutes of Q &amp\; 
	A for attendees. We'd love to have your presence\, support\, and questions
	 in the classroom! \n\n\n\n	Interested in attending?\n\nSimply:\n\n\n\n	1
	. Make sure to read the tech instructions here and have the latest versio
	n of Chrome on your desktop computer.\n\n\n\n	2. Login with your Tokeativi
	ty Connect account tomorrow 15 minutes before any of the times below and n
	avigate to http://tokeativity.com/connect/meet - use the classroom passwo
	rd delivered in the email you receive after RSVPing to enter.\n\n\n\n	You 
	can use your real name\, business name\, fictitious name when you enter.\n
	\n\n\n	 \n\n\n\n	CLASS OFFERINGS: in chronological order\n\n\n\n	11am  
	| \"Mindful Transitions: Early Season Care for Late Season Success\"\n\n	M
	indful approaches\, tools\, &amp\; techniques for transplanting\, pruning\
	, and training (low-stress &amp\; high-stress training) of vegetative plan
	ts\; relevant to both indoor and outdoor farms &amp\; gardens. Discussion 
	of cultural care early-season to prevent biological issues late-season.\n\
	n\n\n	12:30pm | \"Cannabis &amp\; Hemp Pests of the Pacific Northwest: Dia
	gnosis &amp\; IPM Calendar Mapping\"\n\n	Overview of most common pests\; f
	ocus on Micro Mites (i.e. Russet &amp\; Broad)\, introduction to Integrate
	d Pest Management principles and tools &amp\; techniques to put tactics in
	to practice. Relevant to both indoor and outdoor farms. ODA Guidelist disc
	ussion for compliancy\, and Integrated Pest Management calendar mapping.\n
	\n\n\n	2pm | \"Intentional Compost Tea Brewing: Philosophy &amp\; Practice
	 - Brewing Liquid Magik from 5 to 5\,000 gallons!\"\n\n	Introduction to AA
	CT &amp\; FPE's (Actively Aerated Compost Tea &amp\; Fermented Plant Extra
	cts)\, basic and advanced brewing practices for small home gardens\, scale
	d up to large acerage production farms\; relevant indoors and outdoors. Co
	verage of tools\, techniques\, ingredients\, &amp\; recipes.\n\n\n\n	Chat 
	support available tomorrow during the first half an hour at the bottom of 
	the tokeativity.com website - open up a chat if you need help!\n\n
DTSTART:20180711T174500Z
DTEND:20180711T220000Z
END:VEVENT
END:VCALENDAR
