BEGIN:VCALENDAR
VERSION:2.0
PRODID:-//IP.Board Calendar 4.7.5//EN
METHOD:PUBLISH
CALSCALE:GREGORIAN
X-WR-CALNAME:Tokeativity Calendar
BEGIN:VTIMEZONE
TZID:Europe/London
TZURL:http://tzurl.org/zoneinfo/Europe/London
X-LIC-LOCATION:Europe/London
BEGIN:DAYLIGHT
TZOFFSETFROM:+0000
TZOFFSETTO:+0100
TZNAME:BST
DTSTART:20170326T020000Z
RRULE:FREQ=YEARLY;BYMONTH=3;BYDAY=-1SU
END:DAYLIGHT
BEGIN:STANDARD
TZOFFSETFROM:+0100
TZOFFSETTO:+0000
TZNAME:GMT
DTSTART:20171029T020000Z
RRULE:FREQ=YEARLY;BYMONTH=10;BYDAY=-1SU
END:STANDARD
END:VTIMEZONE
BEGIN:VEVENT
SUMMARY:ONLINE WORSHHOP: \\\\\\\\\\\\\\\\\\\\\\\\\\\\\\\"SELL IT! Th
	e Power of Women& Sales\\\\\\\\\\\\\\\\\\\\\\\\\\\\\\\"
DTSTAMP:20171030T011135Z
SEQUENCE:0
UID:105-1-2dead269adc02be51f2f7a68eeb17a98@tokeativity.com
ORGANIZER;CN="Lisa":connect@tokeativity.com
DESCRIPTION:\n\n\n\n\n\n\n\n\n\n\n\n\n\n\n\n\n\n\n\n\n\n\n\n\n\n\n\n\n\n
	\n\n	Tokeativity Presents: \n\n\n\n\n\n\n\n\n\n\n\n\n\n\n\n\n\n\n\n\n\n\n
	\n\n\n\n\n\n\n\n\n	SELL IT! The Power of Women&amp\; Sales with Simone Cim
	iluca-Radzins\, CEO ofKalogia\n\n\n\n\n\n\n\n\n\n\n\n\n\n\n\n\n\n\n\n\n\n\
	n\n\n\n\n\n\n\n\n\nEarly Bird: $15 before Sept 30\n\n\n\n\n\n\n\n\n\n\n\n
	\n\n\n\nGeneral Admin: $25 after Sept30\n\n\n\n\n\n\n\n\n\n\n\n\n\n\n\nBr
	ing a friend and save $!\n\n\n\n\n\n\n\n\n\n\n\n\n\n\n\n\n\n\n\n\n\n\n\n\n
	\n\n\n\n\n\n\n\n\n\n\n\n\n\n\n\n\n\n\n\n\n\n\n\n\n\n\n\n\n\n\n\n\n\n\n\n\n
	\n\n	REGISTER NOW!\n\n\n\n\n\n\n\n\n\n\n\n\n\n\n\n\n\n\n\n\n\n\n\n\n\n\n\n
	\n\n\n\n\n\n\n\n\n\n\n\n\n\n\n\n\n\n\n\n\n\n\n\n\n\n\n\n\n\n\n\n\n\n\n\n	
	 -- - - - \n\n\n\n\n\n\n\n\n\n\n\n\n\n\n\n\n\n\n\n\n\n\n\n\n\n\n\n\n\n\n
	\n\n\n\n\n\n\n\n\n\n\n\n\n\n\n\n\n\n\n\n\n\n\n\n\n\n\n\n\n\n\n\n\n	ABOUT T
	HIS WORKSHOP\n\n\n\n\n\n\n\n\n\n\n\n\n\n\n\n\n\n\n\n\n\n\n\n\n\n\n\n\n\n\n
	\n\n\n\n\n\n\n\n\n\n\n\n\n\n\n\n\n\n\n\n\n\n\n\n\n\n\n\n\n\n\n\n\n	Are you
	 a woman who owns her own business or works sellingfor someone else?\n\n\n
	\n\n\n\n\n\n\n\n\n\n\n\n\nAre you curious to know how to beef up your sale
	s skills but aren't sure how?\n\n\n\n\n\n\n\n\n\n\n\n\n\n\n\n\n\n\n\n\n\n\
	n\n\n\n\n\n\n\n\n\n\n\n\n\n\n\n\n\n\n\n\n\n\n\n\n\n	Without sales you cann
	ot build a sustainablebusiness. Selling should not be hard\, especially if
	 youhave a rock solid product or service.But why do so many of us women se
	em to bite our tongue when it comes to the words negotiation\, sales\, an
	d can I have my money? \n\n\n\n\n\n\n\n\n\n\n\n\n\n\n\n\n\n\n\n\n\n\n\n\n
	\n\n\n\n\n\n\n\n\n\n\n\n\n\n\n\n\n\n\n\n\n\n\n\n\n\n\n\n\n\n\n\n\n\n\n\n\n
	\n\nIn this workshop\, Simone Cimiluca-Radzins\, CEO of Kalogia\,will ta
	lkabout sales strategy and techniques that work and that you can implement
	 into your business today. \n\n\n\n\n\n\n\n\n\n\n\n\n\n\n\n\n\n\n\n\n\n\n
	\n\n\n\n\n\n\n\n\n\n\n\n\n\n\n\n\n\n\n\n\n\n\n\n\n\n\n\n\n\n\n\n\n\n\n\n\n
	\n\n\n\n	Whether you are in the cannabis industry or work for other conven
	tional businesses\, this workshop will open up doors foryou sell smarter\,
	 not harder.\n\n\n\n\n\n\n\n\n\n\n\n\n\n\n\n\n\n\n\n\n\n\n\n\n\n\n\n\n\n\n
	\n\n\n\n\n\n\n\n\n\n\n\n\n\n\n\n\n\n\n\n\n\n\n\n\n\n\n\n\n\n\n\n\n	 - - -
	 --  \n\n\n\n\n\n\n\n\n\n\n\n\n\n\n\n\n\n\n\n\n\n\n\n\n\n\n\n\n\n\n\n	 
	\n\n\n\n\n\n\n\n\n\n\n\n\n\n\n\n\n\n\n\n\n\n\n\n\n\n\n\n\n\n\n\n\n\n\n\n\n
	\n\n\n\n\n\n\n\n\n\n\n\n\n\n\n\n\n\n\n\n\n\n\n\n\n\n\n	ABOUT SIMONECIMILUC
	A-RADZINS\, CPA\n\n\n\n\n\n\n\n\n\n\n\n\n\n\n\n\n\n\n\n\n\n\n\n\n\n\n\n\n\
	n\n\n	Simone is theFounder and CEO of Kalogia. From her experience workin
	g in the cannabis industry\, she understood the painpoints of the internat
	ional marijuana industryand wanted to provide a solution: Kalogia. Simone
	 is an active member ofthe cannabis business community in both Southern Ca
	lifornia and thePacific Northwest.She has spoken about cannabis banking an
	d 280E issues on National Public Radio (NPR) and 420Radio\; has lectured o
	n the US cannabis economy at Cannafest in Prague\, CZ and Costa Rica\; and
	 has given multiple talks at Cannabis Finance Bootcamp\, Women Grow and th
	e University of Oregon.\n\n\n\n\n\n\n\n\n\n\n\n\n\n\n\n\n\n\n\n\n\n\n\n\n\
	n\n\n\n\n\n\n\n\n\n\n\n\n\n\n\n\n\n\n\n\n\n\n\n\n\n\n\n\n\n\n\n\n\n\n\n\n\
	n\n	\n\n\n\n\n\n\n\n\n\n\n\n\n\n\n\n		Simone’s expertise is in business 
	strategy\, finance\, risk management\, and cannabis accounting. Simone has
	 helped take companies public\, performed due-diligences\, and has improv
	ed business operations for hundreds of cannabis clients. With a background
	 in Big 4 publicaccounting and international consulting for Fortune 500 co
	mpanies\, Simone has lived and worked in Spain and France and hasassisted 
	clients throughout Latin America\, Western and Northern Europe\,and the As
	ia Pacific region.\n\n\n\n\n\n\n\n\n\n\n\n\n\n\n\n	\n\n\n\n\n\n\n\n\n\n\n\
	n\n\n\n\n\n\n\n\n\n\n\n\n\n\n\n\n\n\n\n\n	\n\n\n\n\n\n\n\n\n\n\n\n\n\n\n\n
			Simone graduatedwith dual degrees in Spanish and Accounting from the Uni
	versity of Oregonand holds an active CPA certificate fromthe State of Oreg
	on.\n\n\n\n\n\n\n\n\n\n\n\n\n\n\n\n\n\n\n\n\n\n\n\n\n\n\n\n\n\n\n\n - - -
	 - -  \n\n\n\n\n\n\n\n\n\n\n\n\n\n\n\n\n\n\n\n\n\n\n\n\n\n\n\n\n\n\n\n	
		 \n\n\n\n\n\n\n\n\n\n\n\n\n\n\n\n	\n\n\n\n\n\n\n\n\n\n\n\n\n\n\n\n\n\n\n
	\n\n\n\n\n\n\n\n\n\n\n\n\n\n\n\n\n\n\n\n\n\n\n\n\n\n\n\n\n\n\n\n\n\n\n\n\n
	\n\n\n\n\n\n\n\n	ABOUT TOKEATIVITY\n\n\n\n\n\n\n\n\n\n\n\n\n\n\n\n\n\n\n\n
	\n\n\n\n\n\n\n\n\n\n\n\n	Tokeativity is a cannabis events series forwomen 
	based in Portland\, Oregon created by Lisa Snyder and co-curated byboth Li
	sa &amp\; Samantha Montanaro. Our intention is to nurture a safe space for
	 women to create\, learn and connect. Whetheryou are a first timer or dail
	y consumer\, all women are welcometo join.\n\n\n\n\n\n\n\n\n\n\n\n\n\n\n\n
	\n\n\n\n\n\n\n\n\n\n\n\n\n\n\n\n\n\n\n\n\n\n\n\n\n\n\n\n\n\n\n\n	Join us f
	or workshops\, classes\, music\, guest artists\, speakers\, workshop leade
	rs\, networking\, films and more. \n\n\n\n\n\n\n\n\n\n\n\n\n\n\n\n\n\n\n\
	n\n\n\n\n\n\n\n\n\n\n\n\n\n\n\n\n\n\n\n\n\n\n\n\n\n\n\n\n	Each event will 
	donate a portion of it’s proceeds to a cause we arepassionate about supp
	orting.\n\n\n\n\n\n\n\n\n\n\n\n\n\n\n\n\n\n\n\n\n\n\n\n\n\n\n\n\n\n\n\n\n\
	n\n\n\n\n\n\n\n\n\n\n\n\n\n\n	Learn more: http://tokeativity.com\n\n\n\n\
	n\n\n\n\n\n\n\n\n\n\n\n\n\n\n\n\n\n\n\n\n\n\n\n\n\n\n\n
DTSTART:20171115T200000Z
DTEND:20171115T210000Z
END:VEVENT
END:VCALENDAR
